BEGIN:VCALENDAR
VERSION:2.0
PRODID:-//dbk.life - ECPv6.15.12//NONSGML v1.0//EN
CALSCALE:GREGORIAN
METHOD:PUBLISH
X-WR-CALNAME:dbk.life
X-ORIGINAL-URL:https://dubrovnik.today
X-WR-CALDESC:Events for dbk.life
REFRESH-INTERVAL;VALUE=DURATION:PT1H
X-Robots-Tag:noindex
X-PUBLISHED-TTL:PT1H
BEGIN:VTIMEZONE
TZID:Europe/Zagreb
BEGIN:DAYLIGHT
TZOFFSETFROM:+0100
TZOFFSETTO:+0200
TZNAME:CEST
DTSTART:20240331T010000
END:DAYLIGHT
BEGIN:STANDARD
TZOFFSETFROM:+0200
TZOFFSETTO:+0100
TZNAME:CET
DTSTART:20241027T010000
END:STANDARD
BEGIN:DAYLIGHT
TZOFFSETFROM:+0100
TZOFFSETTO:+0200
TZNAME:CEST
DTSTART:20250330T010000
END:DAYLIGHT
BEGIN:STANDARD
TZOFFSETFROM:+0200
TZOFFSETTO:+0100
TZNAME:CET
DTSTART:20251026T010000
END:STANDARD
BEGIN:DAYLIGHT
TZOFFSETFROM:+0100
TZOFFSETTO:+0200
TZNAME:CEST
DTSTART:20260329T010000
END:DAYLIGHT
BEGIN:STANDARD
TZOFFSETFROM:+0200
TZOFFSETTO:+0100
TZNAME:CET
DTSTART:20261025T010000
END:STANDARD
BEGIN:DAYLIGHT
TZOFFSETFROM:+0100
TZOFFSETTO:+0200
TZNAME:CEST
DTSTART:20270328T010000
END:DAYLIGHT
BEGIN:STANDARD
TZOFFSETFROM:+0200
TZOFFSETTO:+0100
TZNAME:CET
DTSTART:20271031T010000
END:STANDARD
END:VTIMEZONE
BEGIN:VEVENT
DTSTART;TZID=Europe/Zagreb:20260111T103000
DTEND;TZID=Europe/Zagreb:20260111T120000
DTSTAMP:20260422T010103
CREATED:20251111T121102Z
LAST-MODIFIED:20260106T204452Z
UID:10007141-1768127400-1768132800@dubrovnik.today
SUMMARY:Radionica origamija za djecu
DESCRIPTION:Igra papira i mašte\n\n\nZabavna radionica na kojoj papir postaje mačka\, leptir\, slon ili neka druga životinja. \n\n\nKroz savijanje papira razvijamo strpljenje\, koncentraciju i finu motoriku – a svaki papir na kraju postaje mala priča.\n\n\n Što djeca rade?\n● Uče osnovne origami pregibe\n● Izrađuju jednostavne životinjske modele\n● Razvijaju kreativnost i osjećaj uspjeha\n● Vježbaju pažnju i koordinaciju ruku\n\n\nRadionica je prilagođena dječjem uzrastu i vodi se korak po korak\, u opuštenoj i poticajnoj atmosferi.\n\n\n 11.01. Nedjelja u 10:30\n Terra Jungle/ Babin kuk pored fontane\n Cijena: 15 eura\n\n\nBroj mjesta je ograničen!\nPrijaviti se možeš porukom ili na broj 095 8521392
URL:https://dubrovnik.today/event/radionica-origamija-za-djecu/
LOCATION:Babin Kuk\, Dubrovnik\, 20000\, Croatia
CATEGORIES:Workshop
ATTACH;FMTTYPE=image/jpeg:https://dubrovnik.today/wp-content/uploads/2025/11/612976027_18077151998596247_4320684876742132547_n.jpg
ORGANIZER;CN="Terrajungle":MAILTO:terrajungle.du@gmail.com
GEO:42.6586378;18.1013637
END:VEVENT
BEGIN:VEVENT
DTSTART;TZID=Europe/Zagreb:20251122T100000
DTEND;TZID=Europe/Zagreb:20251122T113000
DTSTAMP:20260422T010103
CREATED:20251021T085533Z
LAST-MODIFIED:20251117T211542Z
UID:10006921-1763805600-1763811000@dubrovnik.today
SUMMARY:Radionica izrade terarija za djecu
DESCRIPTION:Radionica za male terariste u subotu u 10:00 �\nKroz igru i stvaranje upoznati ćemo se s terarijima i biljkama koje u njima žive. Korak po korak izraditi će svoj mali ekosustav u staklu i naučiti kako o njemu dalje brinuti.Izrada terarija razvija finu motoriku i budi ljubav prema biljkama i prirodi ��\n� Datum: Subota 22.11� Vrijeme: 10:00� Iva Dulčića 112 ( Babin kuk pored fontane)� Cijena 35 eura\nBroj mjesta je ograničen!\nPrijaviti se možete u inbox ili na broj 0958521392
URL:https://dubrovnik.today/event/radionica-izrade-terarija-za-djecu/
LOCATION:Babin Kuk\, Dubrovnik\, 20000\, Croatia
CATEGORIES:Workshop
ATTACH;FMTTYPE=image/jpeg:https://dubrovnik.today/wp-content/uploads/2025/10/585135826_1169897701958088_2148912298802947247_n.jpg
ORGANIZER;CN="Terrajungle":MAILTO:terrajungle.du@gmail.com
GEO:42.6586378;18.1013637
END:VEVENT
END:VCALENDAR