BEGIN:VCALENDAR
VERSION:2.0
PRODID:-//dbk.life - ECPv6.15.12//NONSGML v1.0//EN
CALSCALE:GREGORIAN
METHOD:PUBLISH
X-WR-CALNAME:dbk.life
X-ORIGINAL-URL:https://dubrovnik.today
X-WR-CALDESC:Events for dbk.life
REFRESH-INTERVAL;VALUE=DURATION:PT1H
X-Robots-Tag:noindex
X-PUBLISHED-TTL:PT1H
BEGIN:VTIMEZONE
TZID:Europe/Zagreb
BEGIN:DAYLIGHT
TZOFFSETFROM:+0100
TZOFFSETTO:+0200
TZNAME:CEST
DTSTART:20240331T010000
END:DAYLIGHT
BEGIN:STANDARD
TZOFFSETFROM:+0200
TZOFFSETTO:+0100
TZNAME:CET
DTSTART:20241027T010000
END:STANDARD
BEGIN:DAYLIGHT
TZOFFSETFROM:+0100
TZOFFSETTO:+0200
TZNAME:CEST
DTSTART:20250330T010000
END:DAYLIGHT
BEGIN:STANDARD
TZOFFSETFROM:+0200
TZOFFSETTO:+0100
TZNAME:CET
DTSTART:20251026T010000
END:STANDARD
BEGIN:DAYLIGHT
TZOFFSETFROM:+0100
TZOFFSETTO:+0200
TZNAME:CEST
DTSTART:20260329T010000
END:DAYLIGHT
BEGIN:STANDARD
TZOFFSETFROM:+0200
TZOFFSETTO:+0100
TZNAME:CET
DTSTART:20261025T010000
END:STANDARD
END:VTIMEZONE
BEGIN:VEVENT
DTSTART;TZID=Europe/Zagreb:20251224T220000
DTEND;TZID=Europe/Zagreb:20251225T040000
DTSTAMP:20260419T222001
CREATED:20251222T091754Z
LAST-MODIFIED:20251222T091754Z
UID:10007601-1766613600-1766635200@dubrovnik.today
SUMMARY:DISORDER rock GANG@VHF Bar Korcula
DESCRIPTION:24.12. — SRIJEDA — 22H\n\n\nDISORDER rock GANG\ndjena • markaya • djolee\n\n\nVidimo se\n#vhfbarkorcula
URL:https://dubrovnik.today/event/disorder-rock-gangvhf-bar-korcula/
LOCATION:VHF Bar Korcula\, Šetalište Frana Kršinića 1\, Korčula\, Dubrovačko-neretvanska\, 20260\, Croatia
CATEGORIES:Music
ATTACH;FMTTYPE=image/jpeg:https://dubrovnik.today/wp-content/uploads/2025/12/604026147_18025152833789728_5833658954760859092_n.jpg
ORGANIZER;CN="VHF Bar Korcula":MAILTO:lostintherenaissance@gmail.com
GEO:42.9586527;17.1353731
X-APPLE-STRUCTURED-LOCATION;VALUE=URI;X-ADDRESS=VHF Bar Korcula Šetalište Frana Kršinića 1 Korčula Dubrovačko-neretvanska 20260 Croatia;X-APPLE-RADIUS=500;X-TITLE=Šetalište Frana Kršinića 1:geo:17.1353731,42.9586527
END:VEVENT
BEGIN:VEVENT
DTSTART;TZID=Europe/Zagreb:20251227T210000
DTEND;TZID=Europe/Zagreb:20251227T230000
DTSTAMP:20260419T222001
CREATED:20251128T075937Z
LAST-MODIFIED:20251128T075937Z
UID:10007392-1766869200-1766876400@dubrovnik.today
SUMMARY:Dalmatino@Blato
DESCRIPTION:Dragi naši\, čuvali smo ovo koliko smo mogli… ali više jednostavno nismo izdržali!S velikim uzbuđenjem i još većim ponosom objavljujemo da nam 27. prosinca 2025. u Blato dolazi – DALMATINO!\n27.12.2025.21:00 hPlokata ispred crkve\, Blato – otok Korčula\nPripremite se za večer punu emocija\, dobrih vibracija i glazbe koju svi znamo pjevati bez da nas itko podsjeti. Bit će ovo pravi predblagdanski spektakl!\nUlaznice:• 20 € u pretprodaji (agencija BlatoTours\, agencija Atlas Vela Luka)• 25 € na dan koncerta\nRezervacije / info: +385 99 774 4454\nJedva čekamo zajedno s vama zapjevati svaku pjesmu od početka do kraja.Vidimo se na Plokati… ovo će biti noć za pamćenje!
URL:https://dubrovnik.today/event/dalmatinoblato/
LOCATION:Blato\, Korčula\, Blato\, Dubrovačko-neretvanska\, 20271\, Croatia
CATEGORIES:Music
ATTACH;FMTTYPE=image/jpeg:https://dubrovnik.today/wp-content/uploads/2025/11/590598647_831627019498540_1300253346353138969_n.jpg
ORGANIZER;CN="Udruga Atento":MAILTO:udruga.atento@gmail.com
GEO:42.9439694;16.7942405
END:VEVENT
END:VCALENDAR