BEGIN:VCALENDAR
VERSION:2.0
PRODID:-//dbk.life - ECPv6.15.12//NONSGML v1.0//EN
CALSCALE:GREGORIAN
METHOD:PUBLISH
X-ORIGINAL-URL:https://dubrovnik.today
X-WR-CALDESC:Events for dbk.life
REFRESH-INTERVAL;VALUE=DURATION:PT1H
X-Robots-Tag:noindex
X-PUBLISHED-TTL:PT1H
BEGIN:VTIMEZONE
TZID:Europe/Zagreb
BEGIN:DAYLIGHT
TZOFFSETFROM:+0100
TZOFFSETTO:+0200
TZNAME:CEST
DTSTART:20240331T010000
END:DAYLIGHT
BEGIN:STANDARD
TZOFFSETFROM:+0200
TZOFFSETTO:+0100
TZNAME:CET
DTSTART:20241027T010000
END:STANDARD
BEGIN:DAYLIGHT
TZOFFSETFROM:+0100
TZOFFSETTO:+0200
TZNAME:CEST
DTSTART:20250330T010000
END:DAYLIGHT
BEGIN:STANDARD
TZOFFSETFROM:+0200
TZOFFSETTO:+0100
TZNAME:CET
DTSTART:20251026T010000
END:STANDARD
BEGIN:DAYLIGHT
TZOFFSETFROM:+0100
TZOFFSETTO:+0200
TZNAME:CEST
DTSTART:20260329T010000
END:DAYLIGHT
BEGIN:STANDARD
TZOFFSETFROM:+0200
TZOFFSETTO:+0100
TZNAME:CET
DTSTART:20261025T010000
END:STANDARD
END:VTIMEZONE
BEGIN:VEVENT
DTSTART;TZID=Europe/Zagreb:20251208T120000
DTEND;TZID=Europe/Zagreb:20251208T130000
DTSTAMP:20260420T030827
CREATED:20251203T122915Z
LAST-MODIFIED:20251203T122915Z
UID:10007449-1765195200-1765198800@dubrovnik.today
SUMMARY:Božićna bajka vilenjaka i prijatelja@Vela Luka
DESCRIPTION:Božićna bajka vilenjaka i prijatelja \n\n\nI ovog Adventa stiže nam klaun Šarenko s čarobnim animatorima\, donoseći još više veselja i čarolije. Zabavnom vilenjaku pridružit će se omiljeni likovi u obliku veselih maskota iznenađenja. Zajedno će stvoriti nezaboravan božićni provod\, u kojem su svi pozvani na ples i veselje.\n\n\n Maskote će nakon programa rado stati pred fotoaparat i podijeliti osmijehe s djecom i roditeljima\, jer uspomene su najljepši dar. \n\n\n Ponedjeljak\, 8. prosinca 2025. u 12 h\n Pijaca ispred crkve sv. Josipa\n\n\nNeka radost i smijeh budu najljepši ukras ovih blagdana!
URL:https://dubrovnik.today/event/bozicna-bajka-vilenjaka-i-prijateljavela-luka/
LOCATION:Vela Luka\, Korčula\, Vela Luka\, Dubrovačko-neretvanska\, 20270\, Croatia
CATEGORIES:Theatre
ATTACH;FMTTYPE=image/jpeg:https://dubrovnik.today/wp-content/uploads/2025/12/594315214_122199022256570344_8504973212648684217_n.jpg
ORGANIZER;CN="Centar za kulturu Vela Luka":MAILTO:info.czk@velaluka.hr
GEO:42.9468968;16.71167
END:VEVENT
BEGIN:VEVENT
DTSTART;TZID=Europe/Zagreb:20251209T190000
DTEND;TZID=Europe/Zagreb:20251209T210000
DTSTAMP:20260420T030827
CREATED:20251128T082110Z
LAST-MODIFIED:20251128T082110Z
UID:10007397-1765306800-1765314000@dubrovnik.today
SUMMARY:Putopisno predavanje / Sicilija i Napulj / Dalibor Vlašić
DESCRIPTION:Putopisno predavanje / Sicilija i Napulj / Dalibor Vlašić \nUlaz besplatan.
URL:https://dubrovnik.today/event/putopisno-predavanje-sicilija-i-napulj-dalibor-vlasic/
LOCATION:Centar za kulturu Korčula\, Obala korčulanskih brodograditelja bb\, Korčula\, Dubrovačko-neretvanska\, 20260\, Croatia
CATEGORIES:Lecture
ATTACH;FMTTYPE=image/jpeg:https://dubrovnik.today/wp-content/uploads/2025/11/589946308_1366444388608168_4974250460905596325_n.jpg
ORGANIZER;CN="Centar za kulturu Kor%C4%8Dula":MAILTO:kultura@kulturakorcula.hr
GEO:42.959521;17.1354128
X-APPLE-STRUCTURED-LOCATION;VALUE=URI;X-ADDRESS=Centar za kulturu Korčula Obala korčulanskih brodograditelja bb Korčula Dubrovačko-neretvanska 20260 Croatia;X-APPLE-RADIUS=500;X-TITLE=Obala korčulanskih brodograditelja bb:geo:17.1354128,42.959521
END:VEVENT
BEGIN:VEVENT
DTSTART;TZID=Europe/Zagreb:20251212T220000
DTEND;TZID=Europe/Zagreb:20251213T020000
DTSTAMP:20260420T030827
CREATED:20251021T084830Z
LAST-MODIFIED:20251210T101720Z
UID:10006918-1765576800-1765591200@dubrovnik.today
SUMMARY:OBSCURA Marina@VHF Bar Korcula
DESCRIPTION:12/12 petak / OBSCURA MARINA\n\n\n#obscuramarina #vhf bar korcula
URL:https://dubrovnik.today/event/obscura-marinavhf-bar-korcula/
LOCATION:VHF Bar Korcula\, Šetalište Frana Kršinića 1\, Korčula\, Dubrovačko-neretvanska\, 20260\, Croatia
CATEGORIES:Music
ATTACH;FMTTYPE=image/jpeg:https://dubrovnik.today/wp-content/uploads/2025/10/598693572_18023859719789728_2616545291806497552_n.jpg
ORGANIZER;CN="VHF Bar Korcula":MAILTO:lostintherenaissance@gmail.com
GEO:42.9586527;17.1353731
X-APPLE-STRUCTURED-LOCATION;VALUE=URI;X-ADDRESS=VHF Bar Korcula Šetalište Frana Kršinića 1 Korčula Dubrovačko-neretvanska 20260 Croatia;X-APPLE-RADIUS=500;X-TITLE=Šetalište Frana Kršinića 1:geo:17.1353731,42.9586527
END:VEVENT
END:VCALENDAR