BEGIN:VCALENDAR
VERSION:2.0
PRODID:-//dbk.life - ECPv6.15.12//NONSGML v1.0//EN
CALSCALE:GREGORIAN
METHOD:PUBLISH
X-WR-CALNAME:dbk.life
X-ORIGINAL-URL:https://dubrovnik.today
X-WR-CALDESC:Events for dbk.life
REFRESH-INTERVAL;VALUE=DURATION:PT1H
X-Robots-Tag:noindex
X-PUBLISHED-TTL:PT1H
BEGIN:VTIMEZONE
TZID:Europe/Zagreb
BEGIN:DAYLIGHT
TZOFFSETFROM:+0100
TZOFFSETTO:+0200
TZNAME:CEST
DTSTART:20240331T010000
END:DAYLIGHT
BEGIN:STANDARD
TZOFFSETFROM:+0200
TZOFFSETTO:+0100
TZNAME:CET
DTSTART:20241027T010000
END:STANDARD
BEGIN:DAYLIGHT
TZOFFSETFROM:+0100
TZOFFSETTO:+0200
TZNAME:CEST
DTSTART:20250330T010000
END:DAYLIGHT
BEGIN:STANDARD
TZOFFSETFROM:+0200
TZOFFSETTO:+0100
TZNAME:CET
DTSTART:20251026T010000
END:STANDARD
BEGIN:DAYLIGHT
TZOFFSETFROM:+0100
TZOFFSETTO:+0200
TZNAME:CEST
DTSTART:20260329T010000
END:DAYLIGHT
BEGIN:STANDARD
TZOFFSETFROM:+0200
TZOFFSETTO:+0100
TZNAME:CET
DTSTART:20261025T010000
END:STANDARD
END:VTIMEZONE
BEGIN:VEVENT
DTSTART;TZID=Europe/Zagreb:20251204T180000
DTEND;TZID=Europe/Zagreb:20251204T190000
DTSTAMP:20260420T014055
CREATED:20251203T123121Z
LAST-MODIFIED:20251203T123121Z
UID:10007450-1764871200-1764874800@dubrovnik.today
SUMMARY:Predavanje TRAGOM KORČULANSKIH SUTVARA: OD LUMBARDE DO POTIRNE
DESCRIPTION:Centar za kulturu Vela Luka vas poziva na predavanje\nTRAGOM KORČULANSKIH SUTVARA: OD LUMBARDE DO POTIRNE\n Četvrtak\, 4. 12. 2025. u 18:00 sati Narodnoj knjižnici “Šime Vučetić”\n\n\n U adventskom razdoblju sv. Barbara je prva u nizu svetaca/svetica koji se osobito štuju i uz koje su vezani liturgijski i narodni običaji.  Svima je dobro poznata svetobarbarska vara – sočivo.\n\n\n U ovom predavanju će biti riječi o tragovima\, nematerijalnima i materijalnima\, štovanja ove svetice od ranog kršćanstva do novog vijeka\, a koji su nam se na različite načine očuvali do današnjeg dana. Nama najbliži primjer je Sutvara u Potirni\, no na Korčuli ima još nekoliko takvih lokaliteta.\n\n\n Uz to ćemo se kratko osvrnuti i na crkve posvećene ovoj svetici na otoku Korčuli – čije su sudbine na različite načine isprepletene s različitim aspektima zaštite koju ova svetica pruža. Neke od njih su doživjele neočekivane transformacije u 20. stoljeću\, a njihova istraživanja su donijela vrlo značajne rezultate za povijest grada i otoka.\n\n\n Predavanje će se održati u prostoru Narodne knjižnice Šime Vučetić\n Predavač je Maja Šunjić
URL:https://dubrovnik.today/event/predavanje-tragom-korculanskih-sutvara-od-lumbarde-do-potirne/
LOCATION:Narodna knjižnica “Šime Vučetić”\, Ulica 26 br. 2\, Vela Luka\, Dubrovačko-neretvanska\, 20270\, Croatia
CATEGORIES:Lecture
ATTACH;FMTTYPE=image/jpeg:https://dubrovnik.today/wp-content/uploads/2025/12/592206099_122198763074570344_2962045517829930201_n.jpg
ORGANIZER;CN="Centar za kulturu Vela Luka":MAILTO:info.czk@velaluka.hr
GEO:42.9468968;16.71167
X-APPLE-STRUCTURED-LOCATION;VALUE=URI;X-ADDRESS=Narodna knjižnica “Šime Vučetić” Ulica 26 br. 2 Vela Luka Dubrovačko-neretvanska 20270 Croatia;X-APPLE-RADIUS=500;X-TITLE=Ulica 26 br. 2:geo:16.71167,42.9468968
END:VEVENT
END:VCALENDAR