BEGIN:VCALENDAR
VERSION:2.0
PRODID:-//dbk.life - ECPv6.15.12//NONSGML v1.0//EN
CALSCALE:GREGORIAN
METHOD:PUBLISH
X-WR-CALNAME:dbk.life
X-ORIGINAL-URL:https://dubrovnik.today
X-WR-CALDESC:Events for dbk.life
REFRESH-INTERVAL;VALUE=DURATION:PT1H
X-Robots-Tag:noindex
X-PUBLISHED-TTL:PT1H
BEGIN:VTIMEZONE
TZID:Europe/Zagreb
BEGIN:DAYLIGHT
TZOFFSETFROM:+0100
TZOFFSETTO:+0200
TZNAME:CEST
DTSTART:20240331T010000
END:DAYLIGHT
BEGIN:STANDARD
TZOFFSETFROM:+0200
TZOFFSETTO:+0100
TZNAME:CET
DTSTART:20241027T010000
END:STANDARD
BEGIN:DAYLIGHT
TZOFFSETFROM:+0100
TZOFFSETTO:+0200
TZNAME:CEST
DTSTART:20250330T010000
END:DAYLIGHT
BEGIN:STANDARD
TZOFFSETFROM:+0200
TZOFFSETTO:+0100
TZNAME:CET
DTSTART:20251026T010000
END:STANDARD
BEGIN:DAYLIGHT
TZOFFSETFROM:+0100
TZOFFSETTO:+0200
TZNAME:CEST
DTSTART:20260329T010000
END:DAYLIGHT
BEGIN:STANDARD
TZOFFSETFROM:+0200
TZOFFSETTO:+0100
TZNAME:CET
DTSTART:20261025T010000
END:STANDARD
END:VTIMEZONE
BEGIN:VEVENT
DTSTART;TZID=Europe/Zagreb:20251124T083000
DTEND;TZID=Europe/Zagreb:20251124T100000
DTSTAMP:20260420T065459
CREATED:20251121T075429Z
LAST-MODIFIED:20251121T075429Z
UID:10007303-1763973000-1763978400@dubrovnik.today
SUMMARY:Smokvica - uredovni dan LAG-a 5
DESCRIPTION:Podsjećamo vas na termin održavanja uredovnog dana LAG-a 5 u Smokvici u studenom 2025. godine. Vijećnica općine Smokvica\, na adresi Smokvica 80 Ponedjeljak\, 24. studeni 2025. od 08:30 do 10:00 sati Za sve informacije i najave dolaska javite se na broj 091 8919 176  ili na mail adresu projekti@lag5.hr.Vidimo se!
URL:https://dubrovnik.today/event/smokvica-uredovni-dan-lag-a-5/
LOCATION:Smokvica\, Korčula\, Smokvica\, Dubrovačko-neretvanska\, 20272\, Croatia
CATEGORIES:Lecture,Workshop
ATTACH;FMTTYPE=image/jpeg:https://dubrovnik.today/wp-content/uploads/2025/11/585484424_1257338869759302_8747469322559083012_n.jpg
GEO:42.9286374;16.8940082
END:VEVENT
BEGIN:VEVENT
DTSTART;TZID=Europe/Zagreb:20251124T103000
DTEND;TZID=Europe/Zagreb:20251124T120000
DTSTAMP:20260420T065459
CREATED:20251121T075730Z
LAST-MODIFIED:20251121T075730Z
UID:10007305-1763980200-1763985600@dubrovnik.today
SUMMARY:Vela Luka - uredovni dan LAG-a 5
DESCRIPTION:Podsjećamo vas na termin održavanja Uredovnih dana u Veloj Luci za studeni 2025. godine.\n Vijećnica Općine Vela Luka\, na adresi Obala 3 br. 19. Ponedjeljak\, 24. studeni 2025. od 10:30 do 12:00 sati.\n Za sve informacije i najave dolaska javite se na broj 091 8919 176  ili na mail adresu projekti@lag5.hr.\nVidimo se!
URL:https://dubrovnik.today/event/vela-luka-uredovni-dan-lag-a-5/
LOCATION:Vela Luka\, Korčula\, Vela Luka\, Dubrovačko-neretvanska\, 20270\, Croatia
CATEGORIES:Lecture,Workshop
ATTACH;FMTTYPE=image/jpeg:https://dubrovnik.today/wp-content/uploads/2025/11/583051264_1257331459760043_222334915414207097_n.jpg
GEO:42.9468968;16.71167
END:VEVENT
BEGIN:VEVENT
DTSTART;TZID=Europe/Zagreb:20251124T123000
DTEND;TZID=Europe/Zagreb:20251124T133000
DTSTAMP:20260420T065459
CREATED:20251121T075603Z
LAST-MODIFIED:20251121T075603Z
UID:10007304-1763987400-1763991000@dubrovnik.today
SUMMARY:Blato - uredovni dan LAG-a 5
DESCRIPTION:Podsjećamo vas na termin održavanja Uredovnih dana u Blatu\, u studenom 2025. godine. Blato\, Klavir sala Doma kulture Blato Ponedjeljak\, 24. studeni 2025. od 12:30 do 13:30 sati za sve informacije i najave dolaska javite se na broj 091 8919 176 ili na mail adresu projekti@lag5.hr.Vidimo se!
URL:https://dubrovnik.today/event/blato-uredovni-dan-lag-a-5/
LOCATION:Blato\, Korčula\, Blato\, Dubrovačko-neretvanska\, 20271\, Croatia
CATEGORIES:Lecture,Workshop
ATTACH;FMTTYPE=image/jpeg:https://dubrovnik.today/wp-content/uploads/2025/11/587167446_1257336779759511_7453379219021735172_n.jpg
GEO:42.9439694;16.7942405
END:VEVENT
BEGIN:VEVENT
DTSTART;TZID=Europe/Zagreb:20251125T190000
DTEND;TZID=Europe/Zagreb:20251125T210000
DTSTAMP:20260420T065459
CREATED:20251113T070243Z
LAST-MODIFIED:20251113T070243Z
UID:10007151-1764097200-1764104400@dubrovnik.today
SUMMARY:Putopisno predavanje / Indija / Dalibor Vlašić
DESCRIPTION:Putopisno predavanje / Indija / Dalibor Vlašić \nUlaz besplatan
URL:https://dubrovnik.today/event/putopisno-predavanje-indija-dalibor-vlasic/
LOCATION:Centar za kulturu Korčula\, Obala korčulanskih brodograditelja bb\, Korčula\, Dubrovačko-neretvanska\, 20260\, Croatia
CATEGORIES:Lecture
ATTACH;FMTTYPE=image/jpeg:https://dubrovnik.today/wp-content/uploads/2025/11/576447106_1349511140301493_1110118865644982871_n.jpg
ORGANIZER;CN="Centar za kulturu Kor%C4%8Dula":MAILTO:kultura@kulturakorcula.hr
GEO:42.959521;17.1354128
X-APPLE-STRUCTURED-LOCATION;VALUE=URI;X-ADDRESS=Centar za kulturu Korčula Obala korčulanskih brodograditelja bb Korčula Dubrovačko-neretvanska 20260 Croatia;X-APPLE-RADIUS=500;X-TITLE=Obala korčulanskih brodograditelja bb:geo:17.1354128,42.959521
END:VEVENT
BEGIN:VEVENT
DTSTART;TZID=Europe/Zagreb:20251128T210000
DTEND;TZID=Europe/Zagreb:20251129T020000
DTSTAMP:20260420T065459
CREATED:20251126T123128Z
LAST-MODIFIED:20251126T123128Z
UID:10007334-1764363600-1764381600@dubrovnik.today
SUMMARY:VHF CREW@VHF Bar Korcula
DESCRIPTION:28/11 PETAK je w/ VHF CREW\n\nGOOD feeling music and drinks\nVidimo se od 21 00
URL:https://dubrovnik.today/event/vhf-crewvhf-bar-korcula/
LOCATION:VHF Bar Korcula\, Šetalište Frana Kršinića 1\, Korčula\, Dubrovačko-neretvanska\, 20260\, Croatia
CATEGORIES:Music
ATTACH;FMTTYPE=image/jpeg:https://dubrovnik.today/wp-content/uploads/2025/11/587794718_18022365224789728_5554752578538090921_n-e1764160282752.jpg
ORGANIZER;CN="VHF Bar Korcula":MAILTO:lostintherenaissance@gmail.com
GEO:42.9586527;17.1353731
X-APPLE-STRUCTURED-LOCATION;VALUE=URI;X-ADDRESS=VHF Bar Korcula Šetalište Frana Kršinića 1 Korčula Dubrovačko-neretvanska 20260 Croatia;X-APPLE-RADIUS=500;X-TITLE=Šetalište Frana Kršinića 1:geo:17.1353731,42.9586527
END:VEVENT
BEGIN:VEVENT
DTSTART;TZID=Europe/Zagreb:20251129T190000
DTEND;TZID=Europe/Zagreb:20251129T203000
DTSTAMP:20260420T065459
CREATED:20251113T070110Z
LAST-MODIFIED:20251113T070110Z
UID:10007150-1764442800-1764448200@dubrovnik.today
SUMMARY:Kazališna predstava / Spajalica / Velolučki pučki teatar
DESCRIPTION:Najnovija komedija Spajalica\, čiji je autor Tonči Surjan Trofo\, u izvedbi Velolučkog pučkog teatra na humorističan način govori o poduzetništvu i raznim usamljenim ljudima u današnje doba i njihovim potrebama.\nUlaz: 5€
URL:https://dubrovnik.today/event/kazalisna-predstava-spajalica-velolucki-pucki-teatar/
LOCATION:Centar za kulturu Korčula\, Obala korčulanskih brodograditelja bb\, Korčula\, Dubrovačko-neretvanska\, 20260\, Croatia
CATEGORIES:Theatre
ATTACH;FMTTYPE=image/jpeg:https://dubrovnik.today/wp-content/uploads/2025/11/571712239_1342561217663152_2242802677551037818_n.jpg
ORGANIZER;CN="Centar za kulturu Kor%C4%8Dula":MAILTO:kultura@kulturakorcula.hr
GEO:42.959521;17.1354128
X-APPLE-STRUCTURED-LOCATION;VALUE=URI;X-ADDRESS=Centar za kulturu Korčula Obala korčulanskih brodograditelja bb Korčula Dubrovačko-neretvanska 20260 Croatia;X-APPLE-RADIUS=500;X-TITLE=Obala korčulanskih brodograditelja bb:geo:17.1354128,42.959521
END:VEVENT
END:VCALENDAR