BEGIN:VCALENDAR
VERSION:2.0
PRODID:-//dbk.life - ECPv6.15.12//NONSGML v1.0//EN
CALSCALE:GREGORIAN
METHOD:PUBLISH
X-ORIGINAL-URL:https://dubrovnik.today
X-WR-CALDESC:Events for dbk.life
REFRESH-INTERVAL;VALUE=DURATION:PT1H
X-Robots-Tag:noindex
X-PUBLISHED-TTL:PT1H
BEGIN:VTIMEZONE
TZID:Europe/Zagreb
BEGIN:DAYLIGHT
TZOFFSETFROM:+0100
TZOFFSETTO:+0200
TZNAME:CEST
DTSTART:20240331T010000
END:DAYLIGHT
BEGIN:STANDARD
TZOFFSETFROM:+0200
TZOFFSETTO:+0100
TZNAME:CET
DTSTART:20241027T010000
END:STANDARD
BEGIN:DAYLIGHT
TZOFFSETFROM:+0100
TZOFFSETTO:+0200
TZNAME:CEST
DTSTART:20250330T010000
END:DAYLIGHT
BEGIN:STANDARD
TZOFFSETFROM:+0200
TZOFFSETTO:+0100
TZNAME:CET
DTSTART:20251026T010000
END:STANDARD
BEGIN:DAYLIGHT
TZOFFSETFROM:+0100
TZOFFSETTO:+0200
TZNAME:CEST
DTSTART:20260329T010000
END:DAYLIGHT
BEGIN:STANDARD
TZOFFSETFROM:+0200
TZOFFSETTO:+0100
TZNAME:CET
DTSTART:20261025T010000
END:STANDARD
END:VTIMEZONE
BEGIN:VEVENT
DTSTART;TZID=Europe/Zagreb:20251121T220000
DTEND;TZID=Europe/Zagreb:20251122T020000
DTSTAMP:20260420T063434
CREATED:20251119T114704Z
LAST-MODIFIED:20251119T114704Z
UID:10007275-1763762400-1763776800@dubrovnik.today
SUMMARY:MIRO (UC\, Split)@VHF Bar Korcula
DESCRIPTION:21/11 PETAK je w/ MIRO (UC\, Split)\n\n\nS više od 20 godina odigranih utakmica iza i ispred DJ pulta ovaj petak stiže nam u goste jedan od omiljenijih splitskih DJ-eva @miro_underground_control\n\n\nVidimo se od 22 sata \n#vhfbarkorcula #petakje
URL:https://dubrovnik.today/event/miro-uc-splitvhf-bar-korcula/
LOCATION:VHF Bar Korcula\, Šetalište Frana Kršinića 1\, Korčula\, Dubrovačko-neretvanska\, 20260\, Croatia
CATEGORIES:Music
ATTACH;FMTTYPE=image/jpeg:https://dubrovnik.today/wp-content/uploads/2025/11/582862807_18021563633789728_3281511094316722870_n.jpg
ORGANIZER;CN="VHF Bar Korcula":MAILTO:lostintherenaissance@gmail.com
GEO:42.9586527;17.1353731
X-APPLE-STRUCTURED-LOCATION;VALUE=URI;X-ADDRESS=VHF Bar Korcula Šetalište Frana Kršinića 1 Korčula Dubrovačko-neretvanska 20260 Croatia;X-APPLE-RADIUS=500;X-TITLE=Šetalište Frana Kršinića 1:geo:17.1353731,42.9586527
END:VEVENT
BEGIN:VEVENT
DTSTART;TZID=Europe/Zagreb:20251122T220000
DTEND;TZID=Europe/Zagreb:20251123T040000
DTSTAMP:20260420T063434
CREATED:20251119T114923Z
LAST-MODIFIED:20251119T114923Z
UID:10007276-1763848800-1763870400@dubrovnik.today
SUMMARY:POZOR! INKOBROD w/ Markaya\, Zookey & Djolee
DESCRIPTION:POZOR! INKOBROD // subota 22h\nPrvi Pozor! Inkobrod ove godine\, za rasplesavanje su zaduženi Markaya\, Zookey & Djolee! \nPS. Ove subote u prodaju idu karte za Pips\, Chips & Videoclips i Porto morto\, karte će se moć kupiti u KUM-a na šanku. Uskoro više detalja o cijenama i prodajnim mjestima. \nVidimo se u subotu na danceflooru! \n#kumkorcula #pozorinkobrod
URL:https://dubrovnik.today/event/pozor-inkobrod-w-markaya-zookey-djolee/
LOCATION:K.U.M\, old school domince\, Korcula\, Croatia
CATEGORIES:Music
ATTACH;FMTTYPE=image/jpeg:https://dubrovnik.today/wp-content/uploads/2025/11/585116893_1128694229429854_3143781882837176105_n.jpg
ORGANIZER;CN="Pozor Inkobrod":MAILTO:m.me/pozorinkobrod
GEO:42.9544023;17.1472124
X-APPLE-STRUCTURED-LOCATION;VALUE=URI;X-ADDRESS=K.U.M old school domince Korcula Croatia;X-APPLE-RADIUS=500;X-TITLE=old school domince:geo:17.1472124,42.9544023
END:VEVENT
END:VCALENDAR