BEGIN:VCALENDAR
VERSION:2.0
PRODID:-//dbk.life - ECPv6.15.12//NONSGML v1.0//EN
CALSCALE:GREGORIAN
METHOD:PUBLISH
X-ORIGINAL-URL:https://dubrovnik.today
X-WR-CALDESC:Events for dbk.life
REFRESH-INTERVAL;VALUE=DURATION:PT1H
X-Robots-Tag:noindex
X-PUBLISHED-TTL:PT1H
BEGIN:VTIMEZONE
TZID:Europe/Zagreb
BEGIN:DAYLIGHT
TZOFFSETFROM:+0100
TZOFFSETTO:+0200
TZNAME:CEST
DTSTART:20240331T010000
END:DAYLIGHT
BEGIN:STANDARD
TZOFFSETFROM:+0200
TZOFFSETTO:+0100
TZNAME:CET
DTSTART:20241027T010000
END:STANDARD
BEGIN:DAYLIGHT
TZOFFSETFROM:+0100
TZOFFSETTO:+0200
TZNAME:CEST
DTSTART:20250330T010000
END:DAYLIGHT
BEGIN:STANDARD
TZOFFSETFROM:+0200
TZOFFSETTO:+0100
TZNAME:CET
DTSTART:20251026T010000
END:STANDARD
BEGIN:DAYLIGHT
TZOFFSETFROM:+0100
TZOFFSETTO:+0200
TZNAME:CEST
DTSTART:20260329T010000
END:DAYLIGHT
BEGIN:STANDARD
TZOFFSETFROM:+0200
TZOFFSETTO:+0100
TZNAME:CET
DTSTART:20261025T010000
END:STANDARD
END:VTIMEZONE
BEGIN:VEVENT
DTSTART;TZID=Europe/Zagreb:20251115T213000
DTEND;TZID=Europe/Zagreb:20251116T040000
DTSTAMP:20260420T031450
CREATED:20251111T120902Z
LAST-MODIFIED:20251111T120902Z
UID:10007140-1763242200-1763265600@dubrovnik.today
SUMMARY:1990s vs 2000s@K.U.M.
DESCRIPTION:1990s vs 2000s // SUBOTA 15.11.\nSvi znaju koliko u K.U.M.-a volimo ove godine\, pogotovo kad je u pitanju glazba koju te godine donose.\nTeško je reć koje nas desetljeće više raspleše\, tako da je ovu subotu savršena prilika da to provjerimo!\nVidimo se na danceflooru! \n#kumkorcula #slusaonica #90s #00s
URL:https://dubrovnik.today/event/1990s-vs-2000sk-u-m/
LOCATION:K.U.M\, old school domince\, Korcula\, Croatia
CATEGORIES:Music
ATTACH;FMTTYPE=image/jpeg:https://dubrovnik.today/wp-content/uploads/2025/11/581132500_1123377676628176_8419766215026828380_n.jpg
GEO:42.9544023;17.1472124
X-APPLE-STRUCTURED-LOCATION;VALUE=URI;X-ADDRESS=K.U.M old school domince Korcula Croatia;X-APPLE-RADIUS=500;X-TITLE=old school domince:geo:17.1472124,42.9544023
END:VEVENT
END:VCALENDAR