BEGIN:VCALENDAR
VERSION:2.0
PRODID:-//dbk.life - ECPv6.15.12//NONSGML v1.0//EN
CALSCALE:GREGORIAN
METHOD:PUBLISH
X-WR-CALNAME:dbk.life
X-ORIGINAL-URL:https://dubrovnik.today
X-WR-CALDESC:Events for dbk.life
REFRESH-INTERVAL;VALUE=DURATION:PT1H
X-Robots-Tag:noindex
X-PUBLISHED-TTL:PT1H
BEGIN:VTIMEZONE
TZID:Europe/Zagreb
BEGIN:DAYLIGHT
TZOFFSETFROM:+0100
TZOFFSETTO:+0200
TZNAME:CEST
DTSTART:20240331T010000
END:DAYLIGHT
BEGIN:STANDARD
TZOFFSETFROM:+0200
TZOFFSETTO:+0100
TZNAME:CET
DTSTART:20241027T010000
END:STANDARD
BEGIN:DAYLIGHT
TZOFFSETFROM:+0100
TZOFFSETTO:+0200
TZNAME:CEST
DTSTART:20250330T010000
END:DAYLIGHT
BEGIN:STANDARD
TZOFFSETFROM:+0200
TZOFFSETTO:+0100
TZNAME:CET
DTSTART:20251026T010000
END:STANDARD
BEGIN:DAYLIGHT
TZOFFSETFROM:+0100
TZOFFSETTO:+0200
TZNAME:CEST
DTSTART:20260329T010000
END:DAYLIGHT
BEGIN:STANDARD
TZOFFSETFROM:+0200
TZOFFSETTO:+0100
TZNAME:CET
DTSTART:20261025T010000
END:STANDARD
END:VTIMEZONE
BEGIN:VEVENT
DTSTART;TZID=Europe/Zagreb:20251209T190000
DTEND;TZID=Europe/Zagreb:20251209T210000
DTSTAMP:20260419T235857
CREATED:20251128T082110Z
LAST-MODIFIED:20251128T082110Z
UID:10007397-1765306800-1765314000@dubrovnik.today
SUMMARY:Putopisno predavanje / Sicilija i Napulj / Dalibor Vlašić
DESCRIPTION:Putopisno predavanje / Sicilija i Napulj / Dalibor Vlašić \nUlaz besplatan.
URL:https://dubrovnik.today/event/putopisno-predavanje-sicilija-i-napulj-dalibor-vlasic/
LOCATION:Centar za kulturu Korčula\, Obala korčulanskih brodograditelja bb\, Korčula\, Dubrovačko-neretvanska\, 20260\, Croatia
CATEGORIES:Lecture
ATTACH;FMTTYPE=image/jpeg:https://dubrovnik.today/wp-content/uploads/2025/11/589946308_1366444388608168_4974250460905596325_n.jpg
ORGANIZER;CN="Centar za kulturu Kor%C4%8Dula":MAILTO:kultura@kulturakorcula.hr
GEO:42.959521;17.1354128
X-APPLE-STRUCTURED-LOCATION;VALUE=URI;X-ADDRESS=Centar za kulturu Korčula Obala korčulanskih brodograditelja bb Korčula Dubrovačko-neretvanska 20260 Croatia;X-APPLE-RADIUS=500;X-TITLE=Obala korčulanskih brodograditelja bb:geo:17.1354128,42.959521
END:VEVENT
END:VCALENDAR