BEGIN:VCALENDAR
VERSION:2.0
PRODID:-//dbk.life - ECPv6.15.12//NONSGML v1.0//EN
CALSCALE:GREGORIAN
METHOD:PUBLISH
X-WR-CALNAME:dbk.life
X-ORIGINAL-URL:https://dubrovnik.today
X-WR-CALDESC:Events for dbk.life
REFRESH-INTERVAL;VALUE=DURATION:PT1H
X-Robots-Tag:noindex
X-PUBLISHED-TTL:PT1H
BEGIN:VTIMEZONE
TZID:Europe/Zagreb
BEGIN:DAYLIGHT
TZOFFSETFROM:+0100
TZOFFSETTO:+0200
TZNAME:CEST
DTSTART:20250330T010000
END:DAYLIGHT
BEGIN:STANDARD
TZOFFSETFROM:+0200
TZOFFSETTO:+0100
TZNAME:CET
DTSTART:20251026T010000
END:STANDARD
BEGIN:DAYLIGHT
TZOFFSETFROM:+0100
TZOFFSETTO:+0200
TZNAME:CEST
DTSTART:20260329T010000
END:DAYLIGHT
BEGIN:STANDARD
TZOFFSETFROM:+0200
TZOFFSETTO:+0100
TZNAME:CET
DTSTART:20261025T010000
END:STANDARD
BEGIN:DAYLIGHT
TZOFFSETFROM:+0100
TZOFFSETTO:+0200
TZNAME:CEST
DTSTART:20270328T010000
END:DAYLIGHT
BEGIN:STANDARD
TZOFFSETFROM:+0200
TZOFFSETTO:+0100
TZNAME:CET
DTSTART:20271031T010000
END:STANDARD
END:VTIMEZONE
BEGIN:VEVENT
DTSTART;TZID=Europe/Zagreb:20260304T150000
DTEND;TZID=Europe/Zagreb:20260304T170000
DTSTAMP:20260420T165649
CREATED:20260302T121508Z
LAST-MODIFIED:20260302T121508Z
UID:10008279-1772636400-1772643600@dubrovnik.today
SUMMARY:Besplatna radionica "Brendiranje turističkog iskustva"
DESCRIPTION:Poduzetnički inkubator Vela Luka i TZO Vela Luka pozivaju Vas\nna besplatnu radionicu pod nazivom\n“Brendiranje turističkog iskustva”\npod vodstvom Ivane Deak – edukatorice\, poslovne mentorice i vlasnice Startup Simpl-a.\nRadionica je namijenjena privatnim iznajmljivačima\, agencijama\, ugostiteljima\, OPG-ovima\, organizatorima događanja i turističkim djelatnicima.\nKako kreirati doživljaj i jedinstvenu priču\, dizajnirati pakete i ponude\, što je storytelling?\nOvo su samo neka od pitanja na koja ćete dobiti odgovore na ovoj radionici koja se održava u Veloj Luci\nu srijedu\, 4. ožujka 2026. u 15:00 sati u Srednjoj školi Vela Luka.\n\n\nPrijaviti se možete putem e-maila:\n\n\nTZO Vela Luka: visitvelaluka@gmail.com\nPoduzetnički inkubator Vela Luka: info@pi-velaluka.hr\n\n\nIskoristite ovu priliku za učenje i razvoj svoje turističke ponude\, vidimo se na radionici!
URL:https://dubrovnik.today/event/besplatna-radionica-brendiranje-turistickog-iskustva/
LOCATION:Vela Luka\, Korčula\, Vela Luka\, Dubrovačko-neretvanska\, 20270\, Croatia
CATEGORIES:Workshop
ATTACH;FMTTYPE=image/jpeg:https://dubrovnik.today/wp-content/uploads/2026/03/641537664_935432196077252_6427753721948917354_n.jpg
GEO:42.9468968;16.71167
END:VEVENT
BEGIN:VEVENT
DTSTART;TZID=Europe/Zagreb:20260306T220000
DTEND;TZID=Europe/Zagreb:20260307T030000
DTSTAMP:20260420T165649
CREATED:20260302T120049Z
LAST-MODIFIED:20260302T120049Z
UID:10008277-1772834400-1772852400@dubrovnik.today
SUMMARY:NATALI KARUZA@VHF Bar Korcula
DESCRIPTION:6.3. / NATALI KARUZA (Split/Zagreb\, HR) \n…\n#vhfbarkorcula #weekendprogram #korculaisland #korculanightlife
URL:https://dubrovnik.today/event/natali-karuzavhf-bar-korcula/
LOCATION:VHF Bar Korcula\, Šetalište Frana Kršinića 1\, Korčula\, Dubrovačko-neretvanska\, 20260\, Croatia
CATEGORIES:Music
ATTACH;FMTTYPE=image/jpeg:https://dubrovnik.today/wp-content/uploads/2026/03/C1122apture.jpg
ORGANIZER;CN="VHF Bar Korcula":MAILTO:lostintherenaissance@gmail.com
GEO:42.9586527;17.1353731
X-APPLE-STRUCTURED-LOCATION;VALUE=URI;X-ADDRESS=VHF Bar Korcula Šetalište Frana Kršinića 1 Korčula Dubrovačko-neretvanska 20260 Croatia;X-APPLE-RADIUS=500;X-TITLE=Šetalište Frana Kršinića 1:geo:17.1353731,42.9586527
END:VEVENT
BEGIN:VEVENT
DTSTART;TZID=Europe/Zagreb:20260313T220000
DTEND;TZID=Europe/Zagreb:20260314T020000
DTSTAMP:20260420T165649
CREATED:20260311T100520Z
LAST-MODIFIED:20260311T100520Z
UID:10008369-1773439200-1773453600@dubrovnik.today
SUMMARY:IVANA (Dubrovnik)@VHF Bar Korcula
DESCRIPTION:Petak 13. / IVANA (Dubrovnik)\n\n\nRezidentica @piratessocialclub & ex. @klub_dubina te jedna polovina dobro poznatog dubrovačkog dua DISKOMOD ovaj petak za kormilom VHF-a!\n\n\nVeselimo se plesu\, kao i svaki puta do sada!\nVidimo se\n#vhfbarkorcula #weekendprogram
URL:https://dubrovnik.today/event/ivana-dubrovnikvhf-bar-korcula/
LOCATION:VHF Bar Korcula\, Šetalište Frana Kršinića 1\, Korčula\, Dubrovačko-neretvanska\, 20260\, Croatia
CATEGORIES:Music
ATTACH;FMTTYPE=image/jpeg:https://dubrovnik.today/wp-content/uploads/2026/03/649934391_18034328624789728_990544696933197926_n.jpg
ORGANIZER;CN="VHF Bar Korcula":MAILTO:lostintherenaissance@gmail.com
GEO:42.9586527;17.1353731
X-APPLE-STRUCTURED-LOCATION;VALUE=URI;X-ADDRESS=VHF Bar Korcula Šetalište Frana Kršinića 1 Korčula Dubrovačko-neretvanska 20260 Croatia;X-APPLE-RADIUS=500;X-TITLE=Šetalište Frana Kršinića 1:geo:17.1353731,42.9586527
END:VEVENT
BEGIN:VEVENT
DTSTART;TZID=Europe/Zagreb:20260315T190000
DTEND;TZID=Europe/Zagreb:20260315T210000
DTSTAMP:20260420T165649
CREATED:20260313T082819Z
LAST-MODIFIED:20260313T083112Z
UID:10008400-1773601200-1773608400@dubrovnik.today
SUMMARY:Linđo u Veloj Luci
DESCRIPTION:Folklorni ansambl Linđo održat će cjelovečernji koncert u Veloj Luci u nedjelju\, 15. ožujka u sportskoj dvorani ‘Moćni laz’ s početkom u 19\,00 sati. Linđo u Vela Luku putuje na poziv Općine i Turističke zajednice Vela Luka te Folklornog društva Kumpanija\, koje obilježava 25 godina od obnove djelovanja\, a koncert se održava prigodom dana Općine Vela Luka i blagdana Svetog Josipa.\n.\n.\n#lindjo #dubrovnik #velaluka #itojelindjo #totalnifolkor
URL:https://dubrovnik.today/event/lindo-u-veloj-luci/
LOCATION:Vela Luka\, Korčula\, Vela Luka\, Dubrovačko-neretvanska\, 20270\, Croatia
CATEGORIES:Music
ATTACH;FMTTYPE=image/jpeg:https://dubrovnik.today/wp-content/uploads/2026/03/650082467_1237984901755500_7598542485794014314_n.jpg
GEO:42.9468968;16.71167
END:VEVENT
BEGIN:VEVENT
DTSTART;TZID=Europe/Zagreb:20260316T180000
DTEND;TZID=Europe/Zagreb:20260316T190000
DTSTAMP:20260420T165649
CREATED:20260313T080656Z
LAST-MODIFIED:20260313T080656Z
UID:10008396-1773684000-1773687600@dubrovnik.today
SUMMARY:Proljeće s Vučetićem
DESCRIPTION:Narodna knjižnica “Šime Vučetić” poziva Vas na “Proljeće s Vučetićem”\nu ponedjeljak\, 16. ožujka\nu 18:00h predavanje „Tragovima Odiseja i Vučetića“- gost Jasen Boko\nu petak\, 20. ožujka\nu 10:45h Blackout poezija inspirirana Vučetićem- radionica za djecu Osnovne škole\nu 17:00h polaganje vijenca na spomen-ploču i grob Šime Vučetića\nu 20:00h Tematski kviz o Veloj Luci\nPrijave za kviz su obavezne zbog ograničenog broja mjesta.\n\n\nVeselimo se Vašem dolasku!
URL:https://dubrovnik.today/event/proljece-s-vuceticem/2026-03-16/
LOCATION:Narodna knjižnica “Šime Vučetić”\, Ulica 26 br. 2\, Vela Luka\, Dubrovačko-neretvanska\, 20270\, Croatia
CATEGORIES:Lecture,Pub quiz
ATTACH;FMTTYPE=image/jpeg:https://dubrovnik.today/wp-content/uploads/2026/03/650050994_1386133023559092_3658438795097485986_n.jpg
ORGANIZER;CN="Narodna knji%C5%BEnica '%C5%A0ime Vu%C4%8Deti%C4%87'":MAILTO:nksimevucetic@velaluka.hr
GEO:42.9468968;16.71167
X-APPLE-STRUCTURED-LOCATION;VALUE=URI;X-ADDRESS=Narodna knjižnica “Šime Vučetić” Ulica 26 br. 2 Vela Luka Dubrovačko-neretvanska 20270 Croatia;X-APPLE-RADIUS=500;X-TITLE=Ulica 26 br. 2:geo:16.71167,42.9468968
END:VEVENT
BEGIN:VEVENT
DTSTART;TZID=Europe/Zagreb:20260320T104500
DTEND;TZID=Europe/Zagreb:20260320T220000
DTSTAMP:20260420T165649
CREATED:20260313T080656Z
LAST-MODIFIED:20260313T080656Z
UID:10008397-1774003500-1774044000@dubrovnik.today
SUMMARY:Proljeće s Vučetićem
DESCRIPTION:Narodna knjižnica “Šime Vučetić” poziva Vas na “Proljeće s Vučetićem”\nu ponedjeljak\, 16. ožujka\nu 18:00h predavanje „Tragovima Odiseja i Vučetića“- gost Jasen Boko\nu petak\, 20. ožujka\nu 10:45h Blackout poezija inspirirana Vučetićem- radionica za djecu Osnovne škole\nu 17:00h polaganje vijenca na spomen-ploču i grob Šime Vučetića\nu 20:00h Tematski kviz o Veloj Luci\nPrijave za kviz su obavezne zbog ograničenog broja mjesta.\n\n\nVeselimo se Vašem dolasku!
URL:https://dubrovnik.today/event/proljece-s-vuceticem/2026-03-20/
LOCATION:Narodna knjižnica “Šime Vučetić”\, Ulica 26 br. 2\, Vela Luka\, Dubrovačko-neretvanska\, 20270\, Croatia
CATEGORIES:Lecture,Pub quiz
ATTACH;FMTTYPE=image/jpeg:https://dubrovnik.today/wp-content/uploads/2026/03/650050994_1386133023559092_3658438795097485986_n.jpg
ORGANIZER;CN="Narodna knji%C5%BEnica '%C5%A0ime Vu%C4%8Deti%C4%87'":MAILTO:nksimevucetic@velaluka.hr
GEO:42.9468968;16.71167
X-APPLE-STRUCTURED-LOCATION;VALUE=URI;X-ADDRESS=Narodna knjižnica “Šime Vučetić” Ulica 26 br. 2 Vela Luka Dubrovačko-neretvanska 20270 Croatia;X-APPLE-RADIUS=500;X-TITLE=Ulica 26 br. 2:geo:16.71167,42.9468968
END:VEVENT
BEGIN:VEVENT
DTSTART;TZID=Europe/Zagreb:20260320T220000
DTEND;TZID=Europe/Zagreb:20260321T020000
DTSTAMP:20260420T165649
CREATED:20260319T090528Z
LAST-MODIFIED:20260319T090528Z
UID:10008457-1774044000-1774058400@dubrovnik.today
SUMMARY:Marina Mimoza @ Vhf bar Korcula
DESCRIPTION:Ovaj petak osim što pozdravljamo zimu\, veseli smo jer nastavljamo i sa programom za vikend! \n> 20.3. omiljeni PETAK je\, a u goste nam dolazi Marina Mimoza (Mostar\, BiH). \nVidimo se u kući 🌀 \n@marinamimoza \n@rezon.udruga \n@streetartsfestivalmostar \n#vhfbarkorcula #weekendprogram
URL:https://dubrovnik.today/event/marina-mimoza-vhf-bar-korcula/
LOCATION:VHF Bar Korcula\, Šetalište Frana Kršinića 1\, Korčula\, Dubrovačko-neretvanska\, 20260\, Croatia
CATEGORIES:Music
ATTACH;FMTTYPE=image/jpeg:https://dubrovnik.today/wp-content/uploads/2026/03/654022992_18035388302789728_1106246253109130822_n.jpg
ORGANIZER;CN="VHF Bar Korcula":MAILTO:lostintherenaissance@gmail.com
GEO:42.9586527;17.1353731
X-APPLE-STRUCTURED-LOCATION;VALUE=URI;X-ADDRESS=VHF Bar Korcula Šetalište Frana Kršinića 1 Korčula Dubrovačko-neretvanska 20260 Croatia;X-APPLE-RADIUS=500;X-TITLE=Šetalište Frana Kršinića 1:geo:17.1353731,42.9586527
END:VEVENT
BEGIN:VEVENT
DTSTART;TZID=Europe/Zagreb:20260321T223000
DTEND;TZID=Europe/Zagreb:20260322T040000
DTSTAMP:20260420T165649
CREATED:20260320T090930Z
LAST-MODIFIED:20260320T090930Z
UID:10008473-1774132200-1774152000@dubrovnik.today
SUMMARY:MACHINES\, FRIENDS & I vol. III
DESCRIPTION:ELEKTRIK KUM KOLEKTIVElektrik Kum Kolektiv je nastao krajem 2025. godine kao ideja da rezidenti kuma\, uz goste rade evente koji spajaju Live Act nastupe i DJ setove. Dish Petzu i njegovom arsenalu ritam mašina i syntheva\, ovaj put pridružit će se Techa!\nFIKCIO MONGERFikcio Monger je live elektronički projekt šibenskog glazbenika\, producenta i multiinstrumentalista Mirka Raka\, koji spaja organski bendovski pristup s modernom elektroničkom produkcijom. Kao bubnjar\, basist i producent\, Rak već godinama istražuje granice između live svirke i elektronike\, stvarajući dinamične nastupe koji se temelje na improvizaciji\, grooveu i interakciji s publikom.Svaki nastup Fikcio Mongera je putovanje kroz groove\, atmosferu i ritam\, gdje se granice između DJ seta i koncerta potpuno brišu.\nDAFFDaff je DJ iz Komiže\, aktivan za pultom od 2001. Njegov zvuk ide duboko u underground — dubby i bass-driven house s deeptech temeljima\, uz povremene izlete u breaks i techno.Dijelio je line-up s imenima poput Dave Mothersolea\, Roba Pearsona\, Shonkyja i Gorgea\, gradeći reputaciju kroz pažljive selekcije i hipnotične\, groove-vođene setove. Glazba za kasne sate i otvorene umove.\nVidimo se u subotu na danceflooru!\n#kumkorcula #liveact #djset
URL:https://dubrovnik.today/event/machines-friends-i-vol-iii/
LOCATION:K.U.M\, old school domince\, Korcula\, Croatia
CATEGORIES:Music
ATTACH;FMTTYPE=image/jpeg:https://dubrovnik.today/wp-content/uploads/2026/03/653711511_1219537220345554_4943242309808199267_n.jpg
GEO:42.9544023;17.1472124
X-APPLE-STRUCTURED-LOCATION;VALUE=URI;X-ADDRESS=K.U.M old school domince Korcula Croatia;X-APPLE-RADIUS=500;X-TITLE=old school domince:geo:17.1472124,42.9544023
END:VEVENT
BEGIN:VEVENT
DTSTART;TZID=Europe/Zagreb:20260328T200000
DTEND;TZID=Europe/Zagreb:20260328T233000
DTSTAMP:20260420T165649
CREATED:20260324T084714Z
LAST-MODIFIED:20260324T084714Z
UID:10008509-1774728000-1774740600@dubrovnik.today
SUMMARY:Mind Gap@Proljeće u K.U.M.-a
DESCRIPTION:28. 3. slušamo ‘Mind Gap’\, Velolučku petoreku koja ovaj put dolazi sa svojim vrlo poznatin Grunge repertoarom. Već stalna točka\, Mind Gap donosi zagarantirano dobar provod.
URL:https://dubrovnik.today/event/mind-gapproljece-u-k-u-m-a/
LOCATION:K.U.M\, old school domince\, Korcula\, Croatia
CATEGORIES:Music
ATTACH;FMTTYPE=image/jpeg:https://dubrovnik.today/wp-content/uploads/2026/03/655753866_1224766443155965_3875871245452924790_n.jpg
GEO:42.9544023;17.1472124
X-APPLE-STRUCTURED-LOCATION;VALUE=URI;X-ADDRESS=K.U.M old school domince Korcula Croatia;X-APPLE-RADIUS=500;X-TITLE=old school domince:geo:17.1472124,42.9544023
END:VEVENT
BEGIN:VEVENT
DTSTART;TZID=Europe/Zagreb:20260330T150000
DTEND;TZID=Europe/Zagreb:20260330T170000
DTSTAMP:20260420T165649
CREATED:20260324T080323Z
LAST-MODIFIED:20260324T080323Z
UID:10008498-1774882800-1774890000@dubrovnik.today
SUMMARY:Radionica izrade kruha od kiselog tijesta@Lumbarda
DESCRIPTION: 𝗣𝗢𝗡𝗘𝗗𝗝𝗘𝗟𝗝𝗔𝗞\, 𝟯𝟬/𝟬𝟯/𝟮𝟬𝟮𝟲𝗦𝗹𝗮𝘀𝘁𝗶č𝗮𝗿𝗻𝗶𝗰𝗮 Š𝗸𝗮𝘁𝘂𝗹𝗮\, 𝗟𝘂𝗺𝗯𝗮𝗿𝗱𝗮 (𝗟𝘂𝗺𝗯𝗮𝗿𝗱𝗮 𝟴𝗯\, 𝟮𝟬𝟮𝟲𝟯 𝗞𝗼𝗿č𝘂𝗹𝗮) 𝗣𝗼č𝗲𝘁𝗮𝗸 𝘂 𝟭𝟱:𝟬𝟬 𝘀𝗮𝘁𝗶\n 𝗝𝗲𝘀𝘁𝗲 𝗹𝗶 𝗶𝗸𝗮𝗱𝗮 ž𝗲𝗹𝗷𝗲𝗹𝗶 𝗻𝗮𝘂č𝗶𝘁𝗶 𝗸𝗮𝗸𝗼 𝗻𝗮𝗽𝗿𝗮𝘃𝗶𝘁𝗶 𝗸𝗿𝘂𝗵 𝗼𝗱 𝗸𝗶𝘀𝗲𝗹𝗼𝗴 𝘁𝗶𝗷𝗲𝘀𝘁𝗮?\nPridružite nam se u ponedjeljak\, 30. ožujka u 15:00 sati u slastičarnici Škatula (Lumbarda 8b\, Korčula) i otkrijte tajne prirodne fermentacije!\n Pod vodstvom 𝗝𝗮𝗻𝗷𝗲 𝗕𝗲𝗻𝗶ć – 𝗝𝗮𝗻𝗷𝗼𝗹𝗶𝗻𝗸𝗲\, hrvatske 𝗽𝗲𝗸𝗮𝗿𝗶𝗰𝗲\, 𝗴𝗮𝘀𝘁𝗿𝗼-𝗯𝗹𝗼𝗴𝗲𝗿𝗶𝗰𝗲 𝗶 𝗲𝗱𝘂𝗸𝗮𝘁𝗼𝗿𝗶𝗰𝗲 𝘀𝗽𝗲𝗰𝗶𝗷𝗮𝗹𝗶𝘇𝗶𝗿𝗮𝗻𝗲 𝘇𝗮 𝗽𝗿𝗶𝗿𝗼𝗱𝗻𝘂 𝗳𝗲𝗿𝗺𝗲𝗻𝘁𝗮𝗰𝗶𝗷𝘂 𝘁𝗶𝗷𝗲𝘀𝘁𝗮\, naučit ćete kako nastaje kruh od kiselog tijesta – od startera do miješenja i fermentacije.\n Svaki polaznik će pripremljeni starter moći ponijeti kući te tako zadržati iskustvo radionice i primijeniti naučeno u vlastitom domu.\n Sve što vam treba za rad je osigurano – oprema\, pribor i namirnice.\n 𝗦𝘂𝗱𝗷𝗲𝗹𝗼𝘃𝗮𝗻𝗷𝗲 𝗻𝗮 𝗿𝗮𝗱𝗶𝗼𝗻𝗶𝗰𝗶 𝗷𝗲 𝗯𝗲𝘀𝗽𝗹𝗮𝘁𝗻𝗼\, 𝗻𝗼 𝗯𝗿𝗼𝗷 𝗺𝗷𝗲𝘀𝘁𝗮 𝗷𝗲 𝗼𝗴𝗿𝗮𝗻𝗶č𝗲𝗻\, 𝘀𝘁𝗼𝗴𝗮 𝗷𝗲 𝗽𝗿𝗶𝗷𝗮𝘃𝗮 𝗼𝗯𝘃𝗲𝘇𝗻𝗮: 𝗿𝗮𝘇𝘃𝗼𝗷@𝗹𝗮𝗴𝟱.𝗵𝗿\n Dođite i iz prve ruke doživite proces koji spaja tradiciju\, znanje i užitak stvaranja!\n Vidimo se! \n Radionica se provodi u sklopu transnacionalnog projekta suradnje „𝗛𝗿𝗮𝗻𝗮 𝗯𝗲𝘇 𝗴𝗿𝗮𝗻𝗶𝗰𝗮: 𝘂𝗽𝗼𝘇𝗻𝗮𝘃𝗮𝗻𝗷𝗲 𝗸𝗿𝗼𝘇 𝗼𝗸𝘂𝘀𝗲 (𝗙𝗼𝗼𝗱 𝘄𝗶𝘁𝗵𝗼𝘂𝘁 𝗯𝗼𝗿𝗱𝗲𝗿𝘀: 𝗺𝗲𝗲𝘁𝗶𝗻𝗴 𝗲𝗮𝗰𝗵 𝗼𝘁𝗵𝗲𝗿 𝘁𝗵𝗿𝗼𝘂𝗴𝗵 𝗳𝗹𝗮𝘃𝗼𝘂𝗿𝘀)“ u okviru intervencije „77.06. Potpora LEADER (CLLD) pristupu“ iz Strateškog plana Zajedničke poljoprivredne politike Republike Hrvatske 2023. – 2027.
URL:https://dubrovnik.today/event/radionica-izrade-kruha-od-kiselog-tijestalumbarda/
LOCATION:Škatula\, Lumbarda 8b\, Lumbarda\, Dubrovačko-neretvanska\, 20263\, Croatia
CATEGORIES:Workshop
ATTACH;FMTTYPE=image/jpeg:https://dubrovnik.today/wp-content/uploads/2026/03/652907639_1351943300298858_5591961341616330836_n.jpg
GEO:42.9300113;17.1545669
X-APPLE-STRUCTURED-LOCATION;VALUE=URI;X-ADDRESS=Škatula Lumbarda 8b Lumbarda Dubrovačko-neretvanska 20263 Croatia;X-APPLE-RADIUS=500;X-TITLE=Lumbarda 8b:geo:17.1545669,42.9300113
END:VEVENT
END:VCALENDAR