BEGIN:VCALENDAR
VERSION:2.0
PRODID:-//dbk.life - ECPv6.15.12//NONSGML v1.0//EN
CALSCALE:GREGORIAN
METHOD:PUBLISH
X-WR-CALNAME:dbk.life
X-ORIGINAL-URL:https://dubrovnik.today
X-WR-CALDESC:Events for dbk.life
REFRESH-INTERVAL;VALUE=DURATION:PT1H
X-Robots-Tag:noindex
X-PUBLISHED-TTL:PT1H
BEGIN:VTIMEZONE
TZID:Europe/Zagreb
BEGIN:DAYLIGHT
TZOFFSETFROM:+0100
TZOFFSETTO:+0200
TZNAME:CEST
DTSTART:20240331T010000
END:DAYLIGHT
BEGIN:STANDARD
TZOFFSETFROM:+0200
TZOFFSETTO:+0100
TZNAME:CET
DTSTART:20241027T010000
END:STANDARD
BEGIN:DAYLIGHT
TZOFFSETFROM:+0100
TZOFFSETTO:+0200
TZNAME:CEST
DTSTART:20250330T010000
END:DAYLIGHT
BEGIN:STANDARD
TZOFFSETFROM:+0200
TZOFFSETTO:+0100
TZNAME:CET
DTSTART:20251026T010000
END:STANDARD
BEGIN:DAYLIGHT
TZOFFSETFROM:+0100
TZOFFSETTO:+0200
TZNAME:CEST
DTSTART:20260329T010000
END:DAYLIGHT
BEGIN:STANDARD
TZOFFSETFROM:+0200
TZOFFSETTO:+0100
TZNAME:CET
DTSTART:20261025T010000
END:STANDARD
END:VTIMEZONE
BEGIN:VEVENT
DTSTART;TZID=Europe/Zagreb:20251018T190000
DTEND;TZID=Europe/Zagreb:20251018T220000
DTSTAMP:20260420T013921
CREATED:20251013T052610Z
LAST-MODIFIED:20251013T052610Z
UID:10006824-1760814000-1760824800@dubrovnik.today
SUMMARY:Pričigin na otocima
DESCRIPTION:Mala dvorana Centra za kulturu Korčula\nFestival Pričigin\nUdruga za promicanje kulturnih i umjetničkih aktivnosti Pričigin počela je 2007. godine organizirati Festival pričanja priča Pričigin na tragu suvremenih svjetskih i posebno europskih trendova\, u želji da se u Splitu (i Hrvatskoj) aktivira postojeća kritična masa ljudi\, prije svega istaknuti pojedinci među piscima\, glumcima\, redateljima\, glazbenicima\, obrazovnim radnicima\, izdavačima\, bibliotekarima\, kao i predstavnici drugih profesija (političari\, menadžeri\, ekonomisti\, pravnici…)\, koji bi pridonijeli tom posebnom vidu suvremenog umjetničkog djelovanja.\nPravila Pričigina jednostavna su: svi sudionici svakog programa po desetak minuta pričaju svoju priču na istu\, unaprijed zadanu temu; nema čitanja s drugih pomagala\, samo pripovijedanje pred brojnim auditorijem. I tako četiri do pet dana godišnje\, s najčešće dva tematska programa dnevno\, međusobno različita po temama kao i po pripovjedačima.
URL:https://dubrovnik.today/event/pricigin-na-otocima/
LOCATION:Centar za kulturu Korčula\, Obala korčulanskih brodograditelja bb\, Korčula\, Dubrovačko-neretvanska\, 20260\, Croatia
CATEGORIES:Lecture
ATTACH;FMTTYPE=image/jpeg:https://dubrovnik.today/wp-content/uploads/2025/10/558947735_1324644352788172_202150715245485534_n.jpg
ORGANIZER;CN="Centar za kulturu Kor%C4%8Dula":MAILTO:kultura@kulturakorcula.hr
GEO:42.959521;17.1354128
X-APPLE-STRUCTURED-LOCATION;VALUE=URI;X-ADDRESS=Centar za kulturu Korčula Obala korčulanskih brodograditelja bb Korčula Dubrovačko-neretvanska 20260 Croatia;X-APPLE-RADIUS=500;X-TITLE=Obala korčulanskih brodograditelja bb:geo:17.1354128,42.959521
END:VEVENT
BEGIN:VEVENT
DTSTART;TZID=Europe/Zagreb:20251018T220000
DTEND;TZID=Europe/Zagreb:20251019T020000
DTSTAMP:20260420T013921
CREATED:20251015T065303Z
LAST-MODIFIED:20251015T065303Z
UID:10006846-1760824800-1760839200@dubrovnik.today
SUMMARY:DISKOMOD@VHF Bar Korcula
DESCRIPTION:Ovu subotu nam stižu na otok posljednji prijatelji-gosti ove sezone\, IVANA i BUBI ili kako se zajedno nazivaju — DISKOMOD!\nGlavni krivci za vecinu zanimljivih zbivanja u Dubrovniku posljednjih godina bilo da je rijec o Pirate social clubu\, ex Dubini ili WTF festivalu\, veselimo se kada god dodju u posjetu na otok jer znamo da je od srca!!!\n\n\nVidimo se u subotu\n#vhfbarkorcula
URL:https://dubrovnik.today/event/diskomodvhf-bar-korcula/
LOCATION:VHF Bar Korcula\, Šetalište Frana Kršinića 1\, Korčula\, Dubrovačko-neretvanska\, 20260\, Croatia
CATEGORIES:Music
ATTACH;FMTTYPE=image/jpeg:https://dubrovnik.today/wp-content/uploads/2025/10/566284918_18018036062789728_4088898241901288864_n.jpg
ORGANIZER;CN="VHF Bar Korcula":MAILTO:lostintherenaissance@gmail.com
GEO:42.9586527;17.1353731
X-APPLE-STRUCTURED-LOCATION;VALUE=URI;X-ADDRESS=VHF Bar Korcula Šetalište Frana Kršinića 1 Korčula Dubrovačko-neretvanska 20260 Croatia;X-APPLE-RADIUS=500;X-TITLE=Šetalište Frana Kršinića 1:geo:17.1353731,42.9586527
END:VEVENT
BEGIN:VEVENT
DTSTART;TZID=Europe/Zagreb:20251024T190000
DTEND;TZID=Europe/Zagreb:20251024T203000
DTSTAMP:20260420T013921
CREATED:20251013T052743Z
LAST-MODIFIED:20251013T052743Z
UID:10006825-1761332400-1761337800@dubrovnik.today
SUMMARY:Otvorenje izložbe / Ella Fleš - "Plavi dah Mediterana"
DESCRIPTION:Pozivamo vas na svečano otvorenje izložbe “Plavi dah Mediterana”\, akademske slikarice Elle Fleš u petak\, 24.10. u 19:00 sati u Galeriju Centra za kulturu Korčula.Izložba će se moći razgledati do 9. 11.2025.
URL:https://dubrovnik.today/event/otvorenje-izlozbe-ella-fles-plavi-dah-mediterana/
LOCATION:Centar za kulturu Korčula\, Obala korčulanskih brodograditelja bb\, Korčula\, Dubrovačko-neretvanska\, 20260\, Croatia
CATEGORIES:Exhibition
ATTACH;FMTTYPE=image/jpeg:https://dubrovnik.today/wp-content/uploads/2025/10/557961526_1320979463154661_8779829256621396102_n.jpg
ORGANIZER;CN="Centar za kulturu Kor%C4%8Dula":MAILTO:kultura@kulturakorcula.hr
GEO:42.959521;17.1354128
X-APPLE-STRUCTURED-LOCATION;VALUE=URI;X-ADDRESS=Centar za kulturu Korčula Obala korčulanskih brodograditelja bb Korčula Dubrovačko-neretvanska 20260 Croatia;X-APPLE-RADIUS=500;X-TITLE=Obala korčulanskih brodograditelja bb:geo:17.1354128,42.959521
END:VEVENT
BEGIN:VEVENT
DTSTART;TZID=Europe/Zagreb:20251028T100000
DTEND;TZID=Europe/Zagreb:20251028T130000
DTSTAMP:20260420T013921
CREATED:20251023T135508Z
LAST-MODIFIED:20251023T135508Z
UID:10006966-1761645600-1761656400@dubrovnik.today
SUMMARY:Vela Luka: Besplatna radionica Prvi put lider
DESCRIPTION:Postati lider po prvi put izazov je koji nosi odgovornost\, ali i priliku za osobni i profesionalni rast. Ako ste nedavno postali voditelj tima ili se pripremate za svoju prvu lidersku ulogu\, ova je radionica koju Centar za poduzetništvo DNŽ organizira u suradnji s Poduzetničkim inkubatorom Vela Luka upravo za Vas!\n\n\nRadionicu će voditi Melita Pavlek\, trenerica poslovnih vještina\, NLP coach i mindfulness voditelj. Iza sebe ima niz održanih edukacija\, predavanja i treninga te se posebno specijalizirala za javni nastup i leadership.\n\n\n Datum: 28.10.2025. u 10:00 sati\n Trajanje: 6 sati\n Lokacija: Općinska vijećnica\, Obala 3 br. 19\, Vela Luka\n Ciljna skupina: Novi voditelji\, potencijalni lideri i svi koji žele razvijati osnovne liderske vještine\n\n\n Teme koje obrađujemo:\n• Razlika vođenja i upravljanja – razumijevanje što zapravo znači biti lider\n• Liderski volan – praktični alat za učinkovito vođenje tima\n• Situacijsko vođenje – kako prilagoditi svoj stil ovisno o kontekstu i ljudima\n• Ja kao lider – prepoznavanje vlastitih snaga i razvoj autentičnog liderskog pristupa\n\n\n Nakon radionice\, sudionici će:\n• Razumjeti ključne razlike između upravljanja i vođenja\n• Znati primijeniti “liderski volan” u svakodnevnom radu\n• Naučiti prilagoditi svoj liderski stil različitim situacijama i članovima tima\n\n\n Zašto sudjelovati?\nRadionica je interaktivna\, temeljena na iskustvenom učenju i prilagođena stvarnim izazovima s kojima se novi lideri susreću. Cilj nam je pružiti vam znanje\, alate i samopouzdanje koje možete odmah primijeniti.\n\n\n Prijava i kontakt:\nBroj mjesta je ograničen\, stoga vas molimo da svoje sudjelovanje potvrdite putem:\n https://forms.gle/nUtoVrgdfKrF6kan8\n czp@czp.hr ili poduzetnicki.inkubator@velaluka.hr\n 020/418-401 (Dubrovnik) ili 091/526-0222 (Vela Luka)\n\n\n#centarzapoduzetništvodnž\n#dubrovačkoneretvanskažupanija\n#poduzetničkiinkubatorvelaluka
URL:https://dubrovnik.today/event/vela-luka-besplatna-radionica-prvi-put-lider/
LOCATION:Vela Luka\, Korčula\, Vela Luka\, Dubrovačko-neretvanska\, 20270\, Croatia
CATEGORIES:Workshop
ATTACH;FMTTYPE=image/jpeg:https://dubrovnik.today/wp-content/uploads/2025/10/566220477_1448625533403120_4955245373483657049_n.jpg
ORGANIZER;CN="Centar za poduzetni%C5%A1tvo Dubrova%C4%8Dko-neretvanske %C5%BEupanije":MAILTO:dcp@dcp.hr
GEO:42.9468968;16.71167
END:VEVENT
BEGIN:VEVENT
DTSTART;TZID=Europe/Zagreb:20251031T220000
DTEND;TZID=Europe/Zagreb:20251101T020000
DTSTAMP:20260420T013921
CREATED:20251027T082426Z
LAST-MODIFIED:20251027T082426Z
UID:10006979-1761948000-1761962400@dubrovnik.today
SUMMARY:SEASON closing X HALLOWEEN@VHF Bar Korcula
DESCRIPTION:Summer is over.\n\n\nFriday 31.OCT\nSEASON closing X HALLOWEEN\n\n\nPoster by @em4si\n#vhfbarkorcula #seasonclosing #halloween
URL:https://dubrovnik.today/event/season-closing-x-halloweenvhf-bar-korcula/
LOCATION:VHF Bar Korcula\, Šetalište Frana Kršinića 1\, Korčula\, Dubrovačko-neretvanska\, 20260\, Croatia
CATEGORIES:Music
ATTACH;FMTTYPE=image/jpeg:https://dubrovnik.today/wp-content/uploads/2025/10/573190675_18019289645789728_1544221552846311943_n.jpg
ORGANIZER;CN="VHF Bar Korcula":MAILTO:lostintherenaissance@gmail.com
GEO:42.9586527;17.1353731
X-APPLE-STRUCTURED-LOCATION;VALUE=URI;X-ADDRESS=VHF Bar Korcula Šetalište Frana Kršinića 1 Korčula Dubrovačko-neretvanska 20260 Croatia;X-APPLE-RADIUS=500;X-TITLE=Šetalište Frana Kršinića 1:geo:17.1353731,42.9586527
END:VEVENT
END:VCALENDAR