BEGIN:VCALENDAR
VERSION:2.0
PRODID:-//dbk.life - ECPv6.15.12//NONSGML v1.0//EN
CALSCALE:GREGORIAN
METHOD:PUBLISH
X-ORIGINAL-URL:https://dubrovnik.today
X-WR-CALDESC:Events for dbk.life
REFRESH-INTERVAL;VALUE=DURATION:PT1H
X-Robots-Tag:noindex
X-PUBLISHED-TTL:PT1H
BEGIN:VTIMEZONE
TZID:Europe/Zagreb
BEGIN:DAYLIGHT
TZOFFSETFROM:+0100
TZOFFSETTO:+0200
TZNAME:CEST
DTSTART:20240331T010000
END:DAYLIGHT
BEGIN:STANDARD
TZOFFSETFROM:+0200
TZOFFSETTO:+0100
TZNAME:CET
DTSTART:20241027T010000
END:STANDARD
BEGIN:DAYLIGHT
TZOFFSETFROM:+0100
TZOFFSETTO:+0200
TZNAME:CEST
DTSTART:20250330T010000
END:DAYLIGHT
BEGIN:STANDARD
TZOFFSETFROM:+0200
TZOFFSETTO:+0100
TZNAME:CET
DTSTART:20251026T010000
END:STANDARD
BEGIN:DAYLIGHT
TZOFFSETFROM:+0100
TZOFFSETTO:+0200
TZNAME:CEST
DTSTART:20260329T010000
END:DAYLIGHT
BEGIN:STANDARD
TZOFFSETFROM:+0200
TZOFFSETTO:+0100
TZNAME:CET
DTSTART:20261025T010000
END:STANDARD
END:VTIMEZONE
BEGIN:VEVENT
DTSTART;TZID=Europe/Zagreb:20251220T170000
DTEND;TZID=Europe/Zagreb:20251220T180000
DTSTAMP:20260424T001550
CREATED:20251208T181646Z
LAST-MODIFIED:20251208T181646Z
UID:10007525-1766250000-1766253600@dubrovnik.today
SUMMARY:"Božić zove s one bande"
DESCRIPTION:Pozivamo vas na božićnu predstavu “Božić zove s one bande” koja će se odigrati 20.12.2025. u 17 sati u Kneževom dvoru u Slanomu..Vratite se s nama u prošlost Primorja kada su najbolji pokloni bili naranča i šaka mijendela. Doživite s nama druženja u kominu\, stare igre\, molitve i običaje..Božić zove s one bande.\n 20.12.2025. u 17 satiKnežev dvor\, Slano\nVidimo se!
URL:https://dubrovnik.today/event/bozic-zove-s-one-bande/
LOCATION:Rector’s Palace\, Slano\, Uz dvor 2\, Slano\, 20232\, Croatia
CATEGORIES:Theatre
ATTACH;FMTTYPE=image/jpeg:https://dubrovnik.today/wp-content/uploads/2025/12/597662630_799927353055538_7849415686521528_n.jpg
ORGANIZER;CN="Zavi%C4%8Dajna ku%C4%87a Dubrova%C4%8Dkog primorja/Heritage House Dubrova%C4%8Dko primorje":MAILTO:zavicajnakuca@dubrovackoprimorje.hr
GEO:42.7872022;17.8925994
X-APPLE-STRUCTURED-LOCATION;VALUE=URI;X-ADDRESS=Rector’s Palace Slano Uz dvor 2 Slano 20232 Croatia;X-APPLE-RADIUS=500;X-TITLE=Uz dvor 2:geo:17.8925994,42.7872022
END:VEVENT
END:VCALENDAR