BEGIN:VCALENDAR
VERSION:2.0
PRODID:-//dbk.life - ECPv6.15.12//NONSGML v1.0//EN
CALSCALE:GREGORIAN
METHOD:PUBLISH
X-WR-CALNAME:dbk.life
X-ORIGINAL-URL:https://dubrovnik.today
X-WR-CALDESC:Events for dbk.life
REFRESH-INTERVAL;VALUE=DURATION:PT1H
X-Robots-Tag:noindex
X-PUBLISHED-TTL:PT1H
BEGIN:VTIMEZONE
TZID:Europe/Zagreb
BEGIN:DAYLIGHT
TZOFFSETFROM:+0100
TZOFFSETTO:+0200
TZNAME:CEST
DTSTART:20240331T010000
END:DAYLIGHT
BEGIN:STANDARD
TZOFFSETFROM:+0200
TZOFFSETTO:+0100
TZNAME:CET
DTSTART:20241027T010000
END:STANDARD
BEGIN:DAYLIGHT
TZOFFSETFROM:+0100
TZOFFSETTO:+0200
TZNAME:CEST
DTSTART:20250330T010000
END:DAYLIGHT
BEGIN:STANDARD
TZOFFSETFROM:+0200
TZOFFSETTO:+0100
TZNAME:CET
DTSTART:20251026T010000
END:STANDARD
BEGIN:DAYLIGHT
TZOFFSETFROM:+0100
TZOFFSETTO:+0200
TZNAME:CEST
DTSTART:20260329T010000
END:DAYLIGHT
BEGIN:STANDARD
TZOFFSETFROM:+0200
TZOFFSETTO:+0100
TZNAME:CET
DTSTART:20261025T010000
END:STANDARD
END:VTIMEZONE
BEGIN:VEVENT
DTSTART;TZID=Europe/Zagreb:20251130T190000
DTEND;TZID=Europe/Zagreb:20251130T203000
DTSTAMP:20260420T040505
CREATED:20251124T140711Z
LAST-MODIFIED:20251124T140711Z
UID:10007322-1764529200-1764534600@dubrovnik.today
SUMMARY:Zatvaranje 19. festivala "Glazba i Riječ"
DESCRIPTION:30. studenog 2025. u 19h\nDom kulture Cavtat\n\n\nZatvaranje 19. festivala “Glazba i Riječ”\nUdruga Konavle Art\n\n\nKoncert za djecu\, mlade i obitelj\n\n\nC. SAINT SAENS : KARNEVAL ŽIVOTINJA\n\n\nKomorni sastav Konavle Art\nSlobodan Begić\, dirigent\nSrđana Šimunović\, dramska prvakinja\, pripovjedačica\n\n\nUlaz slobodan\n\n\nDizajn plakata napravila je Laura Papac\, učenica slikarskog odjela Umjetničke škole Luke Sorkočevića pod mentorstvom prof. Mara Krile
URL:https://dubrovnik.today/event/zatvaranje-19-festivala-glazba-i-rijec/
LOCATION:Cavtat\, Dom kulture\, Obala A. Starčevića 20\, Cavtat\, Dubrovačko-neretvanska\, 20210\, Croatia
CATEGORIES:Music
ATTACH;FMTTYPE=image/jpeg:https://dubrovnik.today/wp-content/uploads/2025/11/586047339_1306190498210734_8953398840296497275_n.jpg
ORGANIZER;CN="Glazba i rije%C4%8D":MAILTO:matija.konavle@gmail.com
GEO:42.5836718;18.2152485
X-APPLE-STRUCTURED-LOCATION;VALUE=URI;X-ADDRESS=Cavtat Dom kulture Obala A. Starčevića 20 Cavtat Dubrovačko-neretvanska 20210 Croatia;X-APPLE-RADIUS=500;X-TITLE=Obala A. Starčevića 20:geo:18.2152485,42.5836718
END:VEVENT
END:VCALENDAR