BEGIN:VCALENDAR
VERSION:2.0
PRODID:-//dbk.life - ECPv6.15.12//NONSGML v1.0//EN
CALSCALE:GREGORIAN
METHOD:PUBLISH
X-WR-CALNAME:dbk.life
X-ORIGINAL-URL:https://dubrovnik.today
X-WR-CALDESC:Events for dbk.life
REFRESH-INTERVAL;VALUE=DURATION:PT1H
X-Robots-Tag:noindex
X-PUBLISHED-TTL:PT1H
BEGIN:VTIMEZONE
TZID:Europe/Zagreb
BEGIN:DAYLIGHT
TZOFFSETFROM:+0100
TZOFFSETTO:+0200
TZNAME:CEST
DTSTART:20240331T010000
END:DAYLIGHT
BEGIN:STANDARD
TZOFFSETFROM:+0200
TZOFFSETTO:+0100
TZNAME:CET
DTSTART:20241027T010000
END:STANDARD
BEGIN:DAYLIGHT
TZOFFSETFROM:+0100
TZOFFSETTO:+0200
TZNAME:CEST
DTSTART:20250330T010000
END:DAYLIGHT
BEGIN:STANDARD
TZOFFSETFROM:+0200
TZOFFSETTO:+0100
TZNAME:CET
DTSTART:20251026T010000
END:STANDARD
BEGIN:DAYLIGHT
TZOFFSETFROM:+0100
TZOFFSETTO:+0200
TZNAME:CEST
DTSTART:20260329T010000
END:DAYLIGHT
BEGIN:STANDARD
TZOFFSETFROM:+0200
TZOFFSETTO:+0100
TZNAME:CET
DTSTART:20261025T010000
END:STANDARD
END:VTIMEZONE
BEGIN:VEVENT
DTSTART;TZID=Europe/Zagreb:20251122T190000
DTEND;TZID=Europe/Zagreb:20251122T213000
DTSTAMP:20260420T055641
CREATED:20251121T074856Z
LAST-MODIFIED:20251121T074856Z
UID:10007300-1763838000-1763847000@dubrovnik.today
SUMMARY:Klapa Ortenca - koncert
DESCRIPTION:Povodom prve godišnjice djelovanja\, ženska Klapa Ortenca priređuje svečani večernji koncert koji donosi bogat izbor tradicijskih dalmatinskih klapskih pjesama s područja Konavala i dubrovačkoga kraja\, uz suvremene obrade prilagođene klapskom izričaju. Na pozornici će im se pridružiti i gosti – klapski i folklorni izvođači – dodatno obogaćujući glazbeni doživljaj i naglašavajući važnost očuvanja kulturne baštine. Manifestacija je posvećena promociji tradicijske glazbe\, razvoju kulturnog turizma i osnaživanju lokalne klapske scene\, a publici nudi autentičan susret s glazbenim identitetom juga Hrvatske.\nVidimo se!
URL:https://dubrovnik.today/event/klapa-ortenca-koncert/
LOCATION:Cavtat\, Dom kulture\, Obala A. Starčevića 20\, Cavtat\, Dubrovačko-neretvanska\, 20210\, Croatia
CATEGORIES:Music
ATTACH;FMTTYPE=image/jpeg:https://dubrovnik.today/wp-content/uploads/2025/11/585882303_1530921685146618_6661396274097500777_n.jpg
GEO:42.5836718;18.2152485
X-APPLE-STRUCTURED-LOCATION;VALUE=URI;X-ADDRESS=Cavtat Dom kulture Obala A. Starčevića 20 Cavtat Dubrovačko-neretvanska 20210 Croatia;X-APPLE-RADIUS=500;X-TITLE=Obala A. Starčevića 20:geo:18.2152485,42.5836718
END:VEVENT
END:VCALENDAR