BEGIN:VCALENDAR
VERSION:2.0
PRODID:-//dbk.life - ECPv6.15.12//NONSGML v1.0//EN
CALSCALE:GREGORIAN
METHOD:PUBLISH
X-WR-CALNAME:dbk.life
X-ORIGINAL-URL:https://dubrovnik.today
X-WR-CALDESC:Events for dbk.life
REFRESH-INTERVAL;VALUE=DURATION:PT1H
X-Robots-Tag:noindex
X-PUBLISHED-TTL:PT1H
BEGIN:VTIMEZONE
TZID:Europe/Zagreb
BEGIN:DAYLIGHT
TZOFFSETFROM:+0100
TZOFFSETTO:+0200
TZNAME:CEST
DTSTART:20240331T010000
END:DAYLIGHT
BEGIN:STANDARD
TZOFFSETFROM:+0200
TZOFFSETTO:+0100
TZNAME:CET
DTSTART:20241027T010000
END:STANDARD
BEGIN:DAYLIGHT
TZOFFSETFROM:+0100
TZOFFSETTO:+0200
TZNAME:CEST
DTSTART:20250330T010000
END:DAYLIGHT
BEGIN:STANDARD
TZOFFSETFROM:+0200
TZOFFSETTO:+0100
TZNAME:CET
DTSTART:20251026T010000
END:STANDARD
BEGIN:DAYLIGHT
TZOFFSETFROM:+0100
TZOFFSETTO:+0200
TZNAME:CEST
DTSTART:20260329T010000
END:DAYLIGHT
BEGIN:STANDARD
TZOFFSETFROM:+0200
TZOFFSETTO:+0100
TZNAME:CET
DTSTART:20261025T010000
END:STANDARD
END:VTIMEZONE
BEGIN:VEVENT
DTSTART;TZID=Europe/Zagreb:20251115T100000
DTEND;TZID=Europe/Zagreb:20251115T120000
DTSTAMP:20260420T040511
CREATED:20251113T063316Z
LAST-MODIFIED:20251113T063316Z
UID:10007149-1763200800-1763208000@dubrovnik.today
SUMMARY:ARHEO POP-UP
DESCRIPTION:Arheološki lokalitet Rat\, Cavtat\n Subota\, 15. 11. 2025. od 10 sati\n\n\nU sklopu izložbenog ciklusa “Novootkriveni Epidaur”\, na arheološkom lokalitetu Rat održat će se privremeni pop-up muzej na otvorenom.\nArheo pop-up na Ratu donosi novootkrivene nalaze i interpretacije vezane za antički Epidaurum\, rimsku koloniju čije se nasljeđe još uvijek otkriva iz slojeva zemlje. \n\n\nPosjetitelji će imati priliku upoznati se s tijekom aktualnih arheoloških istraživanja\, pratiti proces otkrivanja i dokumentiranja povijesnih slojeva\, te iz prve ruke doživjeti kako se prošlost antičkog grada postupno vraća u suvremeni prostor Cavtata.\n\n\nDođite\, pitajte\, promatrajte – tragovi cavtatske povijesti otkrivaju se pred vašim očima! \n\n\nDizajn: Lav Turski\n\n\n#popup #arheologija #rat #cavtat #epidaur
URL:https://dubrovnik.today/event/arheo-pop-up/
LOCATION:Cavtat\, Trumbićev put\, Cavtat\, Dubrovačko-neretvanska\, 20210\, Croatia
CATEGORIES:Lecture
ATTACH;FMTTYPE=image/jpeg:https://dubrovnik.today/wp-content/uploads/2025/11/579504808_1512478370387246_803818785847325596_n.jpg
ORGANIZER;CN="Muzeji i galerije Konavala":MAILTO:http://www.migk.hr/
GEO:42.5804044;18.2168965
X-APPLE-STRUCTURED-LOCATION;VALUE=URI;X-ADDRESS=Cavtat Trumbićev put Cavtat Dubrovačko-neretvanska 20210 Croatia;X-APPLE-RADIUS=500;X-TITLE=Trumbićev put:geo:18.2168965,42.5804044
END:VEVENT
END:VCALENDAR