BEGIN:VCALENDAR
VERSION:2.0
PRODID:-//dbk.life - ECPv6.15.12//NONSGML v1.0//EN
CALSCALE:GREGORIAN
METHOD:PUBLISH
X-WR-CALNAME:dbk.life
X-ORIGINAL-URL:https://dubrovnik.today
X-WR-CALDESC:Events for dbk.life
REFRESH-INTERVAL;VALUE=DURATION:PT1H
X-Robots-Tag:noindex
X-PUBLISHED-TTL:PT1H
BEGIN:VTIMEZONE
TZID:Europe/Zagreb
BEGIN:DAYLIGHT
TZOFFSETFROM:+0100
TZOFFSETTO:+0200
TZNAME:CEST
DTSTART:20250330T010000
END:DAYLIGHT
BEGIN:STANDARD
TZOFFSETFROM:+0200
TZOFFSETTO:+0100
TZNAME:CET
DTSTART:20251026T010000
END:STANDARD
BEGIN:DAYLIGHT
TZOFFSETFROM:+0100
TZOFFSETTO:+0200
TZNAME:CEST
DTSTART:20260329T010000
END:DAYLIGHT
BEGIN:STANDARD
TZOFFSETFROM:+0200
TZOFFSETTO:+0100
TZNAME:CET
DTSTART:20261025T010000
END:STANDARD
BEGIN:DAYLIGHT
TZOFFSETFROM:+0100
TZOFFSETTO:+0200
TZNAME:CEST
DTSTART:20270328T010000
END:DAYLIGHT
BEGIN:STANDARD
TZOFFSETFROM:+0200
TZOFFSETTO:+0100
TZNAME:CET
DTSTART:20271031T010000
END:STANDARD
END:VTIMEZONE
BEGIN:VEVENT
DTSTART;TZID=Europe/Zagreb:20260424T100000
DTEND;TZID=Europe/Zagreb:20260424T210000
DTSTAMP:20260421T195936
CREATED:20260421T133545Z
LAST-MODIFIED:20260421T133545Z
UID:10008864-1777024800-1777064400@dubrovnik.today
SUMMARY:KONAVOSKI KRUG – Festival održivog življenja
DESCRIPTION:Općina Konavle i Centar za poduzetništvo DNŽ organiziraju manifestaciju „KONAVOSKI KRUG – Festival održivog življenja“ (pilot-akcija)\, koja se održava u Konavlima u petak i subotu 24. i 25 travnja. Na više lokacija organizirane su različite aktivnosti koje povezuju tradiciju s modernim konceptima kružne ekonomije\, educiraju građane i osnažuju lokalne proizvođače. Svrha manifestacije je pokazati kako kružna ekonomija nije samo teorijski koncept\, već praktičan način življenja koji čuva resurse i osigurava bolju budućnost za Konavle.\nPrvi dan festivala posvećen je radionicama\, stručnim predavanjima i panel-raspravama u kojima će sudjelovati djeca\, poljoprivrednici\, poduzetnici i predstavnici lokalnih vlasti. Za predškolce su pripremljene edukativne radionice kojima se djeci\, kroz igru i kreativan rad\, usađuje ekološka svijest i ljubav prema prirodi. Odrasli će se upoznati s osnovama permakulture i permakulturnog vrtlarenja. Za lokalne ugostitelje organiziran je kulinarski show na kojem će kuhari demonstrirati pripremu vrhunskih jela od namirnica koje se u ugostiteljstvu najčešće bacaju\, promovirajući zero-waste filozofiju u prehrani. Kroz predavanje i panel-raspravu sudionicima će se približiti inovativne tehnologije kojima je moguće otpad od maslina i grožđa iskoristiti za proizvodnju energije i gnojiva.\nDrugi dan festivala rezerviran je za sajam autohtonih proizvoda na kojem će konavoski proizvođači predstaviti svoje najbolje plodove i rukotvorine. Time želimo promovirati kratke opskrbne lance kao još jednu od ključnih kružnih praksi. Festival završava radionicom kojom se žele potaknuti kućanstva na pravilno kompostiranje kako bi se smanjio biootpad i proizvelo vlastito prirodno gnojivo.\nManifestacije se održava u okviru projekta CIRCUS\, koji se fokusira na izazove s kojima se suočavaju obalne zajednice u regiji ADRION\, a financira se iz IPA Adriatic Ionian programa Europske unije. Projekt uključuje vodećeg partnera\, Mediteranski agronomski institut u Bariju (CIHEAM Bari) te uz Općinu Konavle i Centar za poduzetništvo Dubrovačko-neretvanske županije još sedam partnera iz lokalnih tijela\, istraživačkih ustanova i organizacija za podršku poduzetništvu. \nNa sljedećoj poveznici možete pronaći Program manifestacije kao i poveznice za prijavu na prateće radionice i događanja. \nProgram manifestacije Konavoski krug
URL:https://dubrovnik.today/event/konavoski-krug-festival-odrzivog-zivljenja/2026-04-24/
LOCATION:Cavtat\, Trumbićev put\, Cavtat\, Dubrovačko-neretvanska\, 20210\, Croatia
ATTACH;FMTTYPE=image/jpeg:https://dubrovnik.today/wp-content/uploads/2026/04/konavoski-krug-ilustracija.jpg
ORGANIZER;CN="Op%C4%87ina Konavle":MAILTO:info@opcinakonavle.hr
GEO:42.5804044;18.2168965
X-APPLE-STRUCTURED-LOCATION;VALUE=URI;X-ADDRESS=Cavtat Trumbićev put Cavtat Dubrovačko-neretvanska 20210 Croatia;X-APPLE-RADIUS=500;X-TITLE=Trumbićev put:geo:18.2168965,42.5804044
END:VEVENT
BEGIN:VEVENT
DTSTART;TZID=Europe/Zagreb:20260425T150000
DTEND;TZID=Europe/Zagreb:20260425T200000
DTSTAMP:20260421T195936
CREATED:20260421T133545Z
LAST-MODIFIED:20260421T133545Z
UID:10008865-1777129200-1777147200@dubrovnik.today
SUMMARY:KONAVOSKI KRUG – Festival održivog življenja
DESCRIPTION:Općina Konavle i Centar za poduzetništvo DNŽ organiziraju manifestaciju „KONAVOSKI KRUG – Festival održivog življenja“ (pilot-akcija)\, koja se održava u Konavlima u petak i subotu 24. i 25 travnja. Na više lokacija organizirane su različite aktivnosti koje povezuju tradiciju s modernim konceptima kružne ekonomije\, educiraju građane i osnažuju lokalne proizvođače. Svrha manifestacije je pokazati kako kružna ekonomija nije samo teorijski koncept\, već praktičan način življenja koji čuva resurse i osigurava bolju budućnost za Konavle.\nPrvi dan festivala posvećen je radionicama\, stručnim predavanjima i panel-raspravama u kojima će sudjelovati djeca\, poljoprivrednici\, poduzetnici i predstavnici lokalnih vlasti. Za predškolce su pripremljene edukativne radionice kojima se djeci\, kroz igru i kreativan rad\, usađuje ekološka svijest i ljubav prema prirodi. Odrasli će se upoznati s osnovama permakulture i permakulturnog vrtlarenja. Za lokalne ugostitelje organiziran je kulinarski show na kojem će kuhari demonstrirati pripremu vrhunskih jela od namirnica koje se u ugostiteljstvu najčešće bacaju\, promovirajući zero-waste filozofiju u prehrani. Kroz predavanje i panel-raspravu sudionicima će se približiti inovativne tehnologije kojima je moguće otpad od maslina i grožđa iskoristiti za proizvodnju energije i gnojiva.\nDrugi dan festivala rezerviran je za sajam autohtonih proizvoda na kojem će konavoski proizvođači predstaviti svoje najbolje plodove i rukotvorine. Time želimo promovirati kratke opskrbne lance kao još jednu od ključnih kružnih praksi. Festival završava radionicom kojom se žele potaknuti kućanstva na pravilno kompostiranje kako bi se smanjio biootpad i proizvelo vlastito prirodno gnojivo.\nManifestacije se održava u okviru projekta CIRCUS\, koji se fokusira na izazove s kojima se suočavaju obalne zajednice u regiji ADRION\, a financira se iz IPA Adriatic Ionian programa Europske unije. Projekt uključuje vodećeg partnera\, Mediteranski agronomski institut u Bariju (CIHEAM Bari) te uz Općinu Konavle i Centar za poduzetništvo Dubrovačko-neretvanske županije još sedam partnera iz lokalnih tijela\, istraživačkih ustanova i organizacija za podršku poduzetništvu. \nNa sljedećoj poveznici možete pronaći Program manifestacije kao i poveznice za prijavu na prateće radionice i događanja. \nProgram manifestacije Konavoski krug
URL:https://dubrovnik.today/event/konavoski-krug-festival-odrzivog-zivljenja/2026-04-25/
LOCATION:Cavtat\, Trumbićev put\, Cavtat\, Dubrovačko-neretvanska\, 20210\, Croatia
ATTACH;FMTTYPE=image/jpeg:https://dubrovnik.today/wp-content/uploads/2026/04/konavoski-krug-ilustracija.jpg
ORGANIZER;CN="Op%C4%87ina Konavle":MAILTO:info@opcinakonavle.hr
GEO:42.5804044;18.2168965
X-APPLE-STRUCTURED-LOCATION;VALUE=URI;X-ADDRESS=Cavtat Trumbićev put Cavtat Dubrovačko-neretvanska 20210 Croatia;X-APPLE-RADIUS=500;X-TITLE=Trumbićev put:geo:18.2168965,42.5804044
END:VEVENT
END:VCALENDAR