BEGIN:VCALENDAR
VERSION:2.0
PRODID:-//dbk.life - ECPv6.15.12//NONSGML v1.0//EN
CALSCALE:GREGORIAN
METHOD:PUBLISH
X-WR-CALNAME:dbk.life
X-ORIGINAL-URL:https://dubrovnik.today
X-WR-CALDESC:Events for dbk.life
REFRESH-INTERVAL;VALUE=DURATION:PT1H
X-Robots-Tag:noindex
X-PUBLISHED-TTL:PT1H
BEGIN:VTIMEZONE
TZID:Europe/Zagreb
BEGIN:DAYLIGHT
TZOFFSETFROM:+0100
TZOFFSETTO:+0200
TZNAME:CEST
DTSTART:20240331T010000
END:DAYLIGHT
BEGIN:STANDARD
TZOFFSETFROM:+0200
TZOFFSETTO:+0100
TZNAME:CET
DTSTART:20241027T010000
END:STANDARD
BEGIN:DAYLIGHT
TZOFFSETFROM:+0100
TZOFFSETTO:+0200
TZNAME:CEST
DTSTART:20250330T010000
END:DAYLIGHT
BEGIN:STANDARD
TZOFFSETFROM:+0200
TZOFFSETTO:+0100
TZNAME:CET
DTSTART:20251026T010000
END:STANDARD
BEGIN:DAYLIGHT
TZOFFSETFROM:+0100
TZOFFSETTO:+0200
TZNAME:CEST
DTSTART:20260329T010000
END:DAYLIGHT
BEGIN:STANDARD
TZOFFSETFROM:+0200
TZOFFSETTO:+0100
TZNAME:CET
DTSTART:20261025T010000
END:STANDARD
END:VTIMEZONE
BEGIN:VEVENT
DTSTART;TZID=Europe/Zagreb:20251024T190000
DTEND;TZID=Europe/Zagreb:20251024T203000
DTSTAMP:20260422T111521
CREATED:20251013T052743Z
LAST-MODIFIED:20251013T052743Z
UID:10006825-1761332400-1761337800@dubrovnik.today
SUMMARY:Otvorenje izložbe / Ella Fleš - "Plavi dah Mediterana"
DESCRIPTION:Pozivamo vas na svečano otvorenje izložbe “Plavi dah Mediterana”\, akademske slikarice Elle Fleš u petak\, 24.10. u 19:00 sati u Galeriju Centra za kulturu Korčula.Izložba će se moći razgledati do 9. 11.2025.
URL:https://dubrovnik.today/event/otvorenje-izlozbe-ella-fles-plavi-dah-mediterana/
LOCATION:Centar za kulturu Korčula\, Obala korčulanskih brodograditelja bb\, Korčula\, Dubrovačko-neretvanska\, 20260\, Croatia
CATEGORIES:Exhibition
ATTACH;FMTTYPE=image/jpeg:https://dubrovnik.today/wp-content/uploads/2025/10/557961526_1320979463154661_8779829256621396102_n.jpg
ORGANIZER;CN="Centar za kulturu Kor%C4%8Dula":MAILTO:kultura@kulturakorcula.hr
GEO:42.959521;17.1354128
X-APPLE-STRUCTURED-LOCATION;VALUE=URI;X-ADDRESS=Centar za kulturu Korčula Obala korčulanskih brodograditelja bb Korčula Dubrovačko-neretvanska 20260 Croatia;X-APPLE-RADIUS=500;X-TITLE=Obala korčulanskih brodograditelja bb:geo:17.1354128,42.959521
END:VEVENT
BEGIN:VEVENT
DTSTART;TZID=Europe/Zagreb:20251024T200000
DTEND;TZID=Europe/Zagreb:20251024T213000
DTSTAMP:20260422T111521
CREATED:20251017T063628Z
LAST-MODIFIED:20251017T063628Z
UID:10006872-1761336000-1761341400@dubrovnik.today
SUMMARY:Ljudski glas / Faunovo poslijepodne
DESCRIPTION:Ljudski glas / Faunovo poslijepodne\, suradnja s Dubrovačkim simfonijskim orkestrom \nProjekt Paola Tišljarića i Mile Pavićević\, nastao u suradnji s Dubravkom Šeparović\, Sergiu Matisom i Martinom Hansenom\, polazi od dva ključna umjetnička djela s početka 20. stoljeća – Cocteauovog i Poulencovog Ljudskog glasa te Debussyjevog Faunovo poslijepodne. U njihovom zajedničkom čitanju ovi se klasici promatraju ne samo kao estetski i povijesni orijentiri\, već i kao otkrivanje pukotina moderniteta: alijenacije\, samoće i nemogućnosti uspostavljanja ljudskog odnosa u vremenu koje je slavilo “progres\,” inovaciju i početke neoliberalizma\, ali istodobno započelo rasap ljudske subjektivnosti. Dramaturgija projekta vodi publiku od opernog Ljudskog glasa u interpretaciji Dubravke Šeparović\, preko modernističkog baleta u suvremenoj plesnoj interpretaciji Sergiua Matisa i Martina Hansena\, pa sve do poezije Mile Pavićević u izvedbi Doriana Vicića\, gdje se glas i tijelo stapaju s jezikom današnjeg društva i njegovih fragmenata komunikacije. \nJean Cocteau / Francis Poulenc – Ljudski glas (La Voix humaine)\nCocteauov Ljudski glas iz 1930. monodrama je u kojoj jedna žena\, kroz telefonski razgovor s ljubavnikom koji je napušta\, razotkriva intimu svoje samoće i nemoći. Francis Poulenc 1958. pretvara tekst u operu\, praizvedenu 1959. u pariškoj Opéra-Comique\, posvećenu sopranistici Denise Duval. U ovom djelu glas postaje jedino oruđe – most prema drugome\, ali i mjesto loma\, fragmentacije i krajnje ranjivosti. Prekidi veze\, šumovi i tišine pojačavaju osjećaj izolacije\, a Poulencova glazba vodi od šapata do krika\, od nježnosti do očaja. U ovoj interpretaciji postaje relativno nebitno tko je s druge strane telefona\, njezin glas kao izolirano tijelo u prostoru postaje jedino mjerilo realnosti. \nClaude Debussy – Faunovo poslijepodne (Prélude à l’après-midi d’un faune)\nDebussyjevo Faunovo poslijepodne\, skladano 1894. i nadahnuto poemom Stéphanea Mallarméa\, otvara svijet senzualnih i snovitih stanja\, lebdećih između jave i sna. Premijerno izvedeno u Parizu\, ovo djelo postalo je simbol glazbenog impresionizma i prekretnica europske glazbe na prijelazu stoljeća. Prepoznatljiv uvodni solo flaute uvodi publiku u intimni prostor čežnje i imaginacije. Njegova povezanost s plesom\, osobito kroz skandaloznu koreografiju Vaclava Nižinskog za Ballets Russes iz 1912.\, učvrstila je mjesto ovog djela kao ishodišta modernog baleta. U današnjoj plesnoj interpretaciji Sergiua Matisa i Martina Hansena\, Faun postaje minuli simbol krhkosti tijela i kolektivne imaginacije\, a priroda koja je prisutna u orignalu kao mjesto čežnje i ljepote\, ovdje je ogoljena\, razorena i svedena na hladni mizanscen kazališta. \nNa sjecištu ova dva djela – između glasa i tijela\, monologa i sna\, krika i šapata – projekt otvara pitanja o ulozi umjetnosti\, posebno progresivne modernističke umjetnosti\, u današnjem društvu obilježenom rasapom komunikacije i fragmentacijom ljudske subjektivnosti.
URL:https://dubrovnik.today/event/ljudski-glas-faunovo-poslijepodne/2025-10-24/
LOCATION:Kazalište Marina Držića\, Pred Dvorom 3\, Dubrovnik\, 20000\, Croatia
CATEGORIES:Theatre
ATTACH;FMTTYPE=image/jpeg:https://dubrovnik.today/wp-content/uploads/2025/10/Capdeeature.jpg
ORGANIZER;CN="Kazali%C5%A1te Marina Dr%C5%BEi%C4%87a":MAILTO:press@kmd.hr
GEO:42.6403741;18.1107474
X-APPLE-STRUCTURED-LOCATION;VALUE=URI;X-ADDRESS=Kazalište Marina Držića Pred Dvorom 3 Dubrovnik 20000 Croatia;X-APPLE-RADIUS=500;X-TITLE=Pred Dvorom 3:geo:18.1107474,42.6403741
END:VEVENT
BEGIN:VEVENT
DTSTART;TZID=Europe/Zagreb:20251024T203000
DTEND;TZID=Europe/Zagreb:20251024T223000
DTSTAMP:20260422T111521
CREATED:20251022T053112Z
LAST-MODIFIED:20251022T053112Z
UID:10006933-1761337800-1761345000@dubrovnik.today
SUMMARY:ODUVIJEK TI / Regretting you
DESCRIPTION:Redatelj filma Krive su zvijezde donosi emotivnu ekranizaciju romana Colleen Hoover\, autorice svjetskog bestselera Priča završava s nama – priču o prvim ljubavima\, gubitku i slomljenim odnosima koje nije lako zaliječiti. Nakon izdaje koja im razori svijet\, Morgan i Clara suočavaju se s pitanjem: može li ljubav zaista ponovno izgraditi ono što je nepovratno izgubljeno? Ovo je intimna i dirljiva drama o majci i kćeri koje razdiru pogreške prošlosti\, neizgovorene istine i borba za razumijevanje — prije nego što postane prekasno. Morgan je odlučna spriječiti svoju kćer Claru da ne ponovi njezine vlastite pogreške: preranu trudnoću i brak koji ju je koštao osobnih snova. No Clara odbija slijediti majčin put\, a napetost između njih sve više raste. Kada Chris — suprug i otac\, oslonac obje žene — strada u iznenadnoj i tragičnoj nesreći\, njihova se obitelj raspada. Dok Morgan utjehu pronalazi tamo gdje se najmanje nadala\, Clara se okreće dečku kojeg joj je majka zabranila. Tajne\, zamjeranja i neizrečene emocije prijete da ih zauvijek razdvoje.
URL:https://dubrovnik.today/event/oduvijek-ti-regretting-you-2/2025-10-24/
LOCATION:Kino Sloboda\, Luža 66\, Dubrovnik\, Dubrovačko-neretvanska\, 20000\, Croatia
CATEGORIES:Cinema
ATTACH;FMTTYPE=image/jpeg:https://dubrovnik.today/wp-content/uploads/2025/10/1920X1080_REGRETTING_YOU_HR.jpg
ORGANIZER;CN="Kinematografi Dubrovnik":MAILTO:operater@kinematografi.org
GEO:42.6409105;18.1101717
X-APPLE-STRUCTURED-LOCATION;VALUE=URI;X-ADDRESS=Kino Sloboda Luža 66 Dubrovnik Dubrovačko-neretvanska 20000 Croatia;X-APPLE-RADIUS=500;X-TITLE=Luža 66:geo:18.1101717,42.6409105
END:VEVENT
BEGIN:VEVENT
DTSTART;TZID=Europe/Zagreb:20251024T203000
DTEND;TZID=Europe/Zagreb:20251024T223000
DTSTAMP:20260422T111521
CREATED:20251017T060027Z
LAST-MODIFIED:20251022T053729Z
UID:10006948-1761337800-1761345000@dubrovnik.today
SUMMARY:LOPOV S KROVA / Roofman
DESCRIPTION:Temeljen na nevjerojatnoj istinitoj priči\, Lopov s krova (Roofman) prati Jeffreyja Manchestera (Channing Tatum)\, vojnog veterana i oca u problemima koji se okreće pljački McDonald’sovih restorana režući rupe u njihovim krovovima\, zaradivši nadimak: Lopov s krova (Roofman). Nakon što pobjegne iz zatvora\, šest mjeseci tajno živi u trgovini Toys “R” Us\, preživljavajući neotkriven dok planira svoj sljedeći potez. Ali kada se zaljubi u Leigh (Kirsten Dunst)\, razvedenu majku privučenu njegovim neospornim šarmom\, njegov dvostruki život počinje se raspetljavati\, pokrećući uvjerljivu i napetu igru mačke i miša dok se njegova prošlost zatvara.
URL:https://dubrovnik.today/event/lopov-s-krova-roofman/2025-10-24/
LOCATION:Kino dvorana Visia\, Poljana Paska Miličevića 3\, Dubrovnik\, 20000\, Croatia
CATEGORIES:Cinema
ATTACH;FMTTYPE=image/jpeg:https://dubrovnik.today/wp-content/uploads/2025/10/ROOFMAN-1180x250px-OSTALO.jpg
ORGANIZER;CN="Kinematografi Dubrovnik":MAILTO:operater@kinematografi.org
GEO:42.6414431;18.1071797
X-APPLE-STRUCTURED-LOCATION;VALUE=URI;X-ADDRESS=Kino dvorana Visia Poljana Paska Miličevića 3 Dubrovnik 20000 Croatia;X-APPLE-RADIUS=500;X-TITLE=Poljana Paska Miličevića 3:geo:18.1071797,42.6414431
END:VEVENT
END:VCALENDAR