BEGIN:VCALENDAR
VERSION:2.0
PRODID:-//dbk.life - ECPv6.15.12//NONSGML v1.0//EN
CALSCALE:GREGORIAN
METHOD:PUBLISH
X-WR-CALNAME:dbk.life
X-ORIGINAL-URL:https://dubrovnik.today
X-WR-CALDESC:Events for dbk.life
REFRESH-INTERVAL;VALUE=DURATION:PT1H
X-Robots-Tag:noindex
X-PUBLISHED-TTL:PT1H
BEGIN:VTIMEZONE
TZID:Europe/Zagreb
BEGIN:DAYLIGHT
TZOFFSETFROM:+0100
TZOFFSETTO:+0200
TZNAME:CEST
DTSTART:20240331T010000
END:DAYLIGHT
BEGIN:STANDARD
TZOFFSETFROM:+0200
TZOFFSETTO:+0100
TZNAME:CET
DTSTART:20241027T010000
END:STANDARD
BEGIN:DAYLIGHT
TZOFFSETFROM:+0100
TZOFFSETTO:+0200
TZNAME:CEST
DTSTART:20250330T010000
END:DAYLIGHT
BEGIN:STANDARD
TZOFFSETFROM:+0200
TZOFFSETTO:+0100
TZNAME:CET
DTSTART:20251026T010000
END:STANDARD
BEGIN:DAYLIGHT
TZOFFSETFROM:+0100
TZOFFSETTO:+0200
TZNAME:CEST
DTSTART:20260329T010000
END:DAYLIGHT
BEGIN:STANDARD
TZOFFSETFROM:+0200
TZOFFSETTO:+0100
TZNAME:CET
DTSTART:20261025T010000
END:STANDARD
END:VTIMEZONE
BEGIN:VEVENT
DTSTART;TZID=Europe/Zagreb:20251023T200000
DTEND;TZID=Europe/Zagreb:20251023T220000
DTSTAMP:20260420T103033
CREATED:20251001T093401Z
LAST-MODIFIED:20251001T093401Z
UID:10006724-1761249600-1761256800@dubrovnik.today
SUMMARY:METKOVIĆ: Dupla Doza - Stand Up Comedy spektakl - Goran Vinčić i Marko Dejanović
DESCRIPTION:U četvrtak 23.10. od 20h u GKS Metković stiže najluđi stand up comedy show na Blakanu “Dupla Doza” Gorana Vinčića i Marka Dejanovića.\nCijena ulaznice:Redovna ulaznica 12€Ulaznica 7 dana do izvedbe izvedbe 15€\nONLINE PRODAJA ULAYNICA: https://www.entrio.hr/…/metkovic-dupla-doza-goran…FIZIČKA PRODAJA ULAZNICA: entrio.hr prodajna mjesta\nDolaze energični Slavonac Goran Vinčić i brutalno iskreni Bosanac Marko Dejanović sa svojim jedinstvenim showom #DuplaDoza\, najopuštenijim i “najluđim” stand up showom u Hrvatskoj.Dupla Doza\, stand up comedy show by Goran Vinčić i Marko Dejanović je za Hrvatsku jedinstveni show\, show pun spontanosti\, dinamike i improvizacija. Oba komičara svo vrijeme su na pozornici\, a nemaju pripremljeni “scenarij”\, nego puštaju da ih međusobni razgovor i razgovor s publikom vodi u tome što će pričati. To na kraju rezultira potpuno opuštenom atmosferom u kojoj je svaka izvedba jedinstvena.\nO KOMIČARIMA: #Vinča i Marko su dva dosta različita lika. Goran je mlad\, Dejanović nije\, Vinčić se voli smješkat\, Marko zvani #NapušenaPanda zna ponekad samo buljiti u ljude i tko zna što mu prolazi glavom…Jedan drugome vrlo lako dignu živac\, vole se podjebavat i to ne onako prijateljski\, ne\, ne\, oni se za stvarno pokače\, iako su prijatelji i pomoći će si međusobno ako zatreba. Obojica su očevi i muževi\, obojica brzi na jeziku. Vinča je energičan na pozornici\, Marko se kreće samo koliko mora.Vidimo se! #BIScomedy #vinča #Panda
URL:https://dubrovnik.today/event/metkovic-dupla-doza-stand-up-comedy-spektakl-goran-vincic-i-marko-dejanovic/
LOCATION:Gradsko kulturno središte Metković\, Ul. Stjepana Radića 1\, Metković\, Dubrovačko-neretvanska\, 20350\, Croatia
CATEGORIES:Theatre
ATTACH;FMTTYPE=image/jpeg:https://dubrovnik.today/wp-content/uploads/2025/10/544802260_1365653605188043_7307218738113494509_n.jpg
ORGANIZER;CN="BIS comedy":MAILTO:bocaistine123@gmail.com
GEO:43.0534788;17.652495
X-APPLE-STRUCTURED-LOCATION;VALUE=URI;X-ADDRESS=Gradsko kulturno središte Metković Ul. Stjepana Radića 1 Metković Dubrovačko-neretvanska 20350 Croatia;X-APPLE-RADIUS=500;X-TITLE=Ul. Stjepana Radića 1:geo:17.652495,43.0534788
END:VEVENT
BEGIN:VEVENT
DTSTART;TZID=Europe/Zagreb:20251023T203000
DTEND;TZID=Europe/Zagreb:20251023T220000
DTSTAMP:20260420T103033
CREATED:20250922T080245Z
LAST-MODIFIED:20250922T080245Z
UID:10006638-1761251400-1761256800@dubrovnik.today
SUMMARY:DSO\, MLADEN TARBUK\, dirigent & MATIJA NOVAKOVIĆ\, fagot
DESCRIPTION:DSO\, MLADEN TARBUK\, dirigent & MATIJA NOVAKOVIĆ\, fagot\n23.10. četvrtak\, Knežev dvor u 20:30 sati \nDubrovački simfonijski orkestar\nMladen Tarbuk\, dirigent\nSolist: Matija Novaković\, fagot\nPROGRAM:\nSofia Gubaidulina: Concerto for bassoon and low strings\nP.I.Čajkovski: Serenada
URL:https://dubrovnik.today/event/dso-mladen-tarbuk-dirigent-matija-novakovic-fagot/
LOCATION:Knežev dvor\, Pred Dvorom 1\, Dubrovnik\, 20000\, Croatia
CATEGORIES:Music
ATTACH;FMTTYPE=image/jpeg:https://dubrovnik.today/wp-content/uploads/2025/09/20_dvor_dso_1-1.jpg
ORGANIZER;CN="Dubrova%C4%8Dki simfonijski orkestar / Dubrovnik Symphony Orchestra":MAILTO:marketing@dso.hr
GEO:42.6586378;18.1013637
X-APPLE-STRUCTURED-LOCATION;VALUE=URI;X-ADDRESS=Knežev dvor Pred Dvorom 1 Dubrovnik 20000 Croatia;X-APPLE-RADIUS=500;X-TITLE=Pred Dvorom 1:geo:18.1013637,42.6586378
END:VEVENT
BEGIN:VEVENT
DTSTART;TZID=Europe/Zagreb:20251023T203000
DTEND;TZID=Europe/Zagreb:20251023T223000
DTSTAMP:20260420T103033
CREATED:20251022T053311Z
LAST-MODIFIED:20251104T071851Z
UID:10006938-1761251400-1761258600@dubrovnik.today
SUMMARY:SPRINGSTEEN: IZBAVI ME IZ NIŠTAVILA / Springsteen: Deliver Me from Nowhere
DESCRIPTION:Springsteen: Izbavi me iz ništavila\, u kojem Jeremy Allen White\, zvijezda serije The Bear\, tumači legendarnog Brucea Springsteena\, donosi intimnu i emocionalno nabijenu priču o stvaranju albuma Nebraska koji je zauvijek promijenio njegovu karijeru. Radnja prati nastanak Springsteenova šestog albuma\, ogoljenog\, akustičnog i tamnog u tonu\, koji je snimio u vlastitoj spavaćoj sobi u Colts Necku\, New Jersey\, dok je za razliku od pop hita Hungry Heart iz 1980. ovaj novi glazbeni smjer stavio na kušnju strpljenje njegove diskografske kuće. Jeremy Allen White u filmu ne samo da glumi The Bossa\, već ga i glazbeno interpretira – svira usnu harmoniku i izvodi njegove najpoznatije pjesme.
URL:https://dubrovnik.today/event/springsteen-izbavi-me-iz-nistavila-springsteen-deliver-me-from-nowhere/2025-10-23/
LOCATION:Kino dvorana Visia\, Poljana Paska Miličevića 3\, Dubrovnik\, 20000\, Croatia
CATEGORIES:Cinema
ATTACH;FMTTYPE=image/jpeg:https://dubrovnik.today/wp-content/uploads/2025/10/1920X1080_SPRINGSTEEN_HR.jpg
ORGANIZER;CN="Kinematografi Dubrovnik":MAILTO:operater@kinematografi.org
GEO:42.6414431;18.1071797
X-APPLE-STRUCTURED-LOCATION;VALUE=URI;X-ADDRESS=Kino dvorana Visia Poljana Paska Miličevića 3 Dubrovnik 20000 Croatia;X-APPLE-RADIUS=500;X-TITLE=Poljana Paska Miličevića 3:geo:18.1071797,42.6414431
END:VEVENT
END:VCALENDAR