BEGIN:VCALENDAR
VERSION:2.0
PRODID:-//dbk.life - ECPv6.15.12//NONSGML v1.0//EN
CALSCALE:GREGORIAN
METHOD:PUBLISH
X-WR-CALNAME:dbk.life
X-ORIGINAL-URL:https://dubrovnik.today
X-WR-CALDESC:Events for dbk.life
REFRESH-INTERVAL;VALUE=DURATION:PT1H
X-Robots-Tag:noindex
X-PUBLISHED-TTL:PT1H
BEGIN:VTIMEZONE
TZID:Europe/Zagreb
BEGIN:DAYLIGHT
TZOFFSETFROM:+0100
TZOFFSETTO:+0200
TZNAME:CEST
DTSTART:20240331T010000
END:DAYLIGHT
BEGIN:STANDARD
TZOFFSETFROM:+0200
TZOFFSETTO:+0100
TZNAME:CET
DTSTART:20241027T010000
END:STANDARD
BEGIN:DAYLIGHT
TZOFFSETFROM:+0100
TZOFFSETTO:+0200
TZNAME:CEST
DTSTART:20250330T010000
END:DAYLIGHT
BEGIN:STANDARD
TZOFFSETFROM:+0200
TZOFFSETTO:+0100
TZNAME:CET
DTSTART:20251026T010000
END:STANDARD
BEGIN:DAYLIGHT
TZOFFSETFROM:+0100
TZOFFSETTO:+0200
TZNAME:CEST
DTSTART:20260329T010000
END:DAYLIGHT
BEGIN:STANDARD
TZOFFSETFROM:+0200
TZOFFSETTO:+0100
TZNAME:CET
DTSTART:20261025T010000
END:STANDARD
END:VTIMEZONE
BEGIN:VEVENT
DTSTART;TZID=Europe/Zagreb:20251018T193000
DTEND;TZID=Europe/Zagreb:20251018T230000
DTSTAMP:20260420T081603
CREATED:20250223T195209Z
LAST-MODIFIED:20251002T080538Z
UID:10006752-1760815800-1760828400@dubrovnik.today
SUMMARY:LIVE MUSIC MARKO PAVKOVIĆ @ URBAN & VEGGIE
DESCRIPTION:Live music? Every. Single. Saturday. \n Marko Pavković is playing live every Saturday from 7:30 PM – setting the vibe while we serve up your favorite plates and shake up the cocktails. \nBring your people\, we’ll handle the rest. Book your spot: +385 95 326 2568 Obala Stjepana Radića 13
URL:https://dubrovnik.today/event/live-subota-marko-pavkovic-urban-veggie/2025-10-18/
LOCATION:Urban & Veggie Restaurant\, Obala Stjepana Radića 13\, Dubrovnik\, Dubrovačko-neretvanska\, 20000\, Croatia
CATEGORIES:Gastronomy,Music
ATTACH;FMTTYPE=image/jpeg:https://dubrovnik.today/wp-content/uploads/2025/02/525884010_1299047758892464_4040213938313355750_n.jpg
ORGANIZER;CN="Urban & Veggie Restaurant":MAILTO:table@urbanveggie.restaurant
GEO:42.6550032;18.088013
X-APPLE-STRUCTURED-LOCATION;VALUE=URI;X-ADDRESS=Urban & Veggie Restaurant Obala Stjepana Radića 13 Dubrovnik Dubrovačko-neretvanska 20000 Croatia;X-APPLE-RADIUS=500;X-TITLE=Obala Stjepana Radića 13:geo:18.088013,42.6550032
END:VEVENT
BEGIN:VEVENT
DTSTART;TZID=Europe/Zagreb:20251018T190000
DTEND;TZID=Europe/Zagreb:20251018T230000
DTSTAMP:20260420T081603
CREATED:20251014T074354Z
LAST-MODIFIED:20251014T074354Z
UID:10006831-1760814000-1760828400@dubrovnik.today
SUMMARY:FUSION OF A SATURDAY NIGHT & LIVE MUSIC @ Urban & Veggie Restaurant
DESCRIPTION: Fuzija jedne subotnje večeri @ Urban & Veggie\nU subotu u 19h vas vodimo na kulinarsko putovanje kroz tri kontinenta… ali bez putovnice \nKrećemo iz Azije\, prolazimo kroz Mediteran\, a završavamo u Argentini. Zvuči kao dobar plan\, zar ne? \nZa vas smo pripremili poseban menu \n Bao BunPesto od rikule i mjendula\, domaći seitan\, sweet chilli umak i fermentirana kapula\n Punjeni ravioliDimljeni tofu i suhe rajčice u umaku od pečene mrkve\, s gelom od mrkve i naranče te pestom\n Argentinski kolač od mrkve\n Za dobru atmosferu i glazbu uživo pobrinut će se Marko Pavković. \n Cijena po osobi: 33 € Uključeno: meni od tri slijeda i glazba uživo\nRezervirajte svoje mjesto na vrijeme – broj mjesta je ograničen.\n Rezervacije: +385 95 326 2568 info@urbanveggie.restaurant\n_________\n Fusion of a Saturday Night @ Urban & Veggie\nThis Saturday at 7 PM\, we’re taking you on a culinary journey across three continents… no passport required. \nWe’ll start in Asia\, stop by the Mediterranean\, and finish off in Argentina… sounds like a plan\, right? \nHere’s what’s on the menu \n Bao BunArugula and almond pesto\, homemade seitan\, sweet chili sauce\, and fermented onion\n Stuffed RavioliSmoked tofu and sun-dried tomatoes in roasted carrot sauce\, with carrot-orange gel and pesto\n Argentinian Carrot Cake\n Live music by Marko Pavković – bringing the good vibes all night long \n Price per person: €33 Includes a three-course menu + live music\nSeats are limited  make your reservation on time!\n Reservations: +385 95 326 2568 info@urbanveggie.restaurant
URL:https://dubrovnik.today/event/fusion-of-a-saturday-night-live-music-urban-veggie-restaurant/
LOCATION:Urban & Veggie Restaurant\, Obala Stjepana Radića 13\, Dubrovnik\, Dubrovačko-neretvanska\, 20000\, Croatia
CATEGORIES:Gastronomy,Music
ATTACH;FMTTYPE=image/jpeg:https://dubrovnik.today/wp-content/uploads/2025/10/560332079_1371074341689805_2589515430150081979_n.jpg
ORGANIZER;CN="Urban & Veggie Restaurant":MAILTO:table@urbanveggie.restaurant
GEO:42.6550032;18.088013
X-APPLE-STRUCTURED-LOCATION;VALUE=URI;X-ADDRESS=Urban & Veggie Restaurant Obala Stjepana Radića 13 Dubrovnik Dubrovačko-neretvanska 20000 Croatia;X-APPLE-RADIUS=500;X-TITLE=Obala Stjepana Radića 13:geo:18.088013,42.6550032
END:VEVENT
BEGIN:VEVENT
DTSTART;TZID=Europe/Zagreb:20251018T190000
DTEND;TZID=Europe/Zagreb:20251018T220000
DTSTAMP:20260420T081603
CREATED:20251013T052610Z
LAST-MODIFIED:20251013T052610Z
UID:10006824-1760814000-1760824800@dubrovnik.today
SUMMARY:Pričigin na otocima
DESCRIPTION:Mala dvorana Centra za kulturu Korčula\nFestival Pričigin\nUdruga za promicanje kulturnih i umjetničkih aktivnosti Pričigin počela je 2007. godine organizirati Festival pričanja priča Pričigin na tragu suvremenih svjetskih i posebno europskih trendova\, u želji da se u Splitu (i Hrvatskoj) aktivira postojeća kritična masa ljudi\, prije svega istaknuti pojedinci među piscima\, glumcima\, redateljima\, glazbenicima\, obrazovnim radnicima\, izdavačima\, bibliotekarima\, kao i predstavnici drugih profesija (političari\, menadžeri\, ekonomisti\, pravnici…)\, koji bi pridonijeli tom posebnom vidu suvremenog umjetničkog djelovanja.\nPravila Pričigina jednostavna su: svi sudionici svakog programa po desetak minuta pričaju svoju priču na istu\, unaprijed zadanu temu; nema čitanja s drugih pomagala\, samo pripovijedanje pred brojnim auditorijem. I tako četiri do pet dana godišnje\, s najčešće dva tematska programa dnevno\, međusobno različita po temama kao i po pripovjedačima.
URL:https://dubrovnik.today/event/pricigin-na-otocima/
LOCATION:Centar za kulturu Korčula\, Obala korčulanskih brodograditelja bb\, Korčula\, Dubrovačko-neretvanska\, 20260\, Croatia
CATEGORIES:Lecture
ATTACH;FMTTYPE=image/jpeg:https://dubrovnik.today/wp-content/uploads/2025/10/558947735_1324644352788172_202150715245485534_n.jpg
ORGANIZER;CN="Centar za kulturu Kor%C4%8Dula":MAILTO:kultura@kulturakorcula.hr
GEO:42.959521;17.1354128
X-APPLE-STRUCTURED-LOCATION;VALUE=URI;X-ADDRESS=Centar za kulturu Korčula Obala korčulanskih brodograditelja bb Korčula Dubrovačko-neretvanska 20260 Croatia;X-APPLE-RADIUS=500;X-TITLE=Obala korčulanskih brodograditelja bb:geo:17.1354128,42.959521
END:VEVENT
BEGIN:VEVENT
DTSTART;TZID=Europe/Zagreb:20251018T170000
DTEND;TZID=Europe/Zagreb:20251018T190000
DTSTAMP:20260420T081603
CREATED:20251015T065518Z
LAST-MODIFIED:20251015T065518Z
UID:10006847-1760806800-1760814000@dubrovnik.today
SUMMARY:Vikend za sve ljubitelje biciklizma
DESCRIPTION:Vikend za sve ljubitelje biciklizma! \n\n\nOsmislili smo nešto za svakoga — od najmlađih do iskusnih biciklista! \n\n\n Subota u 17:00 – Riva u Cavtatu\nNaši najmlađi biciklisti preuzimaju pozornicu! Zabavna dječja utrka\, poligon spretnosti\, vesela atmosfera i dobra zabava zajamčeni! \n\n\n Nedjelja u 12:00 – start sa Zvekovice\n Za rekreativce: 30 km\n Za one malo ozbiljnije: 90 km\n\n\nIzazovna ruta koja prolazi kroz predivne krajolike Konavala.\n\n\nPridružite nam se\, povedite prijatelje i obitelj\, i uživajmo zajedno u još jednom biciklističkom vikendu! \n\n\nPrijave na:\nhttps://www.stoperica.live/races/390\n\n\nZa sva pitanja stojimo na raspolaganju na: info@bk-konavle.com
URL:https://dubrovnik.today/event/vikend-za-sve-ljubitelje-biciklizma/2025-10-18/
LOCATION:Cavtat\, Trumbićev put\, Cavtat\, Dubrovačko-neretvanska\, 20210\, Croatia
CATEGORIES:Sport
ATTACH;FMTTYPE=image/jpeg:https://dubrovnik.today/wp-content/uploads/2025/10/561333435_1384064890388746_5882860243582768207_n.jpg
GEO:42.5804044;18.2168965
X-APPLE-STRUCTURED-LOCATION;VALUE=URI;X-ADDRESS=Cavtat Trumbićev put Cavtat Dubrovačko-neretvanska 20210 Croatia;X-APPLE-RADIUS=500;X-TITLE=Trumbićev put:geo:18.2168965,42.5804044
END:VEVENT
BEGIN:VEVENT
DTSTART;TZID=Europe/Zagreb:20251018T100000
DTEND;TZID=Europe/Zagreb:20251018T170000
DTSTAMP:20260420T081603
CREATED:20251015T063830Z
LAST-MODIFIED:20251015T063830Z
UID:10006843-1760781600-1760806800@dubrovnik.today
SUMMARY:25. nagrada Ragusa racinga
DESCRIPTION:PRVENSTVO HRVATSKE U AUTOSLALOMU – KUP POVIJESNIH AUTOMOBILA – TOČNOŠT\nPRVENSTVO REGIJE JUG \nTRENINZI: 10:00-11:30\nUTRKE: 12:00-17:00
URL:https://dubrovnik.today/event/25-nagrada-ragusa-racinga/2025-10-18/
LOCATION:Mirinovo\, Mirinovo ul. 2\, Mokošica\, Dubrovačko-neretvanska\, 20236\, Croatia
CATEGORIES:Sport
ATTACH;FMTTYPE=image/jpeg:https://dubrovnik.today/wp-content/uploads/2025/10/558873615_1259545502647238_4794978616565503252_n.jpg
ORGANIZER;CN="AK Ragusa racing":MAILTO:akragusaracing@gmail.com
GEO:42.6709222;18.0830919
X-APPLE-STRUCTURED-LOCATION;VALUE=URI;X-ADDRESS=Mirinovo Mirinovo ul. 2 Mokošica Dubrovačko-neretvanska 20236 Croatia;X-APPLE-RADIUS=500;X-TITLE=Mirinovo ul. 2:geo:18.0830919,42.6709222
END:VEVENT
BEGIN:VEVENT
DTSTART;TZID=Europe/Zagreb:20251018T090000
DTEND;TZID=Europe/Zagreb:20251018T170000
DTSTAMP:20260420T081603
CREATED:20250922T084906Z
LAST-MODIFIED:20250922T084906Z
UID:10006662-1760778000-1760806800@dubrovnik.today
SUMMARY:BESPLATNA RADIONICA „SNAGA BRENDA: KAKO PRIVUĆI KUPCE I OLAKŠATI MARKERING“
DESCRIPTION:Imate odličan proizvod ili uslugu\, ali osjećate da ne dopirete do dovoljno kupaca? Trošite previše na marketing\, a rezultati nisu onakvi kakve ste očekivali? Tek pokrećete poslovanje i želiš od početka postaviti stvari kako treba? \nAko želite odgovore na ova pitanja\, prijavite se na radionicu „Snaga brenda: Kako privući kupce i olakšati marketing“! Radionica će se održati u okviru Startup akademije u subotu 18. listopada 2025. u prostorijama DURA-e\, na adresi Branitelja Dubrovnika 15\, 20 000 Dubrovnik\, s početkom u 9.00 sati. \nCilj je radionice upoznati polaznike sa mogućnostima koje im snažan brend može donijeti u kontekstu poslovnih ciljeva i uspjeha. Razjasniti proces brendiranja korak po korak te im pomoći da postave temelje svog brenda. \nZA KOGA JE RADIONICA NAMIJENJENA? \nZa poduzetnike\, njihove zaposlenike u marketingu\, prodaji i brandingu\, kao i početnike koji žele odmah izgraditi snažne temelje svog brenda. \nŠTO ĆETE NAUČITI? \n\nŠto je brend\, kako se i koliko gradi?\nZašto je brend izvrstan alat za povezivanje s kupcima i zašto se s kupcima treba\n\npovezati? \n\nKoji su to temelji brenda i kako ih postaviti (naglasak na svrsi\, vrijednosti i osobnosti\n\nbrenda)? \n\nNa koji način dobro postavljeni temelji brenda mogu pospješiti marketing i smanjiti\n\nulaganja u isti? \n\nŠto je ključno za dobru prezentaciju brenda – online i offline\, vizualno i sadržajno?\nKako premostiti razliku između toga kako tvrtke vide svoj brend\, a kako ga vide kupci?\nKako definirati razliku koju donosite na tržište i zašto je ona važna?\n\n  \nZAŠTO NE SMIJETE PROPUSTITI OVU RADIONICU? \nJer ćete nakon ove radionice otići s konkretnim znanjem i alatima koji vam mogu odmah pomoći: \n\nunaprijediti vidljivost\npovećati prodaju\npojednostaviti i ubrzati vaše marketinške aktivnosti\n\nBONUS: \nRadionica je interaktivne prirode što znači da će se raditi na primjerima polaznika te će polaznici imati priliku postaviti sva pitanja koja ih zanimaju iz ovog područja. \nPREDAVAČICA: \nIZABELA LAURA energična je poduzetnica\, stručnjakinja za brendove i iskusna moderatorica događanja. Kroz svoj rad pomaže poduzetnicima ideje pretočiti u autentičan brend\, jasno komuniciran i promišljeno predstavljen tržištu. Vodila je brojne projekte\, educirala o brendiranju i organizirala događanja s fokusom na ljude\, među kojima se ističe konferencija o burnoutu za poduzetne ljude pod okriljem brenda „Radi pametnije\, živi bolje“. Njezina najveća snaga leži u prenošenju znanja i angažiranju publike – bilo na pozornici\, bilo u direktnom radu s klijentima. \nPrijave za ovu radionicu zaprimaju se od 13. listopada putem sljedeće poveznice: PRIJAVNICA \nViše informacija možete dobiti putem e-mail adrese: mpuljas@dura.hr ili telefona: 020/640-271 \nBroj polaznika ograničen je\, stoga požurite! \n*Projekt “Startup akademija” financiran je od strane Grada Dubrovnika
URL:https://dubrovnik.today/event/besplatna-radionica-snaga-brenda-kako-privuci-kupce-i-olaksati-markering/
LOCATION:DURA Razvojna Agencija Grada Dubrovnika /  Dubrovnik’s Development Agency\, Branitelja Dubrovnika 15\, Dubrovnik\, 20000\, Croatia
CATEGORIES:Workshop
ATTACH;FMTTYPE=image/jpeg:https://dubrovnik.today/wp-content/uploads/2025/09/Dura-Brend-jesen-2025-3.jpg
GEO:42.6426163;18.1041934
X-APPLE-STRUCTURED-LOCATION;VALUE=URI;X-ADDRESS=DURA Razvojna Agencija Grada Dubrovnika /  Dubrovnik’s Development Agency Branitelja Dubrovnika 15 Dubrovnik 20000 Croatia;X-APPLE-RADIUS=500;X-TITLE=Branitelja Dubrovnika 15:geo:18.1041934,42.6426163
END:VEVENT
BEGIN:VEVENT
DTSTART;TZID=Europe/Zagreb:20251017T180000
DTEND;TZID=Europe/Zagreb:20251019T130000
DTSTAMP:20260420T081603
CREATED:20250917T101231Z
LAST-MODIFIED:20250917T101231Z
UID:10006589-1760724000-1760878800@dubrovnik.today
SUMMARY:Buildling a Practical\, Purposeful Yoga Practice - Ashtanga Yoga Weeknd in Dubrovnik w/ Sarah Hatcher
DESCRIPTION:We are delighted to announce another amazing guest teacher coming to us live this fall! This is an precious opportunity to experience yoga at a whole new leve of depth and devotion\, clear this weekend for full participation:\n17-19 October\, 2025\nJoin Sarah Durney Hatcher for a weekend of inclusive\, creative and skilful yoga classes exploring ashtanga vinyasa yoga\, the philosophy of yogic practice\, chanting and meditation. During this workshop\, Sarah will thoroughly explain how a dedicated yoga practice can influence our daily state of well-being. Through exploration of asana (postures)\, pranayama (breathing techniques)\, bandha (internal awareness of the pelvic diaphragm) and dhyana (meditation practices) we can craft a daily practice that is just right for everyone.\nNo two yogis are the same: with this in mind\, Sarah will offer adaptations to the ashtanga yoga practice when needed; advanced instruction for those hungry for it and for the absolute beginner\, tools to learn how to craft their practice in the right way for them.\nStudents can attend all workshops classes or drop in for individual classes.\nWEEKEND SCHEDULE:\nFriday6-8 pm“Surya Namaskar and the soul of Ashtanga” : Introduction of Surya Namaskara into a guided class of the ashtanga standing postures.(Intro session drop in only\, if there is space\, full weekend registrations have priority – €25)\nSaturday7-9:30 am Mysore Ashtanga Yoga Class(one class\, if there is space: €45)\n10-11:15am Session 1: Injury Prevention“A detailed look at Ashtanga yoga: in this workshop we look at padmasana\, the classic breath of the practice (ujjayi) and learn how to prevent injury with an exploration of inner locks (bandhas) which will be clarified.”11:15am-12:30 pm Session 2: Inversions“A practical look at shoulderstand\, headstand and how to build a safe possibility for everyone”(morning sessions only: €45)\nBreak for lunch and rest\n5pm-7:30 pm Pranayama\, Meditation\, Chanting the Yoga Sutras plus Bhakti Singing“Learn about the heart of yoga: breath\, meditation and devotion: here is a class where you will learn how to define what yoga means to you. Why practice?”(only this session: €45)\nSunday7-9:30 am Mysore Class(one class only\, if there is space: €45)\n10-11:15 am BackbendsBuilding a Sustainable BackbendA look at the classic backbend and research why and how this may bring insight into the enigma of the stiff spine: we will look at a few backbends in the ashtanga yoga sequence: Upward facing Dog\, Camel pose and the Upward bow pose\, Urdhva Dhanurasana.\n11:15-12:30 philosophy: finding samadhi in theory and practice“What does ‘yoga’ mean to you? This workshop we will discuss the eight limbs of yoga and weave together daily practice with philosophy. Bring your journal for this class for research and introspection. We will close our weekend together with chants and prayers for peace.(morning sessions only: €45)\n\nCOST AND REGISTRATON INFORMATION:\nFull Weekend €175 (before 5 October)Full Weekend €200 (after 5 October)Drop-in’s welcome for individual classes: €25 friday intro\, €45 each workshop segment.)\nRegistration requires full payment to confirm your spot as this event will fill up.(Cancellation refunds minus 50€ possible until Oct 5.)\nACCOMODATION\, IF YOU ARE FLYING IN:\nOn-site accomodation: 65€ per night\, accommodaton is in individual appartments with a kitchen\, each can be shared between 2 or 3 people.https://villaprovidenca.com/
URL:https://dubrovnik.today/event/buildling-a-practical-purposeful-yoga-practice-ashtanga-yoga-weeknd-in-dubrovnik-w-sarah-hatcher/
LOCATION:Elixir Vitae – holistički fitness studio\, Zakula 28\, Čelopeci\, Dubrovačko-neretvanska\, 20207\, Croatia
CATEGORIES:Workshop
ATTACH;FMTTYPE=image/jpeg:https://dubrovnik.today/wp-content/uploads/2025/09/548520612_1205930444912031_6629114644522750379_n.jpg
ORGANIZER;CN="Elixir Vitae - holisti%C4%8Dki fitness studio":MAILTO:https://web.facebook.com/ElixirVitaeStudio/
GEO:42.6372838;18.1755974
X-APPLE-STRUCTURED-LOCATION;VALUE=URI;X-ADDRESS=Elixir Vitae – holistički fitness studio Zakula 28 Čelopeci Dubrovačko-neretvanska 20207 Croatia;X-APPLE-RADIUS=500;X-TITLE=Zakula 28:geo:18.1755974,42.6372838
END:VEVENT
BEGIN:VEVENT
DTSTART;TZID=Europe/Zagreb:20251017T170000
DTEND;TZID=Europe/Zagreb:20251019T170000
DTSTAMP:20260420T081603
CREATED:20251002T075857Z
LAST-MODIFIED:20251002T075857Z
UID:10006749-1760720400-1760893200@dubrovnik.today
SUMMARY:Dani okusa: Od tradicije do suvremenih trendova
DESCRIPTION:U sklopu Testeat projekta najavljujemo edukativne programe u sklopu Good Food festivala 2025. pod nazivom “Dani okusa: Od tradicije do suvremenih trendova”. U nastavku provjerite ckelokupni trodnevni program\, a iz dana u dan predstaviti ćemo Vam partnere i sudionike!\n\n\n17. listopada\n-Okrugli stol: prehrana / gastronomija / nutricionizam\n-Večera s poznatim chefom i učenicima Turističko-ugostiteljske škole Dubrovnik u Vili Čingriji\n\n\n18. listopada\n-Radionice za djecu: tradicionalne slastice prilagođene modernim prehrambenim potrebama\n\n\n19. listopada\n-Radionice za djecu: tradicionalne slastice prilagođene modernim prehrambenim potrebama\n\n\nOrganizator je Dubrovačka razvojna agencija Dura d.o.o.\, a glavni ciljevi projekta uključuju jačanje vještina sadašnjih i budućih profesionalaca u turizmu – učenika\, studenata i zaposlenika (šefova kuhinja\, konobara\, destinacijskih menadžera\, turističkih vodiča i dr.) te širenje znanja o lokalnom enogastronomskom nasljeđu\, suvremenim prehrambenim trendovima\, kao i prilikama koje nude održivi turizam\, kružno gospodarstvo i digitalizacija.\n\n\nProjekt TESTEAT financiran je sredstvima programa Interreg Italija- Hrvatska. Više informacija potražite na službenoj web stranici: https://www.italy-croatia.eu/web/testeat
URL:https://dubrovnik.today/event/dani-okusa-od-tradicije-do-suvremenih-trendova/
LOCATION:DURA Razvojna Agencija Grada Dubrovnika /  Dubrovnik’s Development Agency\, Branitelja Dubrovnika 15\, Dubrovnik\, 20000\, Croatia
CATEGORIES:Gastronomy,Lecture,Workshop
ATTACH;FMTTYPE=image/jpeg:https://dubrovnik.today/wp-content/uploads/2025/10/556904599_18421400479109964_104162656950713816_n.jpg
GEO:42.6426163;18.1041934
X-APPLE-STRUCTURED-LOCATION;VALUE=URI;X-ADDRESS=DURA Razvojna Agencija Grada Dubrovnika /  Dubrovnik’s Development Agency Branitelja Dubrovnika 15 Dubrovnik 20000 Croatia;X-APPLE-RADIUS=500;X-TITLE=Branitelja Dubrovnika 15:geo:18.1041934,42.6426163
END:VEVENT
END:VCALENDAR