BEGIN:VCALENDAR
VERSION:2.0
PRODID:-//dbk.life - ECPv6.15.12//NONSGML v1.0//EN
CALSCALE:GREGORIAN
METHOD:PUBLISH
X-WR-CALNAME:dbk.life
X-ORIGINAL-URL:https://dubrovnik.today
X-WR-CALDESC:Events for dbk.life
REFRESH-INTERVAL;VALUE=DURATION:PT1H
X-Robots-Tag:noindex
X-PUBLISHED-TTL:PT1H
BEGIN:VTIMEZONE
TZID:Europe/Zagreb
BEGIN:DAYLIGHT
TZOFFSETFROM:+0100
TZOFFSETTO:+0200
TZNAME:CEST
DTSTART:20250330T010000
END:DAYLIGHT
BEGIN:STANDARD
TZOFFSETFROM:+0200
TZOFFSETTO:+0100
TZNAME:CET
DTSTART:20251026T010000
END:STANDARD
BEGIN:DAYLIGHT
TZOFFSETFROM:+0100
TZOFFSETTO:+0200
TZNAME:CEST
DTSTART:20260329T010000
END:DAYLIGHT
BEGIN:STANDARD
TZOFFSETFROM:+0200
TZOFFSETTO:+0100
TZNAME:CET
DTSTART:20261025T010000
END:STANDARD
BEGIN:DAYLIGHT
TZOFFSETFROM:+0100
TZOFFSETTO:+0200
TZNAME:CEST
DTSTART:20270328T010000
END:DAYLIGHT
BEGIN:STANDARD
TZOFFSETFROM:+0200
TZOFFSETTO:+0100
TZNAME:CET
DTSTART:20271031T010000
END:STANDARD
END:VTIMEZONE
BEGIN:VEVENT
DTSTART;TZID=Europe/Zagreb:20260327T150000
DTEND;TZID=Europe/Zagreb:20260327T170000
DTSTAMP:20260421T015826
CREATED:20260205T124641Z
LAST-MODIFIED:20260205T124641Z
UID:10008003-1774623600-1774630800@dubrovnik.today
SUMMARY:BICIKLISTIČKI POLIGON ZA DJECU
DESCRIPTION:�� BICIKLISTIČKI POLIGON ZA DJECU ��Dan prije Granfondo Konavle održat će se zabavan i edukativan program za najmlađe!\n� Petak\, 27.03.2026.� Riva u Cavtatu� Poslijepodnevni sati\nZa djecu pripremamo poligon spretnosti gdje će mali biciklisti moći pokazati svoje vještine\, naučiti nešto novo i dobro se zabaviti.\n� Očekuju vas bogate nagrade za sudionike!\nDjeca će imati priliku družiti se i upoznati bicikliste koji dolaze na prijave za Granfondo Konavle\, što će dodatno obogatiti sportski i veseli ugođaj.\nVidimo se na rivi u Cavtatu\, dođite podržati naše male bicikliste i uživati u lijepoj sportskoj atmosferi!
URL:https://dubrovnik.today/event/biciklisticki-poligon-za-djecu/
LOCATION:Cavtat\, Trumbićev put\, Cavtat\, Dubrovačko-neretvanska\, 20210\, Croatia
CATEGORIES:Sport,Workshop
ATTACH;FMTTYPE=image/jpeg:https://dubrovnik.today/wp-content/uploads/2026/02/626299716_1480102874118280_3004920701696829638_n.jpg
GEO:42.5804044;18.2168965
X-APPLE-STRUCTURED-LOCATION;VALUE=URI;X-ADDRESS=Cavtat Trumbićev put Cavtat Dubrovačko-neretvanska 20210 Croatia;X-APPLE-RADIUS=500;X-TITLE=Trumbićev put:geo:18.2168965,42.5804044
END:VEVENT
BEGIN:VEVENT
DTSTART;TZID=Europe/Zagreb:20260328T080000
DTEND;TZID=Europe/Zagreb:20260328T170000
DTSTAMP:20260421T015826
CREATED:20260205T124822Z
LAST-MODIFIED:20260205T124822Z
UID:10008004-1774684800-1774717200@dubrovnik.today
SUMMARY:ALH GRANFONDO KONAVLE 2026
DESCRIPTION:Spreman si za izazov koji se pamti?\nDoživi vrhunsku biciklističku priču kroz jedno od najljepših područja juga Hrvatske.\n\n\n spektakularna ruta\n pravi granfondo izazov\n vrhunska organizacija\n iskustvo zbog kojeg se dolazi i vraća\n\n\n Konavle\, Zvekovica\n 28.03.2026.\n\n\n Prijave: https://www.stoperica.live/races/406\n\n\nPrati nas i budi dio priče\n\n\nVozi više od utrke. Vozi Konavle.
URL:https://dubrovnik.today/event/alh-granfondo-konavle-2026/
LOCATION:Zvekovica\, Konavle\, Put Uskoplja 1\, Zvekovica\, Dubrovačko-neretvanska\, 20210\,\, Croatia
CATEGORIES:Sport
ATTACH;FMTTYPE=image/jpeg:https://dubrovnik.today/wp-content/uploads/2026/02/624074311_1477204501074784_2095696740924339696_n.jpg
GEO:42.5762101;18.2424217
X-APPLE-STRUCTURED-LOCATION;VALUE=URI;X-ADDRESS=Zvekovica Konavle Put Uskoplja 1 Zvekovica Dubrovačko-neretvanska 20210 Croatia;X-APPLE-RADIUS=500;X-TITLE=Put Uskoplja 1:geo:18.2424217,42.5762101
END:VEVENT
BEGIN:VEVENT
DTSTART;TZID=Europe/Zagreb:20260328T183000
DTEND;TZID=Europe/Zagreb:20260328T203000
DTSTAMP:20260421T015826
CREATED:20260327T094605Z
LAST-MODIFIED:20260327T094605Z
UID:10008577-1774722600-1774729800@dubrovnik.today
SUMMARY:Rukometni klub Ardiaei - HRK Karlovac
DESCRIPTION:UTAKMICA KOJA NE TREBA POSEBNU POZIVNICU \n\n\nSubota. Derbi za vrh. Prvi protiv drugog.\n\n\n Subota\, 28.3.2026.\n 18:30h\n Mljekara (OŠ Župa dubrovačka)\n\n\nUtakmica koja odlučuje sezonu i pobjednika stavlja u zavidnu poziciju za ulazak u Premijer ligu.\nUtakmica zbog koje će proključati Mljekara \n\n\nU subotu ne dolazite samo gledati rukomet.\nDolazite napraviti atmosferu kakvu ova dvorana još nije vidjela. \n\n\nVidimo se. Ardiaei te treba!
URL:https://dubrovnik.today/event/rukometni-klub-ardiaei-hrk-karlovac/
LOCATION:Osnovna škola Župa Dubrovačka\, Put Dr. Ante Starčevića 84\, Mlini\, Dubrovačko-neretvanska\, 20207\, Croatia
CATEGORIES:Sport
ATTACH;FMTTYPE=image/jpeg:https://dubrovnik.today/wp-content/uploads/2026/03/656289111_18076642904623339_1140369602983935396_n.jpg
ORGANIZER;CN="RK Ardiaei %C5%BDupa dubrova%C4%8Dka":MAILTO:rkardiaei@gmail.com
GEO:42.6268618;18.1913672
X-APPLE-STRUCTURED-LOCATION;VALUE=URI;X-ADDRESS=Osnovna škola Župa Dubrovačka Put Dr. Ante Starčevića 84 Mlini Dubrovačko-neretvanska 20207 Croatia;X-APPLE-RADIUS=500;X-TITLE=Put Dr. Ante Starčevića 84:geo:18.1913672,42.6268618
END:VEVENT
BEGIN:VEVENT
DTSTART;TZID=Europe/Zagreb:20260329T170000
DTEND;TZID=Europe/Zagreb:20260329T200000
DTSTAMP:20260421T015826
CREATED:20260320T083657Z
LAST-MODIFIED:20260320T083657Z
UID:10008462-1774803600-1774814400@dubrovnik.today
SUMMARY:HUMANITARNI PIKADO TURNIR
DESCRIPTION:HUMANITARNI\nPIKADO TURNIR\n5O1 MO PAROVI #humanitarniturnir #humanitarni #humanitarnipikadoturnir #caffenightbarlevel #tatajetata #tatajetatadubrovnik #pikado #pikadoturnirdubrovnik #pikadoturnir #dobroječinitidobro
URL:https://dubrovnik.today/event/humanitarni-pikado-turnir/
LOCATION:Cafe & night bar LEVEL\, Iva Vojnovića 39\, Dubrovnik\, Dubrovačko-neretvanska\, 20000\, Croatia
CATEGORIES:Sport
ATTACH;FMTTYPE=image/jpeg:https://dubrovnik.today/wp-content/uploads/2026/03/Captdddure.jpg
ORGANIZER;CN="Cafe & night bar LEVEL":MAILTO:m.me/CafeNightBarLEVEL
GEO:42.6501053;18.0828825
X-APPLE-STRUCTURED-LOCATION;VALUE=URI;X-ADDRESS=Cafe & night bar LEVEL Iva Vojnovića 39 Dubrovnik Dubrovačko-neretvanska 20000 Croatia;X-APPLE-RADIUS=500;X-TITLE=Iva Vojnovića 39:geo:18.0828825,42.6501053
END:VEVENT
END:VCALENDAR