BEGIN:VCALENDAR
VERSION:2.0
PRODID:-//dbk.life - ECPv6.15.12//NONSGML v1.0//EN
CALSCALE:GREGORIAN
METHOD:PUBLISH
X-ORIGINAL-URL:https://dubrovnik.today
X-WR-CALDESC:Events for dbk.life
REFRESH-INTERVAL;VALUE=DURATION:PT1H
X-Robots-Tag:noindex
X-PUBLISHED-TTL:PT1H
BEGIN:VTIMEZONE
TZID:Europe/Zagreb
BEGIN:DAYLIGHT
TZOFFSETFROM:+0100
TZOFFSETTO:+0200
TZNAME:CEST
DTSTART:20250330T010000
END:DAYLIGHT
BEGIN:STANDARD
TZOFFSETFROM:+0200
TZOFFSETTO:+0100
TZNAME:CET
DTSTART:20251026T010000
END:STANDARD
BEGIN:DAYLIGHT
TZOFFSETFROM:+0100
TZOFFSETTO:+0200
TZNAME:CEST
DTSTART:20260329T010000
END:DAYLIGHT
BEGIN:STANDARD
TZOFFSETFROM:+0200
TZOFFSETTO:+0100
TZNAME:CET
DTSTART:20261025T010000
END:STANDARD
BEGIN:DAYLIGHT
TZOFFSETFROM:+0100
TZOFFSETTO:+0200
TZNAME:CEST
DTSTART:20270328T010000
END:DAYLIGHT
BEGIN:STANDARD
TZOFFSETFROM:+0200
TZOFFSETTO:+0100
TZNAME:CET
DTSTART:20271031T010000
END:STANDARD
END:VTIMEZONE
BEGIN:VEVENT
DTSTART;TZID=Europe/Zagreb:20260221T170000
DTEND;TZID=Europe/Zagreb:20260221T190000
DTSTAMP:20260420T212018
CREATED:20260220T074638Z
LAST-MODIFIED:20260220T074638Z
UID:10008160-1771693200-1771700400@dubrovnik.today
SUMMARY:Square - Osijek
DESCRIPTION:Posebna večer u znaku ponosa – dođi\, podrži Square\, pozdravi Marka Kuraju\, osvajača povijesne medalje za hrvatsku futsal reprezentaciju \n\n\n SS HMNL\, 12. KOLO\n Square – Osijek\n SD Gospino polje\n Subota | 17:00\n\n\n NAPUNIMO DVORANU Domaći teren je naša snaga\n\n\n#ajmosquare
URL:https://dubrovnik.today/event/square-osijek/
LOCATION:Sportska dvorana Gospino polje\, Liechtensteinov put 10\, Dubrovnik\, Dubrovačko-neretvanska\, 20000\, Croatia
CATEGORIES:Sport
ATTACH;FMTTYPE=image/jpeg:https://dubrovnik.today/wp-content/uploads/2026/02/638384895_1412955440627734_7663777670872770526_n.jpg
GEO:42.646844;18.0882112
X-APPLE-STRUCTURED-LOCATION;VALUE=URI;X-ADDRESS=Sportska dvorana Gospino polje Liechtensteinov put 10 Dubrovnik Dubrovačko-neretvanska 20000 Croatia;X-APPLE-RADIUS=500;X-TITLE=Liechtensteinov put 10:geo:18.0882112,42.646844
END:VEVENT
END:VCALENDAR