BEGIN:VCALENDAR
VERSION:2.0
PRODID:-//dbk.life - ECPv6.15.12//NONSGML v1.0//EN
CALSCALE:GREGORIAN
METHOD:PUBLISH
X-WR-CALNAME:dbk.life
X-ORIGINAL-URL:https://dubrovnik.today
X-WR-CALDESC:Events for dbk.life
REFRESH-INTERVAL;VALUE=DURATION:PT1H
X-Robots-Tag:noindex
X-PUBLISHED-TTL:PT1H
BEGIN:VTIMEZONE
TZID:Europe/Zagreb
BEGIN:DAYLIGHT
TZOFFSETFROM:+0100
TZOFFSETTO:+0200
TZNAME:CEST
DTSTART:20240331T010000
END:DAYLIGHT
BEGIN:STANDARD
TZOFFSETFROM:+0200
TZOFFSETTO:+0100
TZNAME:CET
DTSTART:20241027T010000
END:STANDARD
BEGIN:DAYLIGHT
TZOFFSETFROM:+0100
TZOFFSETTO:+0200
TZNAME:CEST
DTSTART:20250330T010000
END:DAYLIGHT
BEGIN:STANDARD
TZOFFSETFROM:+0200
TZOFFSETTO:+0100
TZNAME:CET
DTSTART:20251026T010000
END:STANDARD
BEGIN:DAYLIGHT
TZOFFSETFROM:+0100
TZOFFSETTO:+0200
TZNAME:CEST
DTSTART:20260329T010000
END:DAYLIGHT
BEGIN:STANDARD
TZOFFSETFROM:+0200
TZOFFSETTO:+0100
TZNAME:CET
DTSTART:20261025T010000
END:STANDARD
END:VTIMEZONE
BEGIN:VEVENT
DTSTART;TZID=Europe/Zagreb:20251226T200000
DTEND;TZID=Europe/Zagreb:20251226T213000
DTSTAMP:20260421T050648
CREATED:20251222T124038Z
LAST-MODIFIED:20251222T124038Z
UID:10007623-1766779200-1766784600@dubrovnik.today
SUMMARY:SS HMNL Square - Novo Vrijeme
DESCRIPTION:SS HMNL\, 9. KOLOSquare – Novo Vrijeme\nPodrži naše crveno-plave protiv aktualnog prvaka Hrvatske!\nUoči utakmice\, od 19:00 sati\, pridruži se humanitarnoj akciji „Majica s razlogom“. Možeš kupiti majicu i zastavicu Squarea\, a dio prihoda od prodaje majica\, zastavica i ulaznica bit će usmjeren za humanitarne svrhe.\nHumanitarnu akciju provodimo u suradnji s:\nHumanitarnom udrugom Tata je TataGDCK DubrovnikŽupom sv. Vida Trsteno\nPrikupljena sredstva\, zajedno s dijelom prihoda od ulaznica\, bit će namijenjena kupnji medicinskih kreveta i financijskoj pomoći obiteljima za neophodno liječenje.\nDođi\, navijaj i podrži dobar cilj!\n#ajmosquare
URL:https://dubrovnik.today/event/ss-hmnl-square-novo-vrijeme/
LOCATION:Sportska dvorana Gospino polje\, Liechtensteinov put 10\, Dubrovnik\, Dubrovačko-neretvanska\, 20000\, Croatia
CATEGORIES:Sport
ATTACH;FMTTYPE=image/jpeg:https://dubrovnik.today/wp-content/uploads/2025/12/605539194_1365807852009160_8148231908593977083_n.jpg
GEO:42.646844;18.0882112
X-APPLE-STRUCTURED-LOCATION;VALUE=URI;X-ADDRESS=Sportska dvorana Gospino polje Liechtensteinov put 10 Dubrovnik Dubrovačko-neretvanska 20000 Croatia;X-APPLE-RADIUS=500;X-TITLE=Liechtensteinov put 10:geo:18.0882112,42.646844
END:VEVENT
BEGIN:VEVENT
DTSTART;TZID=Europe/Zagreb:20251227T110000
DTEND;TZID=Europe/Zagreb:20251228T110000
DTSTAMP:20260421T050648
CREATED:20251222T124423Z
LAST-MODIFIED:20251222T124423Z
UID:10007625-1766833200-1766919600@dubrovnik.today
SUMMARY:DU24RUN
DESCRIPTION:Sudjelujte u utrci DU24RUN i podržite djecu iz Udruga “Dva skalina”! \nUtrka traje 24 sata\, unutar kojih trčite ili hodajte koliko god možete – svaki korak je važan! \n\n\n Subota\, 27 prosinca\, od 11 sati\n Atletska staza Gradskog stadiona Lapad\n\n\n​Vidimo se!
URL:https://dubrovnik.today/event/du24run/
LOCATION:Stadion Lapad\, Buzau\, Romania
CATEGORIES:Sport
ATTACH;FMTTYPE=image/jpeg:https://dubrovnik.today/wp-content/uploads/2025/12/604770623_1177066921268515_4607631455863956034_n.jpg
ORGANIZER;CN="Du Motion":MAILTO:info@du-motion.com
GEO:45.1371109;26.8171122
END:VEVENT
END:VCALENDAR