BEGIN:VCALENDAR
VERSION:2.0
PRODID:-//dbk.life - ECPv6.15.12//NONSGML v1.0//EN
CALSCALE:GREGORIAN
METHOD:PUBLISH
X-ORIGINAL-URL:https://dubrovnik.today
X-WR-CALDESC:Events for dbk.life
REFRESH-INTERVAL;VALUE=DURATION:PT1H
X-Robots-Tag:noindex
X-PUBLISHED-TTL:PT1H
BEGIN:VTIMEZONE
TZID:Europe/Zagreb
BEGIN:DAYLIGHT
TZOFFSETFROM:+0100
TZOFFSETTO:+0200
TZNAME:CEST
DTSTART:20240331T010000
END:DAYLIGHT
BEGIN:STANDARD
TZOFFSETFROM:+0200
TZOFFSETTO:+0100
TZNAME:CET
DTSTART:20241027T010000
END:STANDARD
BEGIN:DAYLIGHT
TZOFFSETFROM:+0100
TZOFFSETTO:+0200
TZNAME:CEST
DTSTART:20250330T010000
END:DAYLIGHT
BEGIN:STANDARD
TZOFFSETFROM:+0200
TZOFFSETTO:+0100
TZNAME:CET
DTSTART:20251026T010000
END:STANDARD
BEGIN:DAYLIGHT
TZOFFSETFROM:+0100
TZOFFSETTO:+0200
TZNAME:CEST
DTSTART:20260329T010000
END:DAYLIGHT
BEGIN:STANDARD
TZOFFSETFROM:+0200
TZOFFSETTO:+0100
TZNAME:CET
DTSTART:20261025T010000
END:STANDARD
END:VTIMEZONE
BEGIN:VEVENT
DTSTART;TZID=Europe/Zagreb:20251214T100000
DTEND;TZID=Europe/Zagreb:20251214T130000
DTSTAMP:20260421T081158
CREATED:20251210T094916Z
LAST-MODIFIED:20251210T094916Z
UID:10007531-1765706400-1765717200@dubrovnik.today
SUMMARY:Nordijsko-planinarski izlet Staza s pogledom poviše Zatona
DESCRIPTION:Dragi Nordijci i Rekreativci\,Pozivamo vas na Nordijsko-planinarski izlet:Staza s pogledom poviše Zatona\nPočetak izleta: 10:00 h\nBulet 30A\, HR-20235 DubrovnikDužina staze: cca 6 km\, potrebno oko 2:30-3h\, ovisno o brzini grupeUspon: 240 mnv po planinarskoj staziSilazak: po asfaltnoj cesti da se malo razgibamo sa štapovima. Participacija:Vođenje izleta i organizacija: 10 Eur po osobi\nPrijave na:hikingdubrovnik@gmail.com\nCilj vođenog nordijskog hodanja/planinarenja je ugodno druženje\, rekreacija i opuštanje uprirodi. Idealno za održavanje kondicije\, punjenje baterija i upoznavanje novih ljudi.\nSudjelovanje preporučujemo svima koji:• imaju savladanu tehniku nordijskog hodanja ili razumnu razinu kondicije• žele boraviti u prirodi i aktivno provesti vrijeme\nNijedan izlet nije pretežak\, tempo je prilagođen grupi\, a naglasak je na uživanju \nNapomena: Sudjelovanje je na vlastitu odgovornost.
URL:https://dubrovnik.today/event/nordijsko-planinarski-izlet-staza-s-pogledom-povise-zatona/
LOCATION:Mali Zaton\, Obala Stjepana Radića 52\, Dubrovnik\, Dubrovačko-neretvanska\, 20235\, Croatia
CATEGORIES:Sport
ATTACH;FMTTYPE=image/jpeg:https://dubrovnik.today/wp-content/uploads/2025/12/597924286_1283967437082048_422764535292012961_n.jpg
ORGANIZER;CN="Hiking Dubrovnik":MAILTO:roki.adventure@gmail.com
GEO:42.7005336;18.0414548
X-APPLE-STRUCTURED-LOCATION;VALUE=URI;X-ADDRESS=Mali Zaton Obala Stjepana Radića 52 Dubrovnik Dubrovačko-neretvanska 20235 Croatia;X-APPLE-RADIUS=500;X-TITLE=Obala Stjepana Radića 52:geo:18.0414548,42.7005336
END:VEVENT
END:VCALENDAR