BEGIN:VCALENDAR
VERSION:2.0
PRODID:-//dbk.life - ECPv6.15.12//NONSGML v1.0//EN
CALSCALE:GREGORIAN
METHOD:PUBLISH
X-WR-CALNAME:dbk.life
X-ORIGINAL-URL:https://dubrovnik.today
X-WR-CALDESC:Events for dbk.life
REFRESH-INTERVAL;VALUE=DURATION:PT1H
X-Robots-Tag:noindex
X-PUBLISHED-TTL:PT1H
BEGIN:VTIMEZONE
TZID:Europe/Zagreb
BEGIN:DAYLIGHT
TZOFFSETFROM:+0100
TZOFFSETTO:+0200
TZNAME:CEST
DTSTART:20240331T010000
END:DAYLIGHT
BEGIN:STANDARD
TZOFFSETFROM:+0200
TZOFFSETTO:+0100
TZNAME:CET
DTSTART:20241027T010000
END:STANDARD
BEGIN:DAYLIGHT
TZOFFSETFROM:+0100
TZOFFSETTO:+0200
TZNAME:CEST
DTSTART:20250330T010000
END:DAYLIGHT
BEGIN:STANDARD
TZOFFSETFROM:+0200
TZOFFSETTO:+0100
TZNAME:CET
DTSTART:20251026T010000
END:STANDARD
BEGIN:DAYLIGHT
TZOFFSETFROM:+0100
TZOFFSETTO:+0200
TZNAME:CEST
DTSTART:20260329T010000
END:DAYLIGHT
BEGIN:STANDARD
TZOFFSETFROM:+0200
TZOFFSETTO:+0100
TZNAME:CET
DTSTART:20261025T010000
END:STANDARD
END:VTIMEZONE
BEGIN:VEVENT
DTSTART;TZID=Europe/Zagreb:20251123T103000
DTEND;TZID=Europe/Zagreb:20251123T133000
DTSTAMP:20260423T130716
CREATED:20251117T212809Z
LAST-MODIFIED:20251117T212809Z
UID:10007237-1763893800-1763904600@dubrovnik.today
SUMMARY:Kadeti i juniori: MNK Square - Olmissum
DESCRIPTION:NEDJELJA – derbi dan u Gospinom polju \n\n\n Kadeti i juniori MNK Square dočekuju svoje vršnjake iz Olmissuma u dva fenomenalna derbija\n\n\n Juniori (10:30 sati): Square – Olmissum\nDrugi protiv prvog s istim brojem bodova\, jedine momčadi u prvenstvu bez poraza \n\n\n Kadeti (12:00): Square – Olmissum\nDrugi protiv prvog koji je i dalje bez poraza\, tri boda crveno plavi zaostaju za liderom \n\n\n SD Gospino polje\n Pozivamo sve navijače – dođite podržati naše mladiće\n\n\n#ajmosquare
URL:https://dubrovnik.today/event/kadeti-i-juniori-mnk-square-olmissum/
LOCATION:Sportska dvorana Gospino polje\, Liechtensteinov put 10\, Dubrovnik\, Dubrovačko-neretvanska\, 20000\, Croatia
CATEGORIES:Sport
ATTACH;FMTTYPE=image/jpeg:https://dubrovnik.today/wp-content/uploads/2025/11/582233001_1338010211455591_6866064759010279832_n.jpg
GEO:42.646844;18.0882112
X-APPLE-STRUCTURED-LOCATION;VALUE=URI;X-ADDRESS=Sportska dvorana Gospino polje Liechtensteinov put 10 Dubrovnik Dubrovačko-neretvanska 20000 Croatia;X-APPLE-RADIUS=500;X-TITLE=Liechtensteinov put 10:geo:18.0882112,42.646844
END:VEVENT
BEGIN:VEVENT
DTSTART;TZID=Europe/Zagreb:20251123T200000
DTEND;TZID=Europe/Zagreb:20251123T213000
DTSTAMP:20260423T130716
CREATED:20251119T122615Z
LAST-MODIFIED:20251119T122615Z
UID:10007279-1763928000-1763933400@dubrovnik.today
SUMMARY:SS HMNL Square - Futsal Istra
DESCRIPTION:SS HMNL\, 6. KOLO\nMNK Square – MNK Futsal Istra Pula\nU 6. kolu SS HMNL domaćini smo Futsal Istri!\n#ajmosquare
URL:https://dubrovnik.today/event/ss-hmnl-square-futsal-istra/
LOCATION:Sportska dvorana Gospino polje\, Liechtensteinov put 10\, Dubrovnik\, Dubrovačko-neretvanska\, 20000\, Croatia
CATEGORIES:Sport
ATTACH;FMTTYPE=image/jpeg:https://dubrovnik.today/wp-content/uploads/2025/11/585550000_1341224764467469_72887300625947350_n.jpg
GEO:42.646844;18.0882112
X-APPLE-STRUCTURED-LOCATION;VALUE=URI;X-ADDRESS=Sportska dvorana Gospino polje Liechtensteinov put 10 Dubrovnik Dubrovačko-neretvanska 20000 Croatia;X-APPLE-RADIUS=500;X-TITLE=Liechtensteinov put 10:geo:18.0882112,42.646844
END:VEVENT
END:VCALENDAR