BEGIN:VCALENDAR
VERSION:2.0
PRODID:-//dbk.life - ECPv6.15.12//NONSGML v1.0//EN
CALSCALE:GREGORIAN
METHOD:PUBLISH
X-WR-CALNAME:dbk.life
X-ORIGINAL-URL:https://dubrovnik.today
X-WR-CALDESC:Events for dbk.life
REFRESH-INTERVAL;VALUE=DURATION:PT1H
X-Robots-Tag:noindex
X-PUBLISHED-TTL:PT1H
BEGIN:VTIMEZONE
TZID:Europe/Zagreb
BEGIN:DAYLIGHT
TZOFFSETFROM:+0100
TZOFFSETTO:+0200
TZNAME:CEST
DTSTART:20240331T010000
END:DAYLIGHT
BEGIN:STANDARD
TZOFFSETFROM:+0200
TZOFFSETTO:+0100
TZNAME:CET
DTSTART:20241027T010000
END:STANDARD
BEGIN:DAYLIGHT
TZOFFSETFROM:+0100
TZOFFSETTO:+0200
TZNAME:CEST
DTSTART:20250330T010000
END:DAYLIGHT
BEGIN:STANDARD
TZOFFSETFROM:+0200
TZOFFSETTO:+0100
TZNAME:CET
DTSTART:20251026T010000
END:STANDARD
BEGIN:DAYLIGHT
TZOFFSETFROM:+0100
TZOFFSETTO:+0200
TZNAME:CEST
DTSTART:20260329T010000
END:DAYLIGHT
BEGIN:STANDARD
TZOFFSETFROM:+0200
TZOFFSETTO:+0100
TZNAME:CET
DTSTART:20261025T010000
END:STANDARD
END:VTIMEZONE
BEGIN:VEVENT
DTSTART;TZID=Europe/Zagreb:20251106T190000
DTEND;TZID=Europe/Zagreb:20251106T203000
DTSTAMP:20260423T230331
CREATED:20251103T115143Z
LAST-MODIFIED:20251103T115143Z
UID:10007041-1762455600-1762461000@dubrovnik.today
SUMMARY:SS HMNL Square - Olmissum
DESCRIPTION:SS HMNL\, 4. KOLOSquare – Olmissum\nU četvrtom kolu crveno plavi dočekuju Olmissum!\n#ajmosquare
URL:https://dubrovnik.today/event/ss-hmnl-square-olmissum/
LOCATION:Sportska dvorana Gospino polje\, Liechtensteinov put 10\, Dubrovnik\, Dubrovačko-neretvanska\, 20000\, Croatia
CATEGORIES:Sport
ATTACH;FMTTYPE=image/jpeg:https://dubrovnik.today/wp-content/uploads/2025/11/576267951_1327961412460471_4426565091325936696_n.jpg
GEO:42.646844;18.0882112
X-APPLE-STRUCTURED-LOCATION;VALUE=URI;X-ADDRESS=Sportska dvorana Gospino polje Liechtensteinov put 10 Dubrovnik Dubrovačko-neretvanska 20000 Croatia;X-APPLE-RADIUS=500;X-TITLE=Liechtensteinov put 10:geo:18.0882112,42.646844
END:VEVENT
BEGIN:VEVENT
DTSTART;TZID=Europe/Zagreb:20251107T170000
DTEND;TZID=Europe/Zagreb:20251107T190000
DTSTAMP:20260423T230331
CREATED:20251104T064127Z
LAST-MODIFIED:20251104T064127Z
UID:10007059-1762534800-1762542000@dubrovnik.today
SUMMARY:DUBROVAČKA ŠAHOVSKA JESEN MLADIH 2025.
DESCRIPTION:[RASPIS CIKLUSA ŠAHOVSKIH TURNIRA ZA MLADE]\n\n\n DUBROVAČKA ŠAHOVSKA JESEN MLADIH 2025.\n Dubrovnik\, Liechtensteinov put 12\n Pravo nastupa: igračice i igrači U18 i mlađi\n\n\n Turnir I – petak\, 7. studenoga 2025.\n Početak u 17:00 sati\n Broj kola: 9\n Tempo igre: 5’+3″\n\n\n\n Turnir II – nedjelja\, 9. studenoga 2025.\n Početak u 10:00 sati\n Broj kola: 7\n Tempo igre: 15’+10″\n\n\n Službeni raspis ciklusa: dostupan na web stranici Šahovskog kluba Dubrovnik\n Informacije i predprijave: leonardo.jerkovic@gmail.com\n\n\n#chess #chessgame #chessclub #chesslife #dubrovnik #croatia
URL:https://dubrovnik.today/event/dubrovacka-sahovska-jesen-mladih-2025/2025-11-07/
LOCATION:Šahovski klub Dubrovnik\, Liechensteinov put 12\, Dubrovnik\, Dubrovačko-neretvanska\, 20000\, Croatia
CATEGORIES:Sport
ATTACH;FMTTYPE=image/jpeg:https://dubrovnik.today/wp-content/uploads/2025/11/573688955_17850526518582923_7506847817879146950_n.jpg
ORGANIZER;CN="%C5%A0ahovski klub Dubrovnik":MAILTO:skdubrovnik@skdubrovnik.hr
GEO:42.6466395;18.0870519
X-APPLE-STRUCTURED-LOCATION;VALUE=URI;X-ADDRESS=Šahovski klub Dubrovnik Liechensteinov put 12 Dubrovnik Dubrovačko-neretvanska 20000 Croatia;X-APPLE-RADIUS=500;X-TITLE=Liechensteinov put 12:geo:18.0870519,42.6466395
END:VEVENT
BEGIN:VEVENT
DTSTART;TZID=Europe/Zagreb:20251109T100000
DTEND;TZID=Europe/Zagreb:20251109T120000
DTSTAMP:20260423T230331
CREATED:20251104T064127Z
LAST-MODIFIED:20251104T064127Z
UID:10007060-1762682400-1762689600@dubrovnik.today
SUMMARY:DUBROVAČKA ŠAHOVSKA JESEN MLADIH 2025.
DESCRIPTION:[RASPIS CIKLUSA ŠAHOVSKIH TURNIRA ZA MLADE]\n\n\n DUBROVAČKA ŠAHOVSKA JESEN MLADIH 2025.\n Dubrovnik\, Liechtensteinov put 12\n Pravo nastupa: igračice i igrači U18 i mlađi\n\n\n Turnir I – petak\, 7. studenoga 2025.\n Početak u 17:00 sati\n Broj kola: 9\n Tempo igre: 5’+3″\n\n\n\n Turnir II – nedjelja\, 9. studenoga 2025.\n Početak u 10:00 sati\n Broj kola: 7\n Tempo igre: 15’+10″\n\n\n Službeni raspis ciklusa: dostupan na web stranici Šahovskog kluba Dubrovnik\n Informacije i predprijave: leonardo.jerkovic@gmail.com\n\n\n#chess #chessgame #chessclub #chesslife #dubrovnik #croatia
URL:https://dubrovnik.today/event/dubrovacka-sahovska-jesen-mladih-2025/2025-11-09/
LOCATION:Šahovski klub Dubrovnik\, Liechensteinov put 12\, Dubrovnik\, Dubrovačko-neretvanska\, 20000\, Croatia
CATEGORIES:Sport
ATTACH;FMTTYPE=image/jpeg:https://dubrovnik.today/wp-content/uploads/2025/11/573688955_17850526518582923_7506847817879146950_n.jpg
ORGANIZER;CN="%C5%A0ahovski klub Dubrovnik":MAILTO:skdubrovnik@skdubrovnik.hr
GEO:42.6466395;18.0870519
X-APPLE-STRUCTURED-LOCATION;VALUE=URI;X-ADDRESS=Šahovski klub Dubrovnik Liechensteinov put 12 Dubrovnik Dubrovačko-neretvanska 20000 Croatia;X-APPLE-RADIUS=500;X-TITLE=Liechensteinov put 12:geo:18.0870519,42.6466395
END:VEVENT
END:VCALENDAR