BEGIN:VCALENDAR
VERSION:2.0
PRODID:-//dbk.life - ECPv6.15.12//NONSGML v1.0//EN
CALSCALE:GREGORIAN
METHOD:PUBLISH
X-ORIGINAL-URL:https://dubrovnik.today
X-WR-CALDESC:Events for dbk.life
REFRESH-INTERVAL;VALUE=DURATION:PT1H
X-Robots-Tag:noindex
X-PUBLISHED-TTL:PT1H
BEGIN:VTIMEZONE
TZID:Europe/Zagreb
BEGIN:DAYLIGHT
TZOFFSETFROM:+0100
TZOFFSETTO:+0200
TZNAME:CEST
DTSTART:20240331T010000
END:DAYLIGHT
BEGIN:STANDARD
TZOFFSETFROM:+0200
TZOFFSETTO:+0100
TZNAME:CET
DTSTART:20241027T010000
END:STANDARD
BEGIN:DAYLIGHT
TZOFFSETFROM:+0100
TZOFFSETTO:+0200
TZNAME:CEST
DTSTART:20250330T010000
END:DAYLIGHT
BEGIN:STANDARD
TZOFFSETFROM:+0200
TZOFFSETTO:+0100
TZNAME:CET
DTSTART:20251026T010000
END:STANDARD
BEGIN:DAYLIGHT
TZOFFSETFROM:+0100
TZOFFSETTO:+0200
TZNAME:CEST
DTSTART:20260329T010000
END:DAYLIGHT
BEGIN:STANDARD
TZOFFSETFROM:+0200
TZOFFSETTO:+0100
TZNAME:CET
DTSTART:20261025T010000
END:STANDARD
END:VTIMEZONE
BEGIN:VEVENT
DTSTART;TZID=Europe/Zagreb:20251029T200000
DTEND;TZID=Europe/Zagreb:20251029T220000
DTSTAMP:20260423T155629
CREATED:20251027T082133Z
LAST-MODIFIED:20251027T082133Z
UID:10006978-1761768000-1761775200@dubrovnik.today
SUMMARY:Turnir u stolnom tenisu
DESCRIPTION:Nastavljamo sa aktivnostima srijedom🤩!\nZbog brojnih upita ovaj tjedan smo za vas organizirali prvi turnir u stolnom tenisu ove akademske godine🥳😆 \nNapominjemo da je ovo amaterski turnir te su svi dobrodošli☺️\nOvaj put se igra pojedinačno na dva dobivena seta.\nŽelimo vam svima sreću i neka najbolji pobijedi😎\nVidimo se u Skatuli! \nVaš SZDU❤️ \n————————————————————————————— \nDear all\, \nwe’re continuing with our Wednesday activities 🤩!\nDue to numerous requests\, this week we’ve organized the first table tennis tournament of this academic year 🥳😆 \nPlease note that this is an amateur tournament\, and everyone is welcome to join ☺️\nThis time\, the matches will be played individually\, best of two winning sets.\nWe wish everyone the best of luck\, may the best player win! 😎 \nSee you at Skatula! 🎉 \nYours SZDU❤️
URL:https://dubrovnik.today/event/turnir-u-stolnom-tenisu/
LOCATION:Studentski dom\, Marka Marojice 2b\, Dubrovnik\, Dubrovačko-neretvanska\, 20000\, Croatia
CATEGORIES:Sport
ATTACH;FMTTYPE=image/jpeg:https://dubrovnik.today/wp-content/uploads/2025/10/571482598_18323175706246098_7848958784176011390_n.jpg
ORGANIZER;CN="Studentski zbor Sveu%C4%8Dili%C5%A1ta u Dubrovniku":MAILTO:info@szdu.hr
GEO:42.6495114;18.0844886
X-APPLE-STRUCTURED-LOCATION;VALUE=URI;X-ADDRESS=Studentski dom Marka Marojice 2b Dubrovnik Dubrovačko-neretvanska 20000 Croatia;X-APPLE-RADIUS=500;X-TITLE=Marka Marojice 2b:geo:18.0844886,42.6495114
END:VEVENT
BEGIN:VEVENT
DTSTART;TZID=Europe/Zagreb:20251031T200000
DTEND;TZID=Europe/Zagreb:20251031T213000
DTSTAMP:20260423T155629
CREATED:20251029T111559Z
LAST-MODIFIED:20251029T111559Z
UID:10006986-1761940800-1761946200@dubrovnik.today
SUMMARY:MNK Square - MNK Futsal Dinamo
DESCRIPTION:HRVATSKI KUP\, 1/16 FINALAMNK Square – MNK Futsal Dinamo\nU utakmici za prolaz u osminu finala dočekujemo Futsal Dinamo!\n\n#ajmosquare
URL:https://dubrovnik.today/event/mnk-square-mnk-futsal-dinamo/
LOCATION:Sportska dvorana Gospino polje\, Liechtensteinov put 10\, Dubrovnik\, Dubrovačko-neretvanska\, 20000\, Croatia
CATEGORIES:Sport
ATTACH;FMTTYPE=image/jpeg:https://dubrovnik.today/wp-content/uploads/2025/10/573291194_1322169319706347_6241135828199505688_n.jpg
GEO:42.646844;18.0882112
X-APPLE-STRUCTURED-LOCATION;VALUE=URI;X-ADDRESS=Sportska dvorana Gospino polje Liechtensteinov put 10 Dubrovnik Dubrovačko-neretvanska 20000 Croatia;X-APPLE-RADIUS=500;X-TITLE=Liechtensteinov put 10:geo:18.0882112,42.646844
END:VEVENT
END:VCALENDAR