BEGIN:VCALENDAR
VERSION:2.0
PRODID:-//dbk.life - ECPv6.15.12//NONSGML v1.0//EN
CALSCALE:GREGORIAN
METHOD:PUBLISH
X-WR-CALNAME:dbk.life
X-ORIGINAL-URL:https://dubrovnik.today
X-WR-CALDESC:Events for dbk.life
REFRESH-INTERVAL;VALUE=DURATION:PT1H
X-Robots-Tag:noindex
X-PUBLISHED-TTL:PT1H
BEGIN:VTIMEZONE
TZID:Europe/Zagreb
BEGIN:DAYLIGHT
TZOFFSETFROM:+0100
TZOFFSETTO:+0200
TZNAME:CEST
DTSTART:20250330T010000
END:DAYLIGHT
BEGIN:STANDARD
TZOFFSETFROM:+0200
TZOFFSETTO:+0100
TZNAME:CET
DTSTART:20251026T010000
END:STANDARD
BEGIN:DAYLIGHT
TZOFFSETFROM:+0100
TZOFFSETTO:+0200
TZNAME:CEST
DTSTART:20260329T010000
END:DAYLIGHT
BEGIN:STANDARD
TZOFFSETFROM:+0200
TZOFFSETTO:+0100
TZNAME:CET
DTSTART:20261025T010000
END:STANDARD
BEGIN:DAYLIGHT
TZOFFSETFROM:+0100
TZOFFSETTO:+0200
TZNAME:CEST
DTSTART:20270328T010000
END:DAYLIGHT
BEGIN:STANDARD
TZOFFSETFROM:+0200
TZOFFSETTO:+0100
TZNAME:CET
DTSTART:20271031T010000
END:STANDARD
END:VTIMEZONE
BEGIN:VEVENT
DTSTART;TZID=Europe/Zagreb:20260331T180000
DTEND;TZID=Europe/Zagreb:20260331T200000
DTSTAMP:20260420T181324
CREATED:20260401T083828Z
LAST-MODIFIED:20260401T083828Z
UID:10008625-1774980000-1774987200@dubrovnik.today
SUMMARY:Šah radionica za studente
DESCRIPTION:♟️ ŠAH ZA SVE! \nDođi\, sjedni\, napravi potez. \n📅 Utorkom — 31.3. / 7.4. / 14.4.\n🕖 18:00 – 20:00\n📍 Studentski dom\, učionica YX3 (3. kat) \nSvi su dobrodošli\, bez obzira na razinu znanja!
URL:https://dubrovnik.today/event/sah-radionica-za-studente/2026-03-31/
LOCATION:Studentski dom\, Marka Marojice 2b\, Dubrovnik\, Dubrovačko-neretvanska\, 20000\, Croatia
CATEGORIES:Sport
ATTACH;FMTTYPE=image/jpeg:https://dubrovnik.today/wp-content/uploads/2026/04/656025688_17945924739134909_6764523134841630635_n.jpg
ORGANIZER;CN="UniSport DU":MAILTO:sssd@unidu.hr
GEO:42.6495114;18.0844886
X-APPLE-STRUCTURED-LOCATION;VALUE=URI;X-ADDRESS=Studentski dom Marka Marojice 2b Dubrovnik Dubrovačko-neretvanska 20000 Croatia;X-APPLE-RADIUS=500;X-TITLE=Marka Marojice 2b:geo:18.0844886,42.6495114
END:VEVENT
END:VCALENDAR