BEGIN:VCALENDAR
VERSION:2.0
PRODID:-//dbk.life - ECPv6.15.12//NONSGML v1.0//EN
CALSCALE:GREGORIAN
METHOD:PUBLISH
X-ORIGINAL-URL:https://dubrovnik.today
X-WR-CALDESC:Events for dbk.life
REFRESH-INTERVAL;VALUE=DURATION:PT1H
X-Robots-Tag:noindex
X-PUBLISHED-TTL:PT1H
BEGIN:VTIMEZONE
TZID:Europe/Zagreb
BEGIN:DAYLIGHT
TZOFFSETFROM:+0100
TZOFFSETTO:+0200
TZNAME:CEST
DTSTART:20250330T010000
END:DAYLIGHT
BEGIN:STANDARD
TZOFFSETFROM:+0200
TZOFFSETTO:+0100
TZNAME:CET
DTSTART:20251026T010000
END:STANDARD
BEGIN:DAYLIGHT
TZOFFSETFROM:+0100
TZOFFSETTO:+0200
TZNAME:CEST
DTSTART:20260329T010000
END:DAYLIGHT
BEGIN:STANDARD
TZOFFSETFROM:+0200
TZOFFSETTO:+0100
TZNAME:CET
DTSTART:20261025T010000
END:STANDARD
BEGIN:DAYLIGHT
TZOFFSETFROM:+0100
TZOFFSETTO:+0200
TZNAME:CEST
DTSTART:20270328T010000
END:DAYLIGHT
BEGIN:STANDARD
TZOFFSETFROM:+0200
TZOFFSETTO:+0100
TZNAME:CET
DTSTART:20271031T010000
END:STANDARD
END:VTIMEZONE
BEGIN:VEVENT
DTSTART;TZID=Europe/Zagreb:20260228T100000
DTEND;TZID=Europe/Zagreb:20260228T123000
DTSTAMP:20260420T195336
CREATED:20260221T190628Z
LAST-MODIFIED:20260221T190628Z
UID:10008162-1772272800-1772281800@dubrovnik.today
SUMMARY:Duatlon Konavle - 1.kolo MSL 2026
DESCRIPTION:Konavle Duatlon 1. Kolo\nKonavle Duatlon multi sport utrka / 5k trčanje / 20k bicikla / 2.5k trčanje / start utrke Vučje zdrijelo – Konavle\, 10:30\, datum 28.2.2026. Subota\, 1. kolo DUBROVNIK MULTISPORT LIGE 2026.\n10:00 podjela startnih brojeva10:30 start12:00 proglašenje pobjednika12:30 tratamenat u Cadmos Villageu https://maps.app.goo.gl/Jocw5gpqiSAe8Bdk9?g_st=ic\nPažnja: kaciga na bicikli obavezna i poštivanje prometnih pravila / VOŽNJA U ZAVJETRINI JE DOZVOLJENA SAMO ZA NATJECATELJE ISTOG SPOLA\, Cestovna bicikla\, MTB dozvoljeni. TT bicikli\, korištenje barova i E-bicikli nisu dozvoljeni!\nMolimo doći pola sata prije\, zagrijati se\, uzeti natjecateljski broj i upoznati se s pravilima i rutom utrke.\nPrijave / besplatno na linku:https://forms.gle/N1bDRD7ZXkeNCk276\n– Natjecanje je na vlastitu odgovornost!\n– Mogu sudjelovati INDIVIDUALCI i ŠTAFETE.\n-Svi sudionici su pozvani na tratamenat iza utrke 
URL:https://dubrovnik.today/event/duatlon-konavle-1-kolo-msl-2026/
LOCATION:Čilipi\, Konavle\, Precrkva\, Čilipi\, Dubrovačko-neretvanska\, 20213\, Croatia
CATEGORIES:Sport
ATTACH;FMTTYPE=image/jpeg:https://dubrovnik.today/wp-content/uploads/2026/02/635347207_1319279430246378_7671073880226769253_n.jpg
GEO:42.5536421;18.2792729
X-APPLE-STRUCTURED-LOCATION;VALUE=URI;X-ADDRESS=Čilipi Konavle Precrkva Čilipi Dubrovačko-neretvanska 20213 Croatia;X-APPLE-RADIUS=500;X-TITLE=Precrkva:geo:18.2792729,42.5536421
END:VEVENT
BEGIN:VEVENT
DTSTART;TZID=Europe/Zagreb:20260228T190000
DTEND;TZID=Europe/Zagreb:20260228T203000
DTSTAMP:20260420T195336
CREATED:20260227T085951Z
LAST-MODIFIED:20260227T085951Z
UID:10008237-1772305200-1772310600@dubrovnik.today
SUMMARY:VK Jug Adriatic osiguranje - VK Jadran ST
DESCRIPTION:U subotu nas čeka pravi derbi u Gružu! \n\n\n VK Jadran ST\n 28.02.2026.\n 19:00\n Dubrovnik\, Gruž\n\n\n UŽIVO na Zona Sport TV\n\n\n#tretretresese #jug #derbi #wp #sport
URL:https://dubrovnik.today/event/vk-jug-adriatic-osiguranje-vk-jadran-st/
LOCATION:Bazen Gruž\, Dr. Ante Starčevića 22\, Dubrovnik\, Dubrovačko-neretvanska\, 20000\, Croatia
CATEGORIES:Sport
ATTACH;FMTTYPE=image/jpeg:https://dubrovnik.today/wp-content/uploads/2026/02/640819860_18567129460017498_593256724192486184_n.jpg
ORGANIZER;CN="VK Jug":MAILTO:jug@jug.hr
GEO:42.6440689;18.1013228
X-APPLE-STRUCTURED-LOCATION;VALUE=URI;X-ADDRESS=Bazen Gruž Dr. Ante Starčevića 22 Dubrovnik Dubrovačko-neretvanska 20000 Croatia;X-APPLE-RADIUS=500;X-TITLE=Dr. Ante Starčevića 22:geo:18.1013228,42.6440689
END:VEVENT
END:VCALENDAR