BEGIN:VCALENDAR
VERSION:2.0
PRODID:-//dbk.life - ECPv6.15.12//NONSGML v1.0//EN
CALSCALE:GREGORIAN
METHOD:PUBLISH
X-ORIGINAL-URL:https://dubrovnik.today
X-WR-CALDESC:Events for dbk.life
REFRESH-INTERVAL;VALUE=DURATION:PT1H
X-Robots-Tag:noindex
X-PUBLISHED-TTL:PT1H
BEGIN:VTIMEZONE
TZID:Europe/Zagreb
BEGIN:DAYLIGHT
TZOFFSETFROM:+0100
TZOFFSETTO:+0200
TZNAME:CEST
DTSTART:20250330T010000
END:DAYLIGHT
BEGIN:STANDARD
TZOFFSETFROM:+0200
TZOFFSETTO:+0100
TZNAME:CET
DTSTART:20251026T010000
END:STANDARD
BEGIN:DAYLIGHT
TZOFFSETFROM:+0100
TZOFFSETTO:+0200
TZNAME:CEST
DTSTART:20260329T010000
END:DAYLIGHT
BEGIN:STANDARD
TZOFFSETFROM:+0200
TZOFFSETTO:+0100
TZNAME:CET
DTSTART:20261025T010000
END:STANDARD
BEGIN:DAYLIGHT
TZOFFSETFROM:+0100
TZOFFSETTO:+0200
TZNAME:CEST
DTSTART:20270328T010000
END:DAYLIGHT
BEGIN:STANDARD
TZOFFSETFROM:+0200
TZOFFSETTO:+0100
TZNAME:CET
DTSTART:20271031T010000
END:STANDARD
END:VTIMEZONE
BEGIN:VEVENT
DTSTART;TZID=Europe/Zagreb:20260211T210000
DTEND;TZID=Europe/Zagreb:20260211T223000
DTSTAMP:20260421T002705
CREATED:20260211T074901Z
LAST-MODIFIED:20260211T074901Z
UID:10008040-1770843600-1770849000@dubrovnik.today
SUMMARY:MNK Ombla - MNK Jadran Ljuta
DESCRIPTION:Početak drugog dijela sezone nas očekuje utakmicom protv ekipe MNK Jadran Ljuta.\n\n\nŽelimo nastaviti kontinuitet iz prvog dijela i osvojiti nove bodove!\n\n\n#tojenašaombla
URL:https://dubrovnik.today/event/mnk-ombla-mnk-jadran-ljuta/
LOCATION:Gruda\, Konavle\, Gruda\, Gruda\, Dubrovačko-neretvanska\, 20215\, Croatia
CATEGORIES:Sport
ATTACH;FMTTYPE=image/jpeg:https://dubrovnik.today/wp-content/uploads/2026/02/627928929_1517202326866955_3915942331072740616_n.jpg
GEO:42.5176369;18.3713844
X-APPLE-STRUCTURED-LOCATION;VALUE=URI;X-ADDRESS=Gruda Konavle Gruda Gruda Dubrovačko-neretvanska 20215 Croatia;X-APPLE-RADIUS=500;X-TITLE=Gruda:geo:18.3713844,42.5176369
END:VEVENT
END:VCALENDAR