BEGIN:VCALENDAR
VERSION:2.0
PRODID:-//dbk.life - ECPv6.15.12//NONSGML v1.0//EN
CALSCALE:GREGORIAN
METHOD:PUBLISH
X-ORIGINAL-URL:https://dubrovnik.today
X-WR-CALDESC:Events for dbk.life
REFRESH-INTERVAL;VALUE=DURATION:PT1H
X-Robots-Tag:noindex
X-PUBLISHED-TTL:PT1H
BEGIN:VTIMEZONE
TZID:Europe/Zagreb
BEGIN:DAYLIGHT
TZOFFSETFROM:+0100
TZOFFSETTO:+0200
TZNAME:CEST
DTSTART:20250330T010000
END:DAYLIGHT
BEGIN:STANDARD
TZOFFSETFROM:+0200
TZOFFSETTO:+0100
TZNAME:CET
DTSTART:20251026T010000
END:STANDARD
BEGIN:DAYLIGHT
TZOFFSETFROM:+0100
TZOFFSETTO:+0200
TZNAME:CEST
DTSTART:20260329T010000
END:DAYLIGHT
BEGIN:STANDARD
TZOFFSETFROM:+0200
TZOFFSETTO:+0100
TZNAME:CET
DTSTART:20261025T010000
END:STANDARD
BEGIN:DAYLIGHT
TZOFFSETFROM:+0100
TZOFFSETTO:+0200
TZNAME:CEST
DTSTART:20270328T010000
END:DAYLIGHT
BEGIN:STANDARD
TZOFFSETFROM:+0200
TZOFFSETTO:+0100
TZNAME:CET
DTSTART:20271031T010000
END:STANDARD
END:VTIMEZONE
BEGIN:VEVENT
DTSTART;TZID=Europe/Zagreb:20260117T140000
DTEND;TZID=Europe/Zagreb:20260117T170000
DTSTAMP:20260421T050905
CREATED:20260113T082747Z
LAST-MODIFIED:20260113T082747Z
UID:10007780-1768658400-1768669200@dubrovnik.today
SUMMARY:TURNIR RAPID SIJEČANJ 2026.
DESCRIPTION:[RASPIS UBRZANOG TURNIRA]\n\n\n RAPID SIJEČANJ 2026.\n Dubrovnik\, Liechtensteinov put 12\n Subota\, 17. siječnja 2026.\n Početak u 14:00 sati\n Broj kola: 7\n Tempo igre: 10’+5″\n\n\n Službeni raspis: dostupan na web stranici Šahovskog kluba Dubrovnik\n Informacije i predprijave: prijave@skdubrovnik.hr\n\n\n#chess #chessgame #chessclub #chesslife #dubrovnik #croatia
URL:https://dubrovnik.today/event/turnir-rapid-sijecanj-2026/
LOCATION:Šahovski klub Dubrovnik\, Liechensteinov put 12\, Dubrovnik\, Dubrovačko-neretvanska\, 20000\, Croatia
CATEGORIES:Sport
ATTACH;FMTTYPE=image/jpeg:https://dubrovnik.today/wp-content/uploads/2026/01/616088860_17859513366582923_6163417069639173910_n.jpg
ORGANIZER;CN="%C5%A0ahovski klub Dubrovnik":MAILTO:skdubrovnik@skdubrovnik.hr
GEO:42.6466395;18.0870519
X-APPLE-STRUCTURED-LOCATION;VALUE=URI;X-ADDRESS=Šahovski klub Dubrovnik Liechensteinov put 12 Dubrovnik Dubrovačko-neretvanska 20000 Croatia;X-APPLE-RADIUS=500;X-TITLE=Liechensteinov put 12:geo:18.0870519,42.6466395
END:VEVENT
END:VCALENDAR