BEGIN:VCALENDAR
VERSION:2.0
PRODID:-//dbk.life - ECPv6.15.12//NONSGML v1.0//EN
CALSCALE:GREGORIAN
METHOD:PUBLISH
X-WR-CALNAME:dbk.life
X-ORIGINAL-URL:https://dubrovnik.today
X-WR-CALDESC:Events for dbk.life
REFRESH-INTERVAL;VALUE=DURATION:PT1H
X-Robots-Tag:noindex
X-PUBLISHED-TTL:PT1H
BEGIN:VTIMEZONE
TZID:Europe/Zagreb
BEGIN:DAYLIGHT
TZOFFSETFROM:+0100
TZOFFSETTO:+0200
TZNAME:CEST
DTSTART:20240331T010000
END:DAYLIGHT
BEGIN:STANDARD
TZOFFSETFROM:+0200
TZOFFSETTO:+0100
TZNAME:CET
DTSTART:20241027T010000
END:STANDARD
BEGIN:DAYLIGHT
TZOFFSETFROM:+0100
TZOFFSETTO:+0200
TZNAME:CEST
DTSTART:20250330T010000
END:DAYLIGHT
BEGIN:STANDARD
TZOFFSETFROM:+0200
TZOFFSETTO:+0100
TZNAME:CET
DTSTART:20251026T010000
END:STANDARD
BEGIN:DAYLIGHT
TZOFFSETFROM:+0100
TZOFFSETTO:+0200
TZNAME:CEST
DTSTART:20260329T010000
END:DAYLIGHT
BEGIN:STANDARD
TZOFFSETFROM:+0200
TZOFFSETTO:+0100
TZNAME:CET
DTSTART:20261025T010000
END:STANDARD
END:VTIMEZONE
BEGIN:VEVENT
DTSTART;TZID=Europe/Zagreb:20251128T200000
DTEND;TZID=Europe/Zagreb:20251128T233000
DTSTAMP:20260423T194858
CREATED:20251124T135622Z
LAST-MODIFIED:20251124T135622Z
UID:10007318-1764360000-1764372600@dubrovnik.today
SUMMARY:Pikado Turnir Dubrovnik
DESCRIPTION:Nagradni fond 1300 eur+ utješna nagrada1: 1000 eura2: 200 eura3: 100 eura4: boca pića po željiPrijave na kontakt broj 0993694369
URL:https://dubrovnik.today/event/pikado-turnir-dubrovnik/
LOCATION:Cafe & night bar LEVEL\, Iva Vojnovića 39\, Dubrovnik\, Dubrovačko-neretvanska\, 20000\, Croatia
CATEGORIES:Sport
ATTACH;FMTTYPE=image/jpeg:https://dubrovnik.today/wp-content/uploads/2025/11/Captureg.jpg
ORGANIZER;CN="Cafe & night bar LEVEL":MAILTO:m.me/CafeNightBarLEVEL
GEO:42.6501053;18.0828825
X-APPLE-STRUCTURED-LOCATION;VALUE=URI;X-ADDRESS=Cafe & night bar LEVEL Iva Vojnovića 39 Dubrovnik Dubrovačko-neretvanska 20000 Croatia;X-APPLE-RADIUS=500;X-TITLE=Iva Vojnovića 39:geo:18.0828825,42.6501053
END:VEVENT
END:VCALENDAR