BEGIN:VCALENDAR
VERSION:2.0
PRODID:-//dbk.life - ECPv6.15.12//NONSGML v1.0//EN
CALSCALE:GREGORIAN
METHOD:PUBLISH
X-WR-CALNAME:dbk.life
X-ORIGINAL-URL:https://dubrovnik.today
X-WR-CALDESC:Events for dbk.life
REFRESH-INTERVAL;VALUE=DURATION:PT1H
X-Robots-Tag:noindex
X-PUBLISHED-TTL:PT1H
BEGIN:VTIMEZONE
TZID:Europe/Zagreb
BEGIN:DAYLIGHT
TZOFFSETFROM:+0100
TZOFFSETTO:+0200
TZNAME:CEST
DTSTART:20240331T010000
END:DAYLIGHT
BEGIN:STANDARD
TZOFFSETFROM:+0200
TZOFFSETTO:+0100
TZNAME:CET
DTSTART:20241027T010000
END:STANDARD
BEGIN:DAYLIGHT
TZOFFSETFROM:+0100
TZOFFSETTO:+0200
TZNAME:CEST
DTSTART:20250330T010000
END:DAYLIGHT
BEGIN:STANDARD
TZOFFSETFROM:+0200
TZOFFSETTO:+0100
TZNAME:CET
DTSTART:20251026T010000
END:STANDARD
BEGIN:DAYLIGHT
TZOFFSETFROM:+0100
TZOFFSETTO:+0200
TZNAME:CEST
DTSTART:20260329T010000
END:DAYLIGHT
BEGIN:STANDARD
TZOFFSETFROM:+0200
TZOFFSETTO:+0100
TZNAME:CET
DTSTART:20261025T010000
END:STANDARD
END:VTIMEZONE
BEGIN:VEVENT
DTSTART;TZID=Europe/Zagreb:20251112T170000
DTEND;TZID=Europe/Zagreb:20251112T183000
DTSTAMP:20260423T181647
CREATED:20251110T085237Z
LAST-MODIFIED:20251110T085237Z
UID:10007128-1762966800-1762972200@dubrovnik.today
SUMMARY:Hrvatska - Crna Gora
DESCRIPTION:HRVATSKA FUTSAL REPREZENTACIJA U DUBROVNIKU \n\n\n U srijedu naša reprezentacija igra prijateljsku utakmicu protiv reprezentacije Crne Gore \n\n\n Dvorana Gospino polje\, Dubrovnik\n Srijeda\, 12. studenog\n Početak: 17:00 sati\n\n\n Dođi podržati reprezentaciju i uživaj u vrhunskom futsalu\n\n\n Ulaz je slobodan — napunimo tribine
URL:https://dubrovnik.today/event/hrvatska-crna-gora/
LOCATION:Sportska dvorana Gospino polje\, Liechtensteinov put 10\, Dubrovnik\, Dubrovačko-neretvanska\, 20000\, Croatia
CATEGORIES:Sport
ATTACH;FMTTYPE=image/jpeg:https://dubrovnik.today/wp-content/uploads/2025/11/578542470_1333067465283199_5921005571557513902_n.jpg
GEO:42.646844;18.0882112
X-APPLE-STRUCTURED-LOCATION;VALUE=URI;X-ADDRESS=Sportska dvorana Gospino polje Liechtensteinov put 10 Dubrovnik Dubrovačko-neretvanska 20000 Croatia;X-APPLE-RADIUS=500;X-TITLE=Liechtensteinov put 10:geo:18.0882112,42.646844
END:VEVENT
END:VCALENDAR