BEGIN:VCALENDAR
VERSION:2.0
PRODID:-//dbk.life - ECPv6.15.12//NONSGML v1.0//EN
CALSCALE:GREGORIAN
METHOD:PUBLISH
X-ORIGINAL-URL:https://dubrovnik.today
X-WR-CALDESC:Events for dbk.life
REFRESH-INTERVAL;VALUE=DURATION:PT1H
X-Robots-Tag:noindex
X-PUBLISHED-TTL:PT1H
BEGIN:VTIMEZONE
TZID:Europe/Zagreb
BEGIN:DAYLIGHT
TZOFFSETFROM:+0100
TZOFFSETTO:+0200
TZNAME:CEST
DTSTART:20240331T010000
END:DAYLIGHT
BEGIN:STANDARD
TZOFFSETFROM:+0200
TZOFFSETTO:+0100
TZNAME:CET
DTSTART:20241027T010000
END:STANDARD
BEGIN:DAYLIGHT
TZOFFSETFROM:+0100
TZOFFSETTO:+0200
TZNAME:CEST
DTSTART:20250330T010000
END:DAYLIGHT
BEGIN:STANDARD
TZOFFSETFROM:+0200
TZOFFSETTO:+0100
TZNAME:CET
DTSTART:20251026T010000
END:STANDARD
BEGIN:DAYLIGHT
TZOFFSETFROM:+0100
TZOFFSETTO:+0200
TZNAME:CEST
DTSTART:20260329T010000
END:DAYLIGHT
BEGIN:STANDARD
TZOFFSETFROM:+0200
TZOFFSETTO:+0100
TZNAME:CET
DTSTART:20261025T010000
END:STANDARD
END:VTIMEZONE
BEGIN:VEVENT
DTSTART;TZID=Europe/Zagreb:20251025T080000
DTEND;TZID=Europe/Zagreb:20251026T170000
DTSTAMP:20260423T224920
CREATED:20250930T105422Z
LAST-MODIFIED:20250930T105422Z
UID:10006704-1761379200-1761498000@dubrovnik.today
SUMMARY:Dubrovnik Open 2025 - Taekwon-do turnir
DESCRIPTION:Izuzetno nam je zadovoljstvo pozvati vas na međunarodni turnir “Dubrovnik Open 2025” koji će se održati od 25. do 26. listopada u sportskoj dvorani Gospino polje.\nOvaj već sada tradicionalni turnir okupit će najbolje sportaše i pružiti nezaboravno iskustvo natjecanja. Kategorije obuhvaćaju djecu\, mlađe kadete\, kadete\, juniore\, seniore i timski sparring.Pridružite nam se na Dubrovnik Openu 2025 i budite svjedoci vrhunskog natjecateljskog duha i nevjerojatnih sportskih dostignuća.
URL:https://dubrovnik.today/event/dubrovnik-open-2025-taekwon-do-turnir/
LOCATION:Sportska dvorana Gospino polje\, Liechtensteinov put 10\, Dubrovnik\, Dubrovačko-neretvanska\, 20000\, Croatia
CATEGORIES:Sport
ATTACH;FMTTYPE=image/jpeg:https://dubrovnik.today/wp-content/uploads/2025/09/490170155_1415670886403284_9115992180302749284_n.jpg
ORGANIZER;CN="Taekwon-do Klub 'Shark' Dubrovnik":MAILTO:https://www.facebook.com/TkdKlubSharkDubrovnik
GEO:42.646844;18.0882112
X-APPLE-STRUCTURED-LOCATION;VALUE=URI;X-ADDRESS=Sportska dvorana Gospino polje Liechtensteinov put 10 Dubrovnik Dubrovačko-neretvanska 20000 Croatia;X-APPLE-RADIUS=500;X-TITLE=Liechtensteinov put 10:geo:18.0882112,42.646844
END:VEVENT
BEGIN:VEVENT
DTSTART;TZID=Europe/Zagreb:20251026T090000
DTEND;TZID=Europe/Zagreb:20251026T170000
DTSTAMP:20260423T224920
CREATED:20250930T110121Z
LAST-MODIFIED:20250930T110121Z
UID:10006706-1761469200-1761498000@dubrovnik.today
SUMMARY:Dubrovnik Triathlon
DESCRIPTION:EARTH\, SEA & FIRE – Dubrovnik Triathlon 26th October. Email: triathlon@earthseafire.eu
URL:https://dubrovnik.today/event/dubrovnik-triathlon/
LOCATION:Dubrovnik\, Dubrovnik\, Dubrovačko-neretvanska\, 20000\, Croatia
CATEGORIES:Sport
ATTACH;FMTTYPE=image/jpeg:https://dubrovnik.today/wp-content/uploads/2025/09/491801748_1347929073451110_5025777766458772707_n-e1759230068725.jpg
ORGANIZER;CN="EARTH%2C SEA & FIRE - Dubrovnik Triathlon":MAILTO:triathlon@earthseafire.eu
GEO:42.6586378;18.1013637
END:VEVENT
END:VCALENDAR