BEGIN:VCALENDAR
VERSION:2.0
PRODID:-//dbk.life - ECPv6.15.12//NONSGML v1.0//EN
CALSCALE:GREGORIAN
METHOD:PUBLISH
X-WR-CALNAME:dbk.life
X-ORIGINAL-URL:https://dubrovnik.today
X-WR-CALDESC:Events for dbk.life
REFRESH-INTERVAL;VALUE=DURATION:PT1H
X-Robots-Tag:noindex
X-PUBLISHED-TTL:PT1H
BEGIN:VTIMEZONE
TZID:Europe/Zagreb
BEGIN:DAYLIGHT
TZOFFSETFROM:+0100
TZOFFSETTO:+0200
TZNAME:CEST
DTSTART:20250330T010000
END:DAYLIGHT
BEGIN:STANDARD
TZOFFSETFROM:+0200
TZOFFSETTO:+0100
TZNAME:CET
DTSTART:20251026T010000
END:STANDARD
BEGIN:DAYLIGHT
TZOFFSETFROM:+0100
TZOFFSETTO:+0200
TZNAME:CEST
DTSTART:20260329T010000
END:DAYLIGHT
BEGIN:STANDARD
TZOFFSETFROM:+0200
TZOFFSETTO:+0100
TZNAME:CET
DTSTART:20261025T010000
END:STANDARD
BEGIN:DAYLIGHT
TZOFFSETFROM:+0100
TZOFFSETTO:+0200
TZNAME:CEST
DTSTART:20270328T010000
END:DAYLIGHT
BEGIN:STANDARD
TZOFFSETFROM:+0200
TZOFFSETTO:+0100
TZNAME:CET
DTSTART:20271031T010000
END:STANDARD
END:VTIMEZONE
BEGIN:VEVENT
DTSTART;TZID=Europe/Zagreb:20260401T180000
DTEND;TZID=Europe/Zagreb:20260401T200000
DTSTAMP:20260420T140638
CREATED:20260224T143028Z
LAST-MODIFIED:20260324T095835Z
UID:10008556-1775066400-1775073600@dubrovnik.today
SUMMARY:SVE PO SPISKU / I Swear
DESCRIPTION:Duhovit\, iskren i vrlo snažan film inspiriran životom i iskustvima Johna Davidsona\, koji prati njegovo putovanje od neshvaćenog tinejdžera u Britaniji 1980-ih do današnjeg zagovornika razumijevanja i prihvaćanja Touretteovog sindroma. \nDijagnosticiran mu je u dobi od 15 godina\, a kroz problematične tinejdžerske godine i odrastanje on se probija unatoč svim preprekama\, pronalazeći inspiraciju u ljubaznosti drugih i otkrivajući svoju pravu svrhu u životu.
URL:https://dubrovnik.today/event/sve-po-spisku-i-swear/2026-04-01/
LOCATION:Kino Sloboda\, Luža 66\, Dubrovnik\, Dubrovačko-neretvanska\, 20000\, Croatia
CATEGORIES:Cinema
ATTACH;FMTTYPE=image/jpeg:https://dubrovnik.today/wp-content/uploads/2026/02/I-SWEAR-1920x1080px-T-PORTAL.jpg
ORGANIZER;CN="Kinematografi Dubrovnik":MAILTO:operater@kinematografi.org
GEO:42.6409105;18.1101717
X-APPLE-STRUCTURED-LOCATION;VALUE=URI;X-ADDRESS=Kino Sloboda Luža 66 Dubrovnik Dubrovačko-neretvanska 20000 Croatia;X-APPLE-RADIUS=500;X-TITLE=Luža 66:geo:18.1101717,42.6409105
END:VEVENT
BEGIN:VEVENT
DTSTART;TZID=Europe/Zagreb:20260401T180000
DTEND;TZID=Europe/Zagreb:20260401T201500
DTSTAMP:20260420T140638
CREATED:20260303T113739Z
LAST-MODIFIED:20260330T102054Z
UID:10008551-1775066400-1775074500@dubrovnik.today
SUMMARY:SENTIMENTALNA VRIJEDNOST / Sentimental Value
DESCRIPTION:Sestre Nora i Agnes ponovno se susreću sa svojim otuđenim ocem\, karizmatičnim Gustavom\, nekoć poznatim redateljem koji kazališnoj glumici Nori nudi ulogu u filmu za koji se nada da će biti njegov povratak. Kad Nora odbije ponudu\, ubrzo otkriva da je njezinu ulogu dao mladoj holivudskoj zvijezdi. Odjednom se dvije sestre moraju snalaziti u kompliciranom odnosu s ocem i nositi se s američkom zvijezdom koja se našla usred njihove složene obiteljske dinamike. \n  \n***  Nominiran za Oscara 2026. u kategorijama:  najbolji film\, najbolji međunarodni film\, najbolja režija\,  glavna ženska uloga (Renate Reinsve)\, sporedna muška uloga  (Stellan Skarsgård)\, dvije sporedne ženske uloge (Elle Fanning i Inga Ibsdotter Lilleaas)\, originalni scenarij i montaža  \n*** Filmski festival u Cannesu 2025 – Grand prix; Međunarodni filmski festival u Locarnu 2025; Međunarodni filmski festival u Torontu 2025; Međunarodni filmski festival u San Sebastiánu 2025
URL:https://dubrovnik.today/event/sentimentalna-vrijednost-sentimental-value/2026-04-01/
LOCATION:Kino dvorana Visia\, Poljana Paska Miličevića 3\, Dubrovnik\, 20000\, Croatia
CATEGORIES:Cinema
ATTACH;FMTTYPE=image/jpeg:https://dubrovnik.today/wp-content/uploads/2026/03/SENTIMENTAL-VALUE-1920x1080px-T-PORTAL.jpg
ORGANIZER;CN="Kinematografi Dubrovnik":MAILTO:operater@kinematografi.org
GEO:42.6414431;18.1071797
X-APPLE-STRUCTURED-LOCATION;VALUE=URI;X-ADDRESS=Kino dvorana Visia Poljana Paska Miličevića 3 Dubrovnik 20000 Croatia;X-APPLE-RADIUS=500;X-TITLE=Poljana Paska Miličevića 3:geo:18.1071797,42.6414431
END:VEVENT
BEGIN:VEVENT
DTSTART;TZID=Europe/Zagreb:20260401T201500
DTEND;TZID=Europe/Zagreb:20260401T224500
DTSTAMP:20260420T140638
CREATED:20260318T082553Z
LAST-MODIFIED:20260414T085233Z
UID:10008548-1775074500-1775083500@dubrovnik.today
SUMMARY:PROJEKT SPASITELJ / Project Hail Mary
DESCRIPTION:Profesor prirodoslovlja Ryland Grace (Ryan Gosling) budi se na svemirskom brodu\, svjetlosnim godinama udaljen od doma\, bez ikakvog sjećanja na to tko je i kako je ondje dospio. Kako mu se pamćenje postupno vraća\, počinje otkrivati svoju misiju: riješiti zagonetku tajanstvene tvari zbog koje Sunce polako odumire. Mora se osloniti na svoje znanstveno znanje i nekonvencionalne ideje kako bi spasio život na Zemlji od izumiranja… no neočekivano prijateljstvo znači da se s tim možda ipak neće morati suočiti sam.
URL:https://dubrovnik.today/event/projekt-spasitelj-project-hail-mary/2026-04-01/
LOCATION:Kino Sloboda\, Luža 66\, Dubrovnik\, Dubrovačko-neretvanska\, 20000\, Croatia
CATEGORIES:Cinema
ATTACH;FMTTYPE=image/jpeg:https://dubrovnik.today/wp-content/uploads/2026/03/2-1.jpg
ORGANIZER;CN="Kinematografi Dubrovnik":MAILTO:operater@kinematografi.org
GEO:42.6409105;18.1101717
X-APPLE-STRUCTURED-LOCATION;VALUE=URI;X-ADDRESS=Kino Sloboda Luža 66 Dubrovnik Dubrovačko-neretvanska 20000 Croatia;X-APPLE-RADIUS=500;X-TITLE=Luža 66:geo:18.1101717,42.6409105
END:VEVENT
BEGIN:VEVENT
DTSTART;TZID=Europe/Zagreb:20260401T203000
DTEND;TZID=Europe/Zagreb:20260401T221500
DTSTAMP:20260420T140638
CREATED:20260324T094613Z
LAST-MODIFIED:20260324T094613Z
UID:10008538-1775075400-1775081700@dubrovnik.today
SUMMARY:COUTURE
DESCRIPTION:U kina stiže COUTURE redateljice Alice Winocour\, prvi igrani film kojem je dopušteno snimanje unutar slavnog Chanelovog izložbenog salona i atelijera! \nRadnja filma COUTURE smještena je tijekom frenetičnog Tjedna mode u Parizu u kojem se isprepliću životi triju žena: Maxine (Jolie)\, američke redateljice koja u teškom osobnom trenutku biva uvučena u neočekivanu vezu s poznatim suradnikom (Louis Garrel); Ade (Anyier Anei)\, potpuno svježeg lica u svijetu manekenstva koja bježi od unaprijed određene budućnosti kod kuće u Južnom Sudanu; i Angèle (Ella Rumpf)\, vizažistice koja radi u sjeni modnih pista. Dok se njihovi putevi isprepliću\, film otkriva tihu otpornost ispod površine javnih nastupa i odaje počast neizrečenoj solidarnosti koju ove žene različitih profesija i kultura dijele…
URL:https://dubrovnik.today/event/couture-2/2026-04-01/
LOCATION:Kino dvorana Visia\, Poljana Paska Miličevića 3\, Dubrovnik\, 20000\, Croatia
CATEGORIES:Cinema
ATTACH;FMTTYPE=image/jpeg:https://dubrovnik.today/wp-content/uploads/2026/03/1920-x-600-1.jpg
ORGANIZER;CN="Kinematografi Dubrovnik":MAILTO:operater@kinematografi.org
GEO:42.6414431;18.1071797
X-APPLE-STRUCTURED-LOCATION;VALUE=URI;X-ADDRESS=Kino dvorana Visia Poljana Paska Miličevića 3 Dubrovnik 20000 Croatia;X-APPLE-RADIUS=500;X-TITLE=Poljana Paska Miličevića 3:geo:18.1071797,42.6414431
END:VEVENT
END:VCALENDAR