BEGIN:VCALENDAR
VERSION:2.0
PRODID:-//dbk.life - ECPv6.15.12//NONSGML v1.0//EN
CALSCALE:GREGORIAN
METHOD:PUBLISH
X-ORIGINAL-URL:https://dubrovnik.today
X-WR-CALDESC:Events for dbk.life
REFRESH-INTERVAL;VALUE=DURATION:PT1H
X-Robots-Tag:noindex
X-PUBLISHED-TTL:PT1H
BEGIN:VTIMEZONE
TZID:Europe/Zagreb
BEGIN:DAYLIGHT
TZOFFSETFROM:+0100
TZOFFSETTO:+0200
TZNAME:CEST
DTSTART:20250330T010000
END:DAYLIGHT
BEGIN:STANDARD
TZOFFSETFROM:+0200
TZOFFSETTO:+0100
TZNAME:CET
DTSTART:20251026T010000
END:STANDARD
BEGIN:DAYLIGHT
TZOFFSETFROM:+0100
TZOFFSETTO:+0200
TZNAME:CEST
DTSTART:20260329T010000
END:DAYLIGHT
BEGIN:STANDARD
TZOFFSETFROM:+0200
TZOFFSETTO:+0100
TZNAME:CET
DTSTART:20261025T010000
END:STANDARD
BEGIN:DAYLIGHT
TZOFFSETFROM:+0100
TZOFFSETTO:+0200
TZNAME:CEST
DTSTART:20270328T010000
END:DAYLIGHT
BEGIN:STANDARD
TZOFFSETFROM:+0200
TZOFFSETTO:+0100
TZNAME:CET
DTSTART:20271031T010000
END:STANDARD
END:VTIMEZONE
BEGIN:VEVENT
DTSTART;TZID=Europe/Zagreb:20260409T200000
DTEND;TZID=Europe/Zagreb:20260503T170000
DTSTAMP:20260425T154736
CREATED:20260403T115526Z
LAST-MODIFIED:20260403T115526Z
UID:10008644-1775764800-1777827600@dubrovnik.today
SUMMARY:Lena Kramarić C KAO CIKLUS?
DESCRIPTION:Pozivamo vas sve na otvorenje izložbe\nC KAO CIKLUS?Lene Kramarić\nu četvrtak 9. 4. 2026. u 20 satiu Galeriju Otok\n\nSanjarski\, introspektivan izričaj u Crvenom se ciklusu nastavlja prepoznavati kao karakterističan za Lenino slikarstvo. Elegantni crtež u kombinaciji s ponegdje jarkom\, a ponegdje nježnijom paletom boja kontinuirano zajednički stvaraju površine platna koje se otkrivaju kroz brojne slojeve.\n….\nZa Kramarić\, slika nije samo plošni prizor nego je i materija. Struktura\, tekstura\, ogrebotine\, oštećenja – sve ono što “narušava” površinu – kod Lene je istovremeno i gradi. Slojevi\, uključujući fragilne tragove salvete\, ostaju vidljivi\, kao da umjetnica odbija sakriti proces svog rada. Dapače\, ona inzistira na tome da prikaže ranjivosti materijala koji se talože jedan na drugoga. Površina slike tako postaje mjesto memorije\, gdje se svaki zahvat bilježi kao trag postojanja.\n….\nSlikarstvo Leni Kramarić ne nudi razrješenja. Ono se kreće između svjesnog i nesvjesnog\, između potrebe za formom i njezina stalnog uslojavanja. U tom prostoru napetosti nastaje slika — kao trag procesa\, kao zapis stanja\, kao pokušaj da se ono neizrecivo ipak zadrži na površini. U konačnici\, slikarski svemir Lene Kramarić funkcionira poput otvorenog teksta: promatrač ga ne čita linearno\, nego ga nastanjuje\, vraća mu se i u njemu prepoznaje vlastite lomove i uzdizanja.\n(iz teksta Anite Ruso Brečić)\n\n\nTehnički postav: Nikša VukosavićKustosica: Anita Ruso BrečićProdukcija: Lena Kramarić / UO Genijator i Art radionica Lazareti\, 2026\nIzložba ostaje otvorena do 03. 05. 2026Radno vrijeme: PON – PET 11 – 19 sati\nFinancijska podrška:Grad Dubrovnik\, Ministarstvo kulture i medija Republike Hrvatske i Dubrovačko neretvanska Županija
URL:https://dubrovnik.today/event/lena-kramaric-c-kao-ciklus/
LOCATION:art radionica lazareti # art workshop lazareti\, Frana Supila 8\, Dubrovnik\, Dubrovačko-neretvanska\, 20000\, Croatia
CATEGORIES:Exhibition
ATTACH;FMTTYPE=image/jpeg:https://dubrovnik.today/wp-content/uploads/2026/04/661338491_1546426110817175_6067388035699511785_n.jpg
ORGANIZER;CN="art radionica lazareti # art workshop lazareti":MAILTO:art@du.t-com.hr
GEO:42.6416755;18.1145855
X-APPLE-STRUCTURED-LOCATION;VALUE=URI;X-ADDRESS=art radionica lazareti # art workshop lazareti Frana Supila 8 Dubrovnik Dubrovačko-neretvanska 20000 Croatia;X-APPLE-RADIUS=500;X-TITLE=Frana Supila 8:geo:18.1145855,42.6416755
END:VEVENT
BEGIN:VEVENT
DTSTART;TZID=Europe/Zagreb:20260420T080000
DTEND;TZID=Europe/Zagreb:20260427T200000
DTSTAMP:20260425T154736
CREATED:20260414T064556Z
LAST-MODIFIED:20260414T064556Z
UID:10008792-1776672000-1777320000@dubrovnik.today
SUMMARY:Župski pjat
DESCRIPTION:Ponedjeljak\, 20. travnja\nJutarnji program\nOd 8 do 11 sati: Interaktivne radionice s vrtićkom djecom + čitanje legende iz župskog Zbornika\n13:20 prostor OŠ Župa dubrovačka: KUD Marko Marojica i OŠ Župa dubrovačka – prezentacija folklora kroz satove folklora i živu baštinu\n*edukativni program namijenjen vrtićkoj i školskoj djeci \nPopodnevni program\n19:00 Predavanje višeg kustosa\, voditelja Etnografskog muzeja Ivice Kipre\nLokacija: Dom u Buićima\n*suradnja Dubrovačkih muzeja i Festivala Župski pjat \nUtorak\, 21. travnja\nJutarnji program\n8 do 11 sati: Edukacije osnovnoškolske djece – EduKido LEGO interaktivne radionice\nLokacija: Škola na Kantulama\n*edukativni program namijenjen vrtićkoj i školskoj djeci \nPopodnevni program\n18:00 Predavanje uz prezentaciju nove aplikacije o filmskim lokacijama našeg kraja\nPredavač: mag. hist. Ivan Lujo\n*predavanje na engleskom jeziku\nLokacija: Mlini \nSrijeda\, 22. travnja\n10:00 Dan planeta Zemlje\nInteraktivno predavanje i radionica u Zavodu za mediteranske kulture (pokušalište Čibača) – kvalitetno posađen vrt i nutritivna vrijednost lokalnih mediteranskih kultura\nLokacija: Rasadnik Čibača\n*suradnja Festivala Župski pjat i Zavoda za mediteranske kulture Sveučilišta u Dubrovniku \nČetvrtak\, 23. travnja\n10:00 do 12:00 Predstavljanje pogona za uzgoj bioklica uz radionicu pokretanja klijanja temeljem tradicijskih kultura\nLokacija: Krstac (staklenik) \nPopodnevni program\nRuzmarin & Mirna Sentić\nviše info: finalmente.srebreno@gmail.com \nPetak\, 24. travnja\n14:00 Posjet OPG-u Kristović\, dobitnicima srebrne medalje na prestižnom natjecanju NYIOOC World Olive Oil Competition u New Yorku\nLokacija: OPG Kristović \nSubota\, 25. travnja\n10:00 do 12:00 Likovno-edukativna radionica Župska fauna (6–12 godina)\nVoditeljica: viša kustosica pedagoginja Dubravka Tullio\n*suradnja Prirodoslovnog muzeja Dubrovnik i Festivala Župski pjat\nLokacija: izvor Bravinjac \nPopodnevni program\n15:00 do 17:00 Radionica izrade domaće tjestenine s limunom (bezglutenska)\nVoditeljica: Ane Čerjan\nLokacija: OPG Jović Lemon Gardens \nNedjelja\, 26. travnja\n14:00 Postranjskim koracima: šetnja kroz burnu povijest Postranja\nTrajanje: 2 sata\nPredavač: Domagoj Kristović \nPonedjeljak\, 27. travnja\nJutarnji program\n8:00 do 11:00 Edukativni program u OŠ Župa dubrovačka: ljekoviti vrt i izrada funkcionalnih poklona/suvenira (sapuni)\n*edukativni program namijenjen vrtićkoj i školskoj djeci \nPopodnevni program\n18:00 Lutkarski teatar Aster: predstava\nLokacija: Samostan sv. Vicenca \nOrganizator zadržava pravo izmjene programa.\nViše informacija: info@zupski-pjat.com
URL:https://dubrovnik.today/event/zupski-pjat/
LOCATION:Župa Dubrovačka\, Župa Dubrovačka\, Dubrovačko-neretvanska\, Croatia
CATEGORIES:Gastronomy,Lecture,Workshop
ATTACH;FMTTYPE=image/jpeg:https://dubrovnik.today/wp-content/uploads/2026/04/669936078_122250864104248844_3178258457033897412_n.jpg
ORGANIZER;CN="%C5%BDupski pjat":MAILTO:info@zupski-pjat.com
GEO:42.6413148;18.1784455
END:VEVENT
BEGIN:VEVENT
DTSTART;TZID=Europe/Zagreb:20260426T100000
DTEND;TZID=Europe/Zagreb:20260426T170000
DTSTAMP:20260425T154736
CREATED:20260414T052720Z
LAST-MODIFIED:20260414T052720Z
UID:10008757-1777197600-1777222800@dubrovnik.today
SUMMARY:Sajam razmjene biljaka u ARL
DESCRIPTION:U subotu i nedjelju\, 25. i 26. 4. organizirat ćemo mali sajam razmjene biljaka u ARL\, a ovo je prilika da vas pozovemo da sudjelujete. Pripremite\, rasadite i presadite svoje biljke i donesite ih u ARL 25. i 26. 4. pa ih zamijenite na licu mjesta.\nA bit će I muzike i ploča i film i par vintage i second hand štandova\, uglavnom bit će to jedan fino ugođen vikend.\nViše informacija na arl@arl.hr.\nSlijede pozivi\, event\, raspored događanja i naravno razmjena \nPozovite susjede i prijatelje i vidimo se
URL:https://dubrovnik.today/event/sajam-razmjene-biljaka-u-arl/2026-04-26/
LOCATION:art radionica lazareti # art workshop lazareti\, Frana Supila 8\, Dubrovnik\, Dubrovačko-neretvanska\, 20000\, Croatia
ATTACH;FMTTYPE=image/jpeg:https://dubrovnik.today/wp-content/uploads/2026/04/671474258_1555937746532678_4085462479993906629_n.jpg
ORGANIZER;CN="art radionica lazareti # art workshop lazareti":MAILTO:art@du.t-com.hr
GEO:42.6416755;18.1145855
X-APPLE-STRUCTURED-LOCATION;VALUE=URI;X-ADDRESS=art radionica lazareti # art workshop lazareti Frana Supila 8 Dubrovnik Dubrovačko-neretvanska 20000 Croatia;X-APPLE-RADIUS=500;X-TITLE=Frana Supila 8:geo:18.1145855,42.6416755
END:VEVENT
BEGIN:VEVENT
DTSTART;TZID=Europe/Zagreb:20260426T160000
DTEND;TZID=Europe/Zagreb:20260426T173000
DTSTAMP:20260425T154736
CREATED:20260423T052840Z
LAST-MODIFIED:20260423T052840Z
UID:10008887-1777219200-1777224600@dubrovnik.today
SUMMARY:MAČJA POSLA / Miss Moxy
DESCRIPTION:Jedna razmažena mačka. Jedan smušeni pas. Jedno veliko putovanje koje će promijeniti sve. Kada se razmažena kućna mačka Miss Moxy tijekom obiteljskog putovanja izgubi daleko od doma\, pred njom se otvara velika pustolovina kroz jug Europe. Kako bi pronašla put kući\, morat će učiniti nešto što joj se čini nezamislivim – zatražiti pomoć upravo od onih koje mačke najčešće izbjegavaju. Na tom putovanju pridružuju joj se Brute\, dobrodušan ali pomalo nespretan pas\, i Ayo\, stara i mudra lastavica. Zajedno kreću na nepredvidivo putovanje puno smiješnih zgoda\, izazova i novih prijateljstava. Tijekom ove pustolovine Moxy će naučiti slušati vlastiti glas i shvatiti da su je prijašnje predrasude prema drugima često navodile na pogrešne zaključke. Otkrit će pravo značenje prijateljstva – i shvatiti da se najvrjednije životne lekcije često kriju upravo ondje gdje ih najmanje očekujemo.
URL:https://dubrovnik.today/event/macja-posla-miss-moxy/2026-04-26/
LOCATION:Kino Sloboda\, Luža 66\, Dubrovnik\, Dubrovačko-neretvanska\, 20000\, Croatia
CATEGORIES:Cinema
ATTACH;FMTTYPE=image/jpeg:https://dubrovnik.today/wp-content/uploads/2026/04/FB_COVER_MISS_MOXY_SINGLE_HR.jpg
ORGANIZER;CN="Kinematografi Dubrovnik":MAILTO:operater@kinematografi.org
GEO:42.6409105;18.1101717
X-APPLE-STRUCTURED-LOCATION;VALUE=URI;X-ADDRESS=Kino Sloboda Luža 66 Dubrovnik Dubrovačko-neretvanska 20000 Croatia;X-APPLE-RADIUS=500;X-TITLE=Luža 66:geo:18.1101717,42.6409105
END:VEVENT
BEGIN:VEVENT
DTSTART;TZID=Europe/Zagreb:20260426T180000
DTEND;TZID=Europe/Zagreb:20260426T194500
DTSTAMP:20260425T154736
CREATED:20260408T053917Z
LAST-MODIFIED:20260423T053147Z
UID:10008894-1777226400-1777232700@dubrovnik.today
SUMMARY:DRAMA / The Drama
DESCRIPTION:Novi film studija A24 u kojem glavne uloge tumače Zendaya i Robert Pattinson. Radnja prati Emmu (zaposlenicu knjižare iz Louisiane) i Charlieja (ravnatelja muzeja iz Londona)\, naizgled sretan\, zaručeni par čiji se odnos počinje raspadati nekoliko dana prije vjenčanja\, nakon niza neočekivanih otkrića. Tijekom druženja s drugim parom\, odlučuju izgovoriti najgoru stvar koju su ikada napravili. Jedna ispovijed posebno uzdrma dinamiku odnosa i dovede u pitanje sve što su mislili da znaju jedno o drugome.
URL:https://dubrovnik.today/event/drama-the-drama-2/2026-04-26/
LOCATION:Kino dvorana Visia\, Poljana Paska Miličevića 3\, Dubrovnik\, 20000\, Croatia
CATEGORIES:Cinema
ATTACH;FMTTYPE=image/jpeg:https://dubrovnik.today/wp-content/uploads/2026/03/FB_COVER_DRAMA_single_HR.jpg
ORGANIZER;CN="Kinematografi Dubrovnik":MAILTO:operater@kinematografi.org
GEO:42.6414431;18.1071797
X-APPLE-STRUCTURED-LOCATION;VALUE=URI;X-ADDRESS=Kino dvorana Visia Poljana Paska Miličevića 3 Dubrovnik 20000 Croatia;X-APPLE-RADIUS=500;X-TITLE=Poljana Paska Miličevića 3:geo:18.1071797,42.6414431
END:VEVENT
BEGIN:VEVENT
DTSTART;TZID=Europe/Zagreb:20260426T180000
DTEND;TZID=Europe/Zagreb:20260426T200000
DTSTAMP:20260425T154736
CREATED:20260423T052248Z
LAST-MODIFIED:20260423T052248Z
UID:10008875-1777226400-1777233600@dubrovnik.today
SUMMARY:MICHAEL
DESCRIPTION:Michael je filmski prikaz života i nasljeđa jednog od najutjecajnijih umjetnika koje je svijet ikada poznavao. \nFilm priča priču o životu Michaela Jacksona izvan glazbe\, prateći njegovo putovanje od otkrića izvanrednog talenta kao vođe Jackson Fivea\, do vizionarskog umjetnika čija je kreativna ambicija potaknula neumornu težnju da postane najveći zabavljač na svijetu. \nIstičući i njegov život izvan pozornice i neke od najznačajnijih nastupa iz njegove rane solo karijere\, film publici pruža mjesto u prvom redu s Michaelom Jacksonom kao nikada prije. Ovdje počinje njegova priča.
URL:https://dubrovnik.today/event/michael/2026-04-26/
LOCATION:Kino Sloboda\, Luža 66\, Dubrovnik\, Dubrovačko-neretvanska\, 20000\, Croatia
CATEGORIES:Cinema
ATTACH;FMTTYPE=image/jpeg:https://dubrovnik.today/wp-content/uploads/2026/04/MICHAEL-B1-HR-PRINT-A-scaled-1.jpg
ORGANIZER;CN="Kinematografi Dubrovnik":MAILTO:operater@kinematografi.org
GEO:42.6409105;18.1101717
X-APPLE-STRUCTURED-LOCATION;VALUE=URI;X-ADDRESS=Kino Sloboda Luža 66 Dubrovnik Dubrovačko-neretvanska 20000 Croatia;X-APPLE-RADIUS=500;X-TITLE=Luža 66:geo:18.1101717,42.6409105
END:VEVENT
BEGIN:VEVENT
DTSTART;TZID=Europe/Zagreb:20260426T200000
DTEND;TZID=Europe/Zagreb:20260426T221500
DTSTAMP:20260425T154736
CREATED:20260303T114547Z
LAST-MODIFIED:20260423T053601Z
UID:10008901-1777233600-1777241700@dubrovnik.today
SUMMARY:BEZ IZBORA / No Other Choice
DESCRIPTION:Novo remek-djelo Parka Chan-wooka\, jednog od najvećih južnokorejskih redatelja 21. stoljeća koji je snimio nezaboravne hitove “Oldboy”\, “Sluškinja” i “Dvostruka prijevara”! \nČini se da Man-su – specijalist za proizvodnju papira s 25 godina radnog iskustva – ima sve što običan čovjek može poželjeti od života. Dok mu dani prolaze u sretnom zadovoljstvu skupa sa suprugom Miri\, njihovo dvoje djece i dva psa\, Man-su iznenada biva otpušten. Šokiran razvojem događaja\, Man-su obeća svojoj obitelji da će u roku od iduća tri mjeseca pronaći posao\, ali ubrzo će proći godina dana\, a sve što je on uspio napraviti jest šetati od jednog intervjua do drugog te dobiti odbijenice. Ubrzo se Man-su pronađe u opasnosti gubitka vlastite kuće za koju se toliko trudio kupiti je pa u očajničkom pokušaju lova na posao skuje jedinstveni plan osiguravanja novog radnog mjesta: eliminirati konkurenciju\, ako treba i silom…
URL:https://dubrovnik.today/event/bez-izbora-no-other-choice/2026-04-26/
LOCATION:Kino dvorana Visia\, Poljana Paska Miličevića 3\, Dubrovnik\, 20000\, Croatia
CATEGORIES:Cinema
ATTACH;FMTTYPE=image/jpeg:https://dubrovnik.today/wp-content/uploads/2026/03/1920-x-600-002.jpg
ORGANIZER;CN="Kinematografi Dubrovnik":MAILTO:operater@kinematografi.org
GEO:42.6414431;18.1071797
X-APPLE-STRUCTURED-LOCATION;VALUE=URI;X-ADDRESS=Kino dvorana Visia Poljana Paska Miličevića 3 Dubrovnik 20000 Croatia;X-APPLE-RADIUS=500;X-TITLE=Poljana Paska Miličevića 3:geo:18.1071797,42.6414431
END:VEVENT
BEGIN:VEVENT
DTSTART;TZID=Europe/Zagreb:20260426T203000
DTEND;TZID=Europe/Zagreb:20260426T223000
DTSTAMP:20260425T154736
CREATED:20260414T063056Z
LAST-MODIFIED:20260423T053505Z
UID:10008899-1777235400-1777242600@dubrovnik.today
SUMMARY:MOTHER MARY – IKONA / Mother Mary
DESCRIPTION:Od studija A24 dolazi priča o slavi\, prijateljstvu i tajnama koje ne mogu ostati skrivene. Dvije žene. Jedna prošlost. Jedna noć koja će promijeniti sve. Uoči velikog povratničkog nastupa\, legendarna pop zvijezda Mother Mary (Anne Hathaway – dobitnica Oscara® za film Les Misérables) ponovno se susreće sa svojom nekadašnjom najboljom prijateljicom i bivšom kostimografkinjom Sam Anselm (Michaela Coel)\, s kojom već godinama nije u kontaktu. Susret koji je trebao biti tek kratko ponovno okupljanje ubrzo otvara davno zakopane rane\, potisnute tajne i neriješene emocije koje su obilježile njihov odnos. Dok se reflektori spremaju obasjati pozornicu\, prošlost prijeti zasjeniti trenutak njezina velikog povratka. Film studija A24\, s vrhunskom glumačkom postavom i snažnom emocionalnom pričom\, vodi gledatelje iza kulisa svijeta pop-glazbe – tamo gdje se iza glamura kriju ambicija\, izdaja i potraga za oprostom.
URL:https://dubrovnik.today/event/mother-mary-ikona-mother-mary/2026-04-26/
LOCATION:Kino Sloboda\, Luža 66\, Dubrovnik\, Dubrovačko-neretvanska\, 20000\, Croatia
CATEGORIES:Cinema
ATTACH;FMTTYPE=image/jpeg:https://dubrovnik.today/wp-content/uploads/2026/04/FB_COVER_MOTHER_MARY_single_HR.jpg
ORGANIZER;CN="Kinematografi Dubrovnik":MAILTO:operater@kinematografi.org
GEO:42.6409105;18.1101717
X-APPLE-STRUCTURED-LOCATION;VALUE=URI;X-ADDRESS=Kino Sloboda Luža 66 Dubrovnik Dubrovačko-neretvanska 20000 Croatia;X-APPLE-RADIUS=500;X-TITLE=Luža 66:geo:18.1101717,42.6409105
END:VEVENT
END:VCALENDAR