BEGIN:VCALENDAR
VERSION:2.0
PRODID:-//dbk.life - ECPv6.15.12//NONSGML v1.0//EN
CALSCALE:GREGORIAN
METHOD:PUBLISH
X-ORIGINAL-URL:https://dubrovnik.today
X-WR-CALDESC:Events for dbk.life
REFRESH-INTERVAL;VALUE=DURATION:PT1H
X-Robots-Tag:noindex
X-PUBLISHED-TTL:PT1H
BEGIN:VTIMEZONE
TZID:Europe/Zagreb
BEGIN:DAYLIGHT
TZOFFSETFROM:+0100
TZOFFSETTO:+0200
TZNAME:CEST
DTSTART:20250330T010000
END:DAYLIGHT
BEGIN:STANDARD
TZOFFSETFROM:+0200
TZOFFSETTO:+0100
TZNAME:CET
DTSTART:20251026T010000
END:STANDARD
BEGIN:DAYLIGHT
TZOFFSETFROM:+0100
TZOFFSETTO:+0200
TZNAME:CEST
DTSTART:20260329T010000
END:DAYLIGHT
BEGIN:STANDARD
TZOFFSETFROM:+0200
TZOFFSETTO:+0100
TZNAME:CET
DTSTART:20261025T010000
END:STANDARD
BEGIN:DAYLIGHT
TZOFFSETFROM:+0100
TZOFFSETTO:+0200
TZNAME:CEST
DTSTART:20270328T010000
END:DAYLIGHT
BEGIN:STANDARD
TZOFFSETFROM:+0200
TZOFFSETTO:+0100
TZNAME:CET
DTSTART:20271031T010000
END:STANDARD
END:VTIMEZONE
BEGIN:VEVENT
DTSTART;TZID=Europe/Zagreb:20260409T200000
DTEND;TZID=Europe/Zagreb:20260503T170000
DTSTAMP:20260421T164339
CREATED:20260403T115526Z
LAST-MODIFIED:20260403T115526Z
UID:10008644-1775764800-1777827600@dubrovnik.today
SUMMARY:Lena Kramarić C KAO CIKLUS?
DESCRIPTION:Pozivamo vas sve na otvorenje izložbe\nC KAO CIKLUS?Lene Kramarić\nu četvrtak 9. 4. 2026. u 20 satiu Galeriju Otok\n\nSanjarski\, introspektivan izričaj u Crvenom se ciklusu nastavlja prepoznavati kao karakterističan za Lenino slikarstvo. Elegantni crtež u kombinaciji s ponegdje jarkom\, a ponegdje nježnijom paletom boja kontinuirano zajednički stvaraju površine platna koje se otkrivaju kroz brojne slojeve.\n….\nZa Kramarić\, slika nije samo plošni prizor nego je i materija. Struktura\, tekstura\, ogrebotine\, oštećenja – sve ono što “narušava” površinu – kod Lene je istovremeno i gradi. Slojevi\, uključujući fragilne tragove salvete\, ostaju vidljivi\, kao da umjetnica odbija sakriti proces svog rada. Dapače\, ona inzistira na tome da prikaže ranjivosti materijala koji se talože jedan na drugoga. Površina slike tako postaje mjesto memorije\, gdje se svaki zahvat bilježi kao trag postojanja.\n….\nSlikarstvo Leni Kramarić ne nudi razrješenja. Ono se kreće između svjesnog i nesvjesnog\, između potrebe za formom i njezina stalnog uslojavanja. U tom prostoru napetosti nastaje slika — kao trag procesa\, kao zapis stanja\, kao pokušaj da se ono neizrecivo ipak zadrži na površini. U konačnici\, slikarski svemir Lene Kramarić funkcionira poput otvorenog teksta: promatrač ga ne čita linearno\, nego ga nastanjuje\, vraća mu se i u njemu prepoznaje vlastite lomove i uzdizanja.\n(iz teksta Anite Ruso Brečić)\n\n\nTehnički postav: Nikša VukosavićKustosica: Anita Ruso BrečićProdukcija: Lena Kramarić / UO Genijator i Art radionica Lazareti\, 2026\nIzložba ostaje otvorena do 03. 05. 2026Radno vrijeme: PON – PET 11 – 19 sati\nFinancijska podrška:Grad Dubrovnik\, Ministarstvo kulture i medija Republike Hrvatske i Dubrovačko neretvanska Županija
URL:https://dubrovnik.today/event/lena-kramaric-c-kao-ciklus/
LOCATION:art radionica lazareti # art workshop lazareti\, Frana Supila 8\, Dubrovnik\, Dubrovačko-neretvanska\, 20000\, Croatia
CATEGORIES:Exhibition
ATTACH;FMTTYPE=image/jpeg:https://dubrovnik.today/wp-content/uploads/2026/04/661338491_1546426110817175_6067388035699511785_n.jpg
ORGANIZER;CN="art radionica lazareti # art workshop lazareti":MAILTO:art@du.t-com.hr
GEO:42.6416755;18.1145855
X-APPLE-STRUCTURED-LOCATION;VALUE=URI;X-ADDRESS=art radionica lazareti # art workshop lazareti Frana Supila 8 Dubrovnik Dubrovačko-neretvanska 20000 Croatia;X-APPLE-RADIUS=500;X-TITLE=Frana Supila 8:geo:18.1145855,42.6416755
END:VEVENT
BEGIN:VEVENT
DTSTART;TZID=Europe/Zagreb:20260420T080000
DTEND;TZID=Europe/Zagreb:20260427T200000
DTSTAMP:20260421T164339
CREATED:20260414T064556Z
LAST-MODIFIED:20260414T064556Z
UID:10008792-1776672000-1777320000@dubrovnik.today
SUMMARY:Župski pjat
DESCRIPTION:Ponedjeljak\, 20. travnja\nJutarnji program\nOd 8 do 11 sati: Interaktivne radionice s vrtićkom djecom + čitanje legende iz župskog Zbornika\n13:20 prostor OŠ Župa dubrovačka: KUD Marko Marojica i OŠ Župa dubrovačka – prezentacija folklora kroz satove folklora i živu baštinu\n*edukativni program namijenjen vrtićkoj i školskoj djeci \nPopodnevni program\n19:00 Predavanje višeg kustosa\, voditelja Etnografskog muzeja Ivice Kipre\nLokacija: Dom u Buićima\n*suradnja Dubrovačkih muzeja i Festivala Župski pjat \nUtorak\, 21. travnja\nJutarnji program\n8 do 11 sati: Edukacije osnovnoškolske djece – EduKido LEGO interaktivne radionice\nLokacija: Škola na Kantulama\n*edukativni program namijenjen vrtićkoj i školskoj djeci \nPopodnevni program\n18:00 Predavanje uz prezentaciju nove aplikacije o filmskim lokacijama našeg kraja\nPredavač: mag. hist. Ivan Lujo\n*predavanje na engleskom jeziku\nLokacija: Mlini \nSrijeda\, 22. travnja\n10:00 Dan planeta Zemlje\nInteraktivno predavanje i radionica u Zavodu za mediteranske kulture (pokušalište Čibača) – kvalitetno posađen vrt i nutritivna vrijednost lokalnih mediteranskih kultura\nLokacija: Rasadnik Čibača\n*suradnja Festivala Župski pjat i Zavoda za mediteranske kulture Sveučilišta u Dubrovniku \nČetvrtak\, 23. travnja\n10:00 do 12:00 Predstavljanje pogona za uzgoj bioklica uz radionicu pokretanja klijanja temeljem tradicijskih kultura\nLokacija: Krstac (staklenik) \nPopodnevni program\nRuzmarin & Mirna Sentić\nviše info: finalmente.srebreno@gmail.com \nPetak\, 24. travnja\n14:00 Posjet OPG-u Kristović\, dobitnicima srebrne medalje na prestižnom natjecanju NYIOOC World Olive Oil Competition u New Yorku\nLokacija: OPG Kristović \nSubota\, 25. travnja\n10:00 do 12:00 Likovno-edukativna radionica Župska fauna (6–12 godina)\nVoditeljica: viša kustosica pedagoginja Dubravka Tullio\n*suradnja Prirodoslovnog muzeja Dubrovnik i Festivala Župski pjat\nLokacija: izvor Bravinjac \nPopodnevni program\n15:00 do 17:00 Radionica izrade domaće tjestenine s limunom (bezglutenska)\nVoditeljica: Ane Čerjan\nLokacija: OPG Jović Lemon Gardens \nNedjelja\, 26. travnja\n14:00 Postranjskim koracima: šetnja kroz burnu povijest Postranja\nTrajanje: 2 sata\nPredavač: Domagoj Kristović \nPonedjeljak\, 27. travnja\nJutarnji program\n8:00 do 11:00 Edukativni program u OŠ Župa dubrovačka: ljekoviti vrt i izrada funkcionalnih poklona/suvenira (sapuni)\n*edukativni program namijenjen vrtićkoj i školskoj djeci \nPopodnevni program\n18:00 Lutkarski teatar Aster: predstava\nLokacija: Samostan sv. Vicenca \nOrganizator zadržava pravo izmjene programa.\nViše informacija: info@zupski-pjat.com
URL:https://dubrovnik.today/event/zupski-pjat/
LOCATION:Župa Dubrovačka\, Župa Dubrovačka\, Dubrovačko-neretvanska\, Croatia
CATEGORIES:Gastronomy,Lecture,Workshop
ATTACH;FMTTYPE=image/jpeg:https://dubrovnik.today/wp-content/uploads/2026/04/669936078_122250864104248844_3178258457033897412_n.jpg
ORGANIZER;CN="%C5%BDupski pjat":MAILTO:info@zupski-pjat.com
GEO:42.6413148;18.1784455
END:VEVENT
BEGIN:VEVENT
DTSTART;TZID=Europe/Zagreb:20260422T100000
DTEND;TZID=Europe/Zagreb:20260422T130000
DTSTAMP:20260421T164339
CREATED:20260414T122738Z
LAST-MODIFIED:20260414T122738Z
UID:10008810-1776852000-1776862800@dubrovnik.today
SUMMARY:Ciklus radionica „Arhitektura poduzetništva“ u Veloj Luci
DESCRIPTION:Poduzetništvo nije samo ideja. To je način razmišljanja\, donošenja odluka i upravljanja sobom kroz različite faze razvoja.\n\n\nOvaj put donosimo ciklus radionica „Arhitektura poduzetništva“ u Veloj Luci.\n\n\nKroz tri tematske radionice sudionici će raditi na:\n mentalnoj pripremi za ulazak u poduzetništvo\n prepoznavanju unutarnjih prepreka rasta\n razvoju poduzetničkog identiteta u fazi razvoja poslovanja\n\n\nProgram vodi Marija Grgurević\, magistra primijenjene psihologije ponašanja\, s fokusom na cjeloviti pristup poduzetništvu i osobnom razvoju.\n\n\nPoduzetnički inkubator Vela Luka (Općinska vijećnica)\n 22.04. – 24.04.2026.\n10:00\n\n\nPrijave:\nhttps://forms.gle/jWrGYJzP2BYFYgyi6\n czp@czp.hr | poduzetnicki.inkubator@velaluka.hr
URL:https://dubrovnik.today/event/ciklus-radionica-arhitektura-poduzetnistva-u-veloj-luci/2026-04-22/
LOCATION:Vela Luka\, Korčula\, Vela Luka\, Dubrovačko-neretvanska\, 20270\, Croatia
CATEGORIES:Lecture,Workshop
ATTACH;FMTTYPE=image/jpeg:https://dubrovnik.today/wp-content/uploads/2026/04/671331488_1597892121809793_5016693434147486576_n.jpg
ORGANIZER;CN="Centar za poduzetni%C5%A1tvo Dubrova%C4%8Dko-neretvanske %C5%BEupanije":MAILTO:dcp@dcp.hr
GEO:42.9468968;16.71167
END:VEVENT
BEGIN:VEVENT
DTSTART;TZID=Europe/Zagreb:20260422T104500
DTEND;TZID=Europe/Zagreb:20260422T113000
DTSTAMP:20260421T164339
CREATED:20260420T100733Z
LAST-MODIFIED:20260420T100733Z
UID:10008857-1776854700-1776857400@dubrovnik.today
SUMMARY:Književni susret: Hrvoje Kovačević
DESCRIPTION:𝐃𝐮𝐛𝐫𝐨𝐯𝐚č𝐤𝐞 𝐤𝐧𝐣𝐢ž𝐧𝐢𝐜𝐞 povodom 𝐃𝐚𝐧𝐚 𝐡𝐫𝐯𝐚𝐭𝐬𝐤𝐞 𝐤𝐧𝐣𝐢𝐠𝐞 organiziraju poseban književni susret za učenike dubrovačkih osnovnih škola.\n\n\nGost susreta bit će 𝐇𝐫𝐯𝐨𝐣𝐞 𝐊𝐨𝐯𝐚č𝐞𝐯𝐢ć\, jedan od najčitanijih i najomiljenijih hrvatskih autora za djecu i mlade\, poznat po svojim napetim\, duhovitim i maštovitim romanima. Susret će se održati 𝟐𝟐. 𝐭𝐫𝐚𝐯𝐧𝐣𝐚 s početkom u 𝟏𝟎:𝟒𝟓 u 𝐥𝐚𝐩𝐚𝐝𝐬𝐤𝐨𝐦 𝐨𝐠𝐫𝐚𝐧𝐤𝐮 𝐃𝐮𝐛𝐫𝐨𝐯𝐚č𝐤𝐢𝐡 𝐤𝐧𝐣𝐢ž𝐧𝐢𝐜𝐚.\n\n\nOčekuje nas druženje ispunjeno razgovorom o knjigama\, pisanju\, likovima i tajnama stvaranja priča koje osvajaju generacije mladih čitatelja. Susret je namijenjen poticanju čitateljskih navika\, kreativnosti i ljubavi prema književnosti.
URL:https://dubrovnik.today/event/knjizevni-susret-hrvoje-kovacevic/
LOCATION:Ogranak Lapad – Dubrovačke knjižnice\, Ul. dr. Ante Starčevića 24\, Dubrovnik\, Dubrovačko-neretvanska\, 20000\, Croatia
CATEGORIES:Lecture
ATTACH;FMTTYPE=image/jpeg:https://dubrovnik.today/wp-content/uploads/2026/04/670907748_18290111863304087_4747689021130598224_n.jpg
GEO:42.6520986;18.0892287
X-APPLE-STRUCTURED-LOCATION;VALUE=URI;X-ADDRESS=Ogranak Lapad – Dubrovačke knjižnice Ul. dr. Ante Starčevića 24 Dubrovnik Dubrovačko-neretvanska 20000 Croatia;X-APPLE-RADIUS=500;X-TITLE=Ul. dr. Ante Starčevića 24:geo:18.0892287,42.6520986
END:VEVENT
BEGIN:VEVENT
DTSTART;TZID=Europe/Zagreb:20260422T160000
DTEND;TZID=Europe/Zagreb:20260422T190000
DTSTAMP:20260421T164339
CREATED:20260414T053132Z
LAST-MODIFIED:20260414T053132Z
UID:10008760-1776873600-1776884400@dubrovnik.today
SUMMARY:Festival znanosti 2026
DESCRIPTION:Od 20. do 25. travnja 2026. godine održava se Festival znanosti\, čija je ovogodišnja tema energija. Glavni organizator programa u Dubrovniku je Sveučilište u Dubrovniku\, dok su partneri u realizaciji Zajednica tehničke kulture Dubrovačko-neretvanske županije i Zajednica tehničke kulture Grada Dubrovnika.\n\n\n Sudjelovanje na svim radionicama je besplatno\, ali je potrebna prijava putem obrasca: https://docs.google.com/…/1FAIpQLSefmgg…/viewform\n\n\n U sklopu Festivala znanosti Zajednice tehničke kulture Grada Dubrovnika i Dubrovačko-neretvanske županije i njihove članice (Informatički klub Futura\, Maritimo Recycling i Aeroklub Nimbus) održat će raznovrsne radionice:\n\n\n Radionica “Reciklirana munja – izrada privjesaka na temu energije” – ponedjeljak 20. travnja u 16:00 sati u Centru za reciklažu plastike u TUP-u\, Ulica Sv. Križa 3 (za učenike od 5. do 8. razreda osnovne škole i učenike 1. razreda srednje škole)\n Radionica LEGO jednostavni i motorni strojevi – utorak 21. travnja u 16:00 i 17:30 sati u Centar za djecu\, mlade i obitelj Dubrovnik (za učenike osnovnih škola)\n Radionica Logički graditelji – srijeda 22. travnja u 16:00 i 17:30 sati u Centru za djecu\, mlade i obitelj Dubrovnik (za predškolce i učenike nižih razreda osnovne škole)\n Predavanje „Besplatna energija iz zraka: kako jedrilice varaju gravitaciju” – četvrtak 23. travnja u 13:00 sati na Sveučilištu u Dubrovniku\, Ćira Carića 4\, dvorana B25 (za učenike 7. i 8. razreda osnovne škole te učenike srednjih škola) – nije potrebna prijava\n Radionica Mali inženjeri – petak 24. travnja u 16:00 i 18:00 sati u Centru za djecu\, mlade i obitelj Dubrovnik (za učenike od 5. do 8. razreda osnovne škole i učenike 1. razreda srednje škole)\n\n\n Festival znanosti nacionalna je manifestacija usmjerena na popularizaciju znanosti\, poticanje dijaloga između znanstvene zajednice i javnosti te jačanje svijesti o važnosti znanstvenih istraživanja i obrazovanja.\n\n\n#festivalznanosti #festivalznanosti2026 #fz2026 #energija
URL:https://dubrovnik.today/event/festival-znanosti-2026/2026-04-22/
LOCATION:TUP Dubrovnik\, Ul. Svetog Križa 3\, Dubrovnik\, DFubrovačko-neretvanska\, 20000\, Croatia
CATEGORIES:Lecture,Workshop
ATTACH;FMTTYPE=image/jpeg:https://dubrovnik.today/wp-content/uploads/2026/04/669131091_1445818217572300_4781768985189388869_n.jpg
ORGANIZER;CN="Zajednica tehni%C4%8Dke kulture Dubrovnik":MAILTO:ztk.dub@gmail.com
GEO:42.6593797;18.0870239
X-APPLE-STRUCTURED-LOCATION;VALUE=URI;X-ADDRESS=TUP Dubrovnik Ul. Svetog Križa 3 Dubrovnik DFubrovačko-neretvanska 20000 Croatia;X-APPLE-RADIUS=500;X-TITLE=Ul. Svetog Križa 3:geo:18.0870239,42.6593797
END:VEVENT
BEGIN:VEVENT
DTSTART;TZID=Europe/Zagreb:20260422T170000
DTEND;TZID=Europe/Zagreb:20260422T190000
DTSTAMP:20260421T164339
CREATED:20260416T093846Z
LAST-MODIFIED:20260416T093846Z
UID:10008834-1776877200-1776884400@dubrovnik.today
SUMMARY:Cvjetni koncert
DESCRIPTION:Turistička zajednica grada Dubrovnika organizira Cvjetni koncert povodom obilježavanja Dana planeta Zemlje\, koji će se održati u srijedu\, 22. travnja\, u prekrasnom ambijentu ljetnikovca Sorkočević na Lapadskoj obali. \nProgram započinje u 17 sati predavanjem „Čovjek i zdanje: kroz izazove nasljeđa Petra Sorkočevića“\, koje će održati Relja Seferović iz Zavoda za povijesne znanosti HAZU. Predavanje će publici približiti značaj kulturne baštine. \nU 17.30 sati slijedi glazbeni program\, nastup pijanistice Ivane Jelače\, koja će izvesti ciklus „Život cvijeća“ skladateljice Dore Pejačević\, jedno od najpoetičnijih djela hrvatske klavirske literature. \nPosebnu atmosferu događaju dat će cvjetne dekoracije by Kike\, koje će dodatno naglasiti simboliku Dana planeta Zemlje i ljepotu prirode. \nUlaz na koncert je slobodan\, uz obveznu prethodnu rezervaciju putem e-maila: tic.pile@tzdubrovnik.hr. \nU slučaju lošeg vremena koncert se neće održati.
URL:https://dubrovnik.today/event/cvjetni-koncert/
LOCATION:Ljetnikovac Sorkočević\, Lapadska obala 4\, Dubrovnik\, Dubrovačko-neretvanska\, 20000\, Croatia
CATEGORIES:Lecture,Music
ATTACH;FMTTYPE=image/jpeg:https://dubrovnik.today/wp-content/uploads/2026/04/o_31534514_1024.jpg
ORGANIZER;CN="Dubrovnik Tourist Board%3A Experience Dubrovnik":MAILTO:info@tzdubrovnik.hr
GEO:42.6553004;18.0853644
X-APPLE-STRUCTURED-LOCATION;VALUE=URI;X-ADDRESS=Ljetnikovac Sorkočević Lapadska obala 4 Dubrovnik Dubrovačko-neretvanska 20000 Croatia;X-APPLE-RADIUS=500;X-TITLE=Lapadska obala 4:geo:18.0853644,42.6553004
END:VEVENT
BEGIN:VEVENT
DTSTART;TZID=Europe/Zagreb:20260422T183000
DTEND;TZID=Europe/Zagreb:20260422T201500
DTSTAMP:20260421T164339
CREATED:20260330T101344Z
LAST-MODIFIED:20260414T062714Z
UID:10008779-1776882600-1776888900@dubrovnik.today
SUMMARY:DRAMA / The Drama
DESCRIPTION:Novi film studija A24 u kojem glavne uloge tumače Zendaya i Robert Pattinson. Radnja prati Emmu (zaposlenicu knjižare iz Louisiane) i Charlieja (ravnatelja muzeja iz Londona)\, naizgled sretan\, zaručeni par čiji se odnos počinje raspadati nekoliko dana prije vjenčanja\, nakon niza neočekivanih otkrića. Tijekom druženja s drugim parom\, odlučuju izgovoriti najgoru stvar koju su ikada napravili. Jedna ispovijed posebno uzdrma dinamiku odnosa i dovede u pitanje sve što su mislili da znaju jedno o drugome.
URL:https://dubrovnik.today/event/drama-the-drama/2026-04-22/
LOCATION:Kino Sloboda\, Luža 66\, Dubrovnik\, Dubrovačko-neretvanska\, 20000\, Croatia
CATEGORIES:Cinema
ATTACH;FMTTYPE=image/jpeg:https://dubrovnik.today/wp-content/uploads/2026/03/FB_COVER_DRAMA_single_HR.jpg
ORGANIZER;CN="Kinematografi Dubrovnik":MAILTO:operater@kinematografi.org
GEO:42.6409105;18.1101717
X-APPLE-STRUCTURED-LOCATION;VALUE=URI;X-ADDRESS=Kino Sloboda Luža 66 Dubrovnik Dubrovačko-neretvanska 20000 Croatia;X-APPLE-RADIUS=500;X-TITLE=Luža 66:geo:18.1101717,42.6409105
END:VEVENT
BEGIN:VEVENT
DTSTART;TZID=Europe/Zagreb:20260422T190000
DTEND;TZID=Europe/Zagreb:20260422T203000
DTSTAMP:20260421T164339
CREATED:20260127T084946Z
LAST-MODIFIED:20260415T095644Z
UID:10007907-1776884400-1776889800@dubrovnik.today
SUMMARY:PRIČA O SILJANU / The Tale of Sylian
DESCRIPTION:Nikola\, poljoprivrednik koji se bori s teškim posljedicama novih vladinih politika\, nalazi se u situaciji da ne može prodati svoju zemlju ni usjeve. Kada njegova obitelj ode u potrazi za boljim životom u inozemstvu\, Nikola prihvaća posao čuvara na odlagalištu otpada\, gdje susreće ozlijeđenu bijelu rodu Siljana. Dok je njeguje i pomaže joj da se oporavi\, između čovjeka i životinje stvara se neočekivana povezanost. \nOd redateljice nominirane za Oscara za film Medena zemlja dolazi dirljiva i vizualno dojmljiva priča smještena u samo srce ruralne Makedonije. Riječ je o duboko potresnom filmu koji progovara o klimatskim promjenama\, ekonomskim migracijama\, otpornosti i tihoj snazi povezanosti.
URL:https://dubrovnik.today/event/prica-o-siljanu-the-tale-of-sylian/
LOCATION:Kino dvorana Visia\, Poljana Paska Miličevića 3\, Dubrovnik\, 20000\, Croatia
CATEGORIES:Cinema
ATTACH;FMTTYPE=image/jpeg:https://dubrovnik.today/wp-content/uploads/2026/01/silyan.jpg
ORGANIZER;CN="Kinematografi Dubrovnik":MAILTO:operater@kinematografi.org
GEO:42.6414431;18.1071797
X-APPLE-STRUCTURED-LOCATION;VALUE=URI;X-ADDRESS=Kino dvorana Visia Poljana Paska Miličevića 3 Dubrovnik 20000 Croatia;X-APPLE-RADIUS=500;X-TITLE=Poljana Paska Miličevića 3:geo:18.1071797,42.6414431
END:VEVENT
BEGIN:VEVENT
DTSTART;TZID=Europe/Zagreb:20260422T190000
DTEND;TZID=Europe/Zagreb:20260422T210000
DTSTAMP:20260421T164339
CREATED:20260417T100140Z
LAST-MODIFIED:20260417T100140Z
UID:10008847-1776884400-1776891600@dubrovnik.today
SUMMARY:KONCERT ZBOROVA
DESCRIPTION:Narodna knjižnica Grad Dubrovnik\nSRIJEDA\, 22. TRAVNJA 2026.- 19:00\nBESPLATAN ULAZ \nFrancuska\nZbor Ephémère; Dirigira: Blanche Latour \nHrvatska\nZbor Blasius; Dirigira: Maja Marušić
URL:https://dubrovnik.today/event/koncert-zborova/
LOCATION:Narodna knjižnica Grad\, Ulica od Puča 6\, Dubrovnik\, Dubrovačko-neretvanska\, 20000\, Croatia
CATEGORIES:Music
ATTACH;FMTTYPE=image/jpeg:https://dubrovnik.today/wp-content/uploads/2026/04/672671812_1637114644527538_5598538943018492202_n.jpg
GEO:42.6406688;18.10928
X-APPLE-STRUCTURED-LOCATION;VALUE=URI;X-ADDRESS=Narodna knjižnica Grad Ulica od Puča 6 Dubrovnik Dubrovačko-neretvanska 20000 Croatia;X-APPLE-RADIUS=500;X-TITLE=Ulica od Puča 6:geo:18.10928,42.6406688
END:VEVENT
BEGIN:VEVENT
DTSTART;TZID=Europe/Zagreb:20260422T200000
DTEND;TZID=Europe/Zagreb:20260422T213000
DTSTAMP:20260421T164339
CREATED:20260324T092415Z
LAST-MODIFIED:20260324T092415Z
UID:10008521-1776888000-1776893400@dubrovnik.today
SUMMARY:Teatar Exit: Armagedonci
DESCRIPTION:Svašta se skupi i svatko nešto trpi kad živi u rupi… to je tako\, biti čovjek nije lako.\nZato dok još možeš… leti\, trči\, sanjaj\, voli\, grli\, ljubi… i sa svojim vrijeme gubi. \nArmagedonci su tragikomična predstava s glazbenim elementima o tri neobična lika koji su propali kroz zemlju te ostali zatočeni u malom fundusu kazališta. Ne znajući što se dogodilo\, kakva ih je to katastrofa snašla i zašto nitko po njih ne dolazi danima\, oni posumnjaju da je svijet snašao Armagedon. Dane provode u čekanju\, nadanju da će ih netko spasiti i u svemu onome što se naizgled čini kao gubljenje vremena. Prisiljeni provoditi vrijeme zajedno ta tri\, na prvu nespojiva lika\, jedni drugima postaju sve\, izvori najvećih frustracija i nadomjestak svega onoga što im nedostaje\, a da toga možda nisu ni bili svjesni. Katastrofa ih je odvojila od svijeta\, ali spojila jedne s drugima u vremenu koje je sve\, samo ne izgubljeno. \nVrijeme je oduvijek najvrjednija i sveopća valuta. Kad čovjeku ponestaje vremena\, on dobiva priliku ubrzano spoznati što mu je u životu zaista važno. I možda\, bar nakratko\, to i živjeti.
URL:https://dubrovnik.today/event/teatar-exit-armagedonci/
LOCATION:Kazalište Marina Držića\, Pred Dvorom 3\, Dubrovnik\, 20000\, Croatia
CATEGORIES:Theatre
ATTACH;FMTTYPE=image/jpeg:https://dubrovnik.today/wp-content/uploads/2026/03/Armagedonci_1.jpg
ORGANIZER;CN="Kazali%C5%A1te Marina Dr%C5%BEi%C4%87a":MAILTO:press@kmd.hr
GEO:42.6403741;18.1107474
X-APPLE-STRUCTURED-LOCATION;VALUE=URI;X-ADDRESS=Kazalište Marina Držića Pred Dvorom 3 Dubrovnik 20000 Croatia;X-APPLE-RADIUS=500;X-TITLE=Pred Dvorom 3:geo:18.1107474,42.6403741
END:VEVENT
BEGIN:VEVENT
DTSTART;TZID=Europe/Zagreb:20260422T203000
DTEND;TZID=Europe/Zagreb:20260422T221500
DTSTAMP:20260421T164339
CREATED:20260311T223755Z
LAST-MODIFIED:20260414T085047Z
UID:10008803-1776889800-1776896100@dubrovnik.today
SUMMARY:MLADE MAJKE / Young Mothers
DESCRIPTION:Novi humanistički filmski dragulj legendarne belgijske braće Dardenne donosi nam priču o pet mladih majki koje žive u skrovištu nadajući se boljoj budućnosti za sebe i djecu koja odrastaju u izuzetno teškim okolnostima… \nDobitnik nagrade za najbolji scenarij i nagrade ekumenskog žirija na festivalu u Cannesu!
URL:https://dubrovnik.today/event/mlade-majke-young-mothers/2026-04-22/
LOCATION:Kino dvorana Visia\, Poljana Paska Miličevića 3\, Dubrovnik\, 20000\, Croatia
CATEGORIES:Cinema
ATTACH;FMTTYPE=image/jpeg:https://dubrovnik.today/wp-content/uploads/2026/03/1920-x-600.jpg
ORGANIZER;CN="Kinematografi Dubrovnik":MAILTO:operater@kinematografi.org
GEO:42.6414431;18.1071797
X-APPLE-STRUCTURED-LOCATION;VALUE=URI;X-ADDRESS=Kino dvorana Visia Poljana Paska Miličevića 3 Dubrovnik 20000 Croatia;X-APPLE-RADIUS=500;X-TITLE=Poljana Paska Miličevića 3:geo:18.1071797,42.6414431
END:VEVENT
BEGIN:VEVENT
DTSTART;TZID=Europe/Zagreb:20260422T203000
DTEND;TZID=Europe/Zagreb:20260422T224500
DTSTAMP:20260421T164339
CREATED:20260414T084918Z
LAST-MODIFIED:20260414T084918Z
UID:10008800-1776889800-1776897900@dubrovnik.today
SUMMARY:MUMIJA / Lee Cronin’s The Mummy
DESCRIPTION:Legenda se vraća. I ovaj put – neće ostati zakopana. Nakon rekordnog uskrsnuća horor franšize s filmom Evil Dead Rise\, scenarist i redatelj Lee Cronin okreće se jednoj od najikoničnijih horor priča svih vremena\, donoseći smionu i mračnu reinterpretaciju filma Mumija. \nU središtu filma je priča o obitelji čiji se život iznenada i potpuno preokreće kada njihova mlada kći Katie\, koja je prije osam godina misteriozno nestala u pustinji\, iznenada ponovno dolazi kući\, ali više nikada neće biti ista. Ono što bi trebalo biti sretno ponovno okupljanje ubrzo se pretvara u živu noćnu moru\, a obitelj mora otkriti što se dogodilo dok je bila nestala.
URL:https://dubrovnik.today/event/mumija-lee-cronins-the-mummy/2026-04-22/
LOCATION:Kino Sloboda\, Luža 66\, Dubrovnik\, Dubrovačko-neretvanska\, 20000\, Croatia
CATEGORIES:Cinema
ATTACH;FMTTYPE=image/jpeg:https://dubrovnik.today/wp-content/uploads/2026/04/FB_COVER_THE_MUMMY_SINGLE_HR.jpg
ORGANIZER;CN="Kinematografi Dubrovnik":MAILTO:operater@kinematografi.org
GEO:42.6409105;18.1101717
X-APPLE-STRUCTURED-LOCATION;VALUE=URI;X-ADDRESS=Kino Sloboda Luža 66 Dubrovnik Dubrovačko-neretvanska 20000 Croatia;X-APPLE-RADIUS=500;X-TITLE=Luža 66:geo:18.1101717,42.6409105
END:VEVENT
BEGIN:VEVENT
DTSTART;TZID=Europe/Zagreb:20260422T210000
DTEND;TZID=Europe/Zagreb:20260422T230000
DTSTAMP:20260421T164339
CREATED:20260414T054757Z
LAST-MODIFIED:20260414T054757Z
UID:10008768-1776891600-1776898800@dubrovnik.today
SUMMARY:Koncert klape HRM Sveti Juraj@Blato
DESCRIPTION:Sa zadovoljstvom najavljujemo koncert klape HRM Sveti Juraj koji će se održati u srijedu 22. travnja 2026. sa početkom u 21:00 u Domu kulture u Blatu u sklopu manifestacije Tjedan Blata\, a povodom Dana općine Blato i blagdana svete Vincence\n\n\nGost večeri na koncertu je [Meri Cetinić].\n\n\nUlaznice su dostupne u pretprodaji u agenciji Blatotours\, te na dan koncerta na ulazu u Dom kulture od 20:00 nakon programa otvaranja Tjedna Blata.\n\n\nUlaznice u pretprodaji: 15\,00 eura ( Blatotours – Blato )\n\n\nUlaznice na dan koncerta: 20\,00 ( na ulazu u Dom kulture Blato od 20:00-21:00 )\n\n\n[Općina Blato]\n\n\n[Blatski fižuli ustanova u kulturi]
URL:https://dubrovnik.today/event/koncert-klape-hrm-sveti-jurajblato/
LOCATION:Dom kulture Blato\, Trg dr. Franje Tuđmana 4\, Blato\, Dubrovačko-neretvanska\, 20271\, Croatia
CATEGORIES:Music
ATTACH;FMTTYPE=image/jpeg:https://dubrovnik.today/wp-content/uploads/2026/04/671321756_1357523119737257_8535513786193182025_n.jpg
GEO:42.938381;16.790568
X-APPLE-STRUCTURED-LOCATION;VALUE=URI;X-ADDRESS=Dom kulture Blato Trg dr. Franje Tuđmana 4 Blato Dubrovačko-neretvanska 20271 Croatia;X-APPLE-RADIUS=500;X-TITLE=Trg dr. Franje Tuđmana 4:geo:16.790568,42.938381
END:VEVENT
END:VCALENDAR