BEGIN:VCALENDAR
VERSION:2.0
PRODID:-//dbk.life - ECPv6.15.12//NONSGML v1.0//EN
CALSCALE:GREGORIAN
METHOD:PUBLISH
X-WR-CALNAME:dbk.life
X-ORIGINAL-URL:https://dubrovnik.today
X-WR-CALDESC:Events for dbk.life
REFRESH-INTERVAL;VALUE=DURATION:PT1H
X-Robots-Tag:noindex
X-PUBLISHED-TTL:PT1H
BEGIN:VTIMEZONE
TZID:Europe/Zagreb
BEGIN:DAYLIGHT
TZOFFSETFROM:+0100
TZOFFSETTO:+0200
TZNAME:CEST
DTSTART:20250330T010000
END:DAYLIGHT
BEGIN:STANDARD
TZOFFSETFROM:+0200
TZOFFSETTO:+0100
TZNAME:CET
DTSTART:20251026T010000
END:STANDARD
BEGIN:DAYLIGHT
TZOFFSETFROM:+0100
TZOFFSETTO:+0200
TZNAME:CEST
DTSTART:20260329T010000
END:DAYLIGHT
BEGIN:STANDARD
TZOFFSETFROM:+0200
TZOFFSETTO:+0100
TZNAME:CET
DTSTART:20261025T010000
END:STANDARD
BEGIN:DAYLIGHT
TZOFFSETFROM:+0100
TZOFFSETTO:+0200
TZNAME:CEST
DTSTART:20270328T010000
END:DAYLIGHT
BEGIN:STANDARD
TZOFFSETFROM:+0200
TZOFFSETTO:+0100
TZNAME:CET
DTSTART:20271031T010000
END:STANDARD
END:VTIMEZONE
BEGIN:VEVENT
DTSTART;TZID=Europe/Zagreb:20260206T190000
DTEND;TZID=Europe/Zagreb:20260227T170000
DTSTAMP:20260419T160851
CREATED:20260203T225333Z
LAST-MODIFIED:20260203T225333Z
UID:10007950-1770404400-1772211600@dubrovnik.today
SUMMARY:Monokromi (svjetlosni reljefi)  DAMIR SOBOTA
DESCRIPTION:Hrvatsko društvo likovnih umjetnika Dubrovnik i Galerija Flora sa zadovoljstvom Vas pozivaju na otvorenje izložbe Monokromi (svjetlosni reljefi) DAMIR SOBOTA koje će se održati u petak 6. veljače u 19 sati u Galeriji Flora.\nIzložba se može pogledati do 27. veljače svaki dan od 10-12 sati i od 15-18 sati. Izložba se može pogledati i u drugim terminima ako su vrata Florina doma otvorena\, te najavom na galerijaflora.dbk@gmail.com\nRadujemo se Vašem dolasku i druženju u Flori.
URL:https://dubrovnik.today/event/monokromi-svjetlosni-reljefi-damir-sobota/
LOCATION:Galerija Flora\, Šetaliste kralja Zvonimira 32\, Dubrovnik\, Dubrovačko-neretvanska\, 20000\, Croatia
CATEGORIES:Exhibition
ATTACH;FMTTYPE=image/jpeg:https://dubrovnik.today/wp-content/uploads/2026/02/624653766_1400663185187409_6346686909985872837_n.jpg
ORGANIZER;CN="Galerija Flora":MAILTO:hdludubrovnik@gmail.com
GEO:42.656403;18.0745061
X-APPLE-STRUCTURED-LOCATION;VALUE=URI;X-ADDRESS=Galerija Flora Šetaliste kralja Zvonimira 32 Dubrovnik Dubrovačko-neretvanska 20000 Croatia;X-APPLE-RADIUS=500;X-TITLE=Šetaliste kralja Zvonimira 32:geo:18.0745061,42.656403
END:VEVENT
BEGIN:VEVENT
DTSTART;TZID=Europe/Zagreb:20260209T083000
DTEND;TZID=Europe/Zagreb:20260213T170000
DTSTAMP:20260419T160851
CREATED:20260208T152838Z
LAST-MODIFIED:20260208T152910Z
UID:10008026-1770625800-1771002000@dubrovnik.today
SUMMARY:Dani otvorenih vrata - Isprobaj satove besplatno i osjeti atmosferu
DESCRIPTION:Isprobaj satove s rasporeda potpuno besplatno i osjeti atmosferu\, učitelje i stil rada.A ako se odlučite učlaniti udvoje\, čeka vas dodatnih 10% popusta na članarine Dođi sam/a ili povedi nekoga tko ti je drag.Veselimo se upoznati te! Zen & Zest studio 9.2.-14.2.Rezervacija mjesta putem DM-a ili na mail info@zen-zest.com
URL:https://dubrovnik.today/event/dani-otvorenih-vrata-isprobaj-satove-besplatno-i-osjeti-atmosferu/
LOCATION:Zen & Zest\, Kralja Tomislava 7\, Dubrovnik\, Dubrovačko-neretvanska\, 20000\, Croatia
CATEGORIES:Workshop
ATTACH;FMTTYPE=image/jpeg:https://dubrovnik.today/wp-content/uploads/2026/02/631008362_1610643213945073_4978651995256260690_n.jpg
ORGANIZER;CN="Zen & Zest":MAILTO:info@zen-zest.com
GEO:42.6552523;18.0767069
X-APPLE-STRUCTURED-LOCATION;VALUE=URI;X-ADDRESS=Zen & Zest Kralja Tomislava 7 Dubrovnik Dubrovačko-neretvanska 20000 Croatia;X-APPLE-RADIUS=500;X-TITLE=Kralja Tomislava 7:geo:18.0767069,42.6552523
END:VEVENT
BEGIN:VEVENT
DTSTART;TZID=Europe/Zagreb:20260210T180000
DTEND;TZID=Europe/Zagreb:20260210T193000
DTSTAMP:20260419T160851
CREATED:20260205T130007Z
LAST-MODIFIED:20260205T130007Z
UID:10008008-1770746400-1770751800@dubrovnik.today
SUMMARY:SLATKO KAO CUKAR radionice
DESCRIPTION:Pripremili smo vam tri nezaboravna dana radionica! 🥂\n– Polaznici koji se prijave za dva datuma ostvaruju 15% popusta na ukupan iznos.\n– Polaznici koji se prijave za sva tri datuma ostvaruju 25% popusta na ukupan iznos. \nOpremite kuhinju najslađim kreacijama 🫶🏼\nVidimo se 🤍
URL:https://dubrovnik.today/event/slatko-kao-cukar-radionice/2026-02-10/
LOCATION:Studio Slatko Kao Cukar\, Nalješkovićeva 6\, Dubrovnik\, Dubrovačko-neretvanska\, 20000\, Croatia
CATEGORIES:Workshop
ATTACH;FMTTYPE=image/jpeg:https://dubrovnik.today/wp-content/uploads/2026/02/624117606_18061184990653129_6045138719270358954_n-imageonline.co-merged.jpg
ORGANIZER;CN="Studio Slatko Kao Cukar":MAILTO:slatkokaocukar@gmail.com
GEO:42.6415876;18.1088982
X-APPLE-STRUCTURED-LOCATION;VALUE=URI;X-ADDRESS=Studio Slatko Kao Cukar Nalješkovićeva 6 Dubrovnik Dubrovačko-neretvanska 20000 Croatia;X-APPLE-RADIUS=500;X-TITLE=Nalješkovićeva 6:geo:18.1088982,42.6415876
END:VEVENT
BEGIN:VEVENT
DTSTART;TZID=Europe/Zagreb:20260210T180000
DTEND;TZID=Europe/Zagreb:20260210T200000
DTSTAMP:20260419T160851
CREATED:20260121T071303Z
LAST-MODIFIED:20260311T230325Z
UID:10007981-1770746400-1770753600@dubrovnik.today
SUMMARY:HAMNET
DESCRIPTION:Paul Mescal u ulozi Williama Shakespearea i oscarovka Chloé Zhao u ulozi redateljice\, donose dirljivu priču o tragediji koja je oblikovala jedno od najvećih djela svjetske književnosti. \nFilmska adaptacija svjetski hvaljenog i nagrađivanog romana Hamnet autorice Maggie O’Farrell zakoračuje u područje povijesne fikcije i donosi novu interpretaciju osobne tragedije Williama Shakespearea – gubitka 11-godišnjeg sina Hamneta. Upravo taj gubitak\, vjeruje se\, oblikovao je jedno od najslavnijih djela svjetske književnosti\, dramu Hamlet\, napisanu ubrzo nakon tragedije. Kroz perspektivu Shakespeareove supruge Anne\, poznatije kao Agnes\, roman i film istražuju posljedice obiteljske tragedije na njihove dvije preostale kćeri\, od kojih je jedna bila Hamnetova blizanka\, na njihov brak te na samu umjetnost.
URL:https://dubrovnik.today/event/hamnet-2/2026-02-10/
LOCATION:Kino dvorana Visia\, Poljana Paska Miličevića 3\, Dubrovnik\, 20000\, Croatia
CATEGORIES:Cinema
ATTACH;FMTTYPE=image/jpeg:https://dubrovnik.today/wp-content/uploads/2025/12/FB_COVER_HAMNET_single_HR.jpg
ORGANIZER;CN="Kinematografi Dubrovnik":MAILTO:operater@kinematografi.org
GEO:42.6414431;18.1071797
X-APPLE-STRUCTURED-LOCATION;VALUE=URI;X-ADDRESS=Kino dvorana Visia Poljana Paska Miličevića 3 Dubrovnik 20000 Croatia;X-APPLE-RADIUS=500;X-TITLE=Poljana Paska Miličevića 3:geo:18.1071797,42.6414431
END:VEVENT
BEGIN:VEVENT
DTSTART;TZID=Europe/Zagreb:20260210T200000
DTEND;TZID=Europe/Zagreb:20260210T213000
DTSTAMP:20260419T160851
CREATED:20260205T065041Z
LAST-MODIFIED:20260205T065041Z
UID:10007994-1770753600-1770759000@dubrovnik.today
SUMMARY:ADU: Karakterne maske
DESCRIPTION:“Karakterne maske” nastale su kao ispitna produkcija iz kolegija Pokret 1\, 1. godine diplomskog studija glume na Akademiji dramske umjetnosti Sveučilišta u Zagrebu. Pomacima određenih točki transformacije tijela i lica studenti dolaze do karakternih maski koje kroz improvizaciju dobivaju potpunu osobnu iskaznicu te kroz ispovijest publici otvaraju svoje probleme koji izazivaju smijeh\, ali i suze. \nNastavnici: \ndoc. art. Jure Radnić\, izv. prof. Saša Božić\, Vini Jurčić i Dea Presečki\, umjetničke asistentice \nIgraju studenti prve godine diplomskog studija glume: \nLucija Nera Đurić \,Andrej Bartul Jabuka\, Marta Lončar\, Nina Spasović\, Vanesa Vidaković Natrlin\, Andrija Žunac\, Antun Antolović\, Vijeko Lončarić\, Tarik Žižak\, Lucija Jakupčić\, Josipa Klobučar\, Bruno Vršćak\, Lav Novosel
URL:https://dubrovnik.today/event/adu-karakterne-maske/
LOCATION:Kazalište Marina Držića\, Pred Dvorom 3\, Dubrovnik\, 20000\, Croatia
CATEGORIES:Theatre
ATTACH;FMTTYPE=image/jpeg:https://dubrovnik.today/wp-content/uploads/2026/02/IMG-20260204-WA0016.jpg
ORGANIZER;CN="Kazali%C5%A1te Marina Dr%C5%BEi%C4%87a":MAILTO:press@kmd.hr
GEO:42.6403741;18.1107474
X-APPLE-STRUCTURED-LOCATION;VALUE=URI;X-ADDRESS=Kazalište Marina Držića Pred Dvorom 3 Dubrovnik 20000 Croatia;X-APPLE-RADIUS=500;X-TITLE=Pred Dvorom 3:geo:18.1107474,42.6403741
END:VEVENT
BEGIN:VEVENT
DTSTART;TZID=Europe/Zagreb:20260210T200000
DTEND;TZID=Europe/Zagreb:20260210T220000
DTSTAMP:20260419T160851
CREATED:20260204T132943Z
LAST-MODIFIED:20260204T132943Z
UID:10007976-1770753600-1770760800@dubrovnik.today
SUMMARY:POZIV U POMOĆ / Send Help
DESCRIPTION:Od vizionarskog redatelja Sama Raimija (Spider-Man\, Evil Dead) dolazi mračno duhoviti psihološki triler s Rachel McAdams i Dylanom O’Brienom u glavnim ulogama. \nKad se dvoje kolega nakon avionske nesreće nađu zarobljeni na pustom otoku\, prisiljeni su ostaviti prošle sukobe iza sebe i udružiti snage kako bi preživjeli. No\, ono što počinje kao borba protiv prirode ubrzo se pretvara u mračnu\, duhovitu i napetu borbu volje i razuma – u kojoj nije sigurno tko će prvi izgubiti kontrolu.
URL:https://dubrovnik.today/event/poziv-u-pomoc-send-help/2026-02-10/
LOCATION:Kino Sloboda\, Luža 66\, Dubrovnik\, Dubrovačko-neretvanska\, 20000\, Croatia
CATEGORIES:Cinema
ATTACH;FMTTYPE=image/jpeg:https://dubrovnik.today/wp-content/uploads/2026/02/help_556x800_hr.jpg
ORGANIZER;CN="Kinematografi Dubrovnik":MAILTO:operater@kinematografi.org
GEO:42.6409105;18.1101717
X-APPLE-STRUCTURED-LOCATION;VALUE=URI;X-ADDRESS=Kino Sloboda Luža 66 Dubrovnik Dubrovačko-neretvanska 20000 Croatia;X-APPLE-RADIUS=500;X-TITLE=Luža 66:geo:18.1101717,42.6409105
END:VEVENT
BEGIN:VEVENT
DTSTART;TZID=Europe/Zagreb:20260210T203000
DTEND;TZID=Europe/Zagreb:20260210T223000
DTSTAMP:20260419T160851
CREATED:20251029T114002Z
LAST-MODIFIED:20260211T115543Z
UID:10007985-1770755400-1770762600@dubrovnik.today
SUMMARY:BUGONIA
DESCRIPTION:Iz vizionarskog uma redatelja Yorgosa Lanthimosa dolazi „Bugonia“ — eksplozivni psihološki triler koji pruža crnohumorni uvid u naše moderno doba ludila. \nProvokativan i subverzivan\, film prati dvojicu mladića opsjednutih teorijama zavjere koji izlaze iz svojih internetskih jazbina i otimaju Michelle\, moćnu direktoricu korporacije za koju vjeruju da je izvanzemaljac poslan da nas uništi. Nakon što je okuju u podrumu i suoče se licem u lice s „neprijateljem“\, obje strane — paranoidni zatočitelji u aluminijskim kapama i hladna\, bezdušna korporativna izvršiteljica — uskoro se nađu u sukobu koji je jednako nepredvidljiv koliko i iznenađujuće dirljiv. \nFilm nose snažne glumačke izvedbe Jesseja Plemonsa\, Emme Stone i debitanta Aidana Delbisa\, a zahvaljujući vraški oštrom scenariju Willa Tracyja\, Lanthimos stvara drsko originalan portret onoga što znači smijati se\, plakati i zgražati se nad sudbinom čovječanstva.
URL:https://dubrovnik.today/event/bugonia/2026-02-10/
LOCATION:Kino dvorana Visia\, Poljana Paska Miličevića 3\, Dubrovnik\, 20000\, Croatia
CATEGORIES:Cinema
ATTACH;FMTTYPE=image/jpeg:https://dubrovnik.today/wp-content/uploads/2025/10/BUGONIA-1920x1080px-T-PORTAL-1.jpg
ORGANIZER;CN="Kinematografi Dubrovnik":MAILTO:operater@kinematografi.org
GEO:42.6414431;18.1071797
X-APPLE-STRUCTURED-LOCATION;VALUE=URI;X-ADDRESS=Kino dvorana Visia Poljana Paska Miličevića 3 Dubrovnik 20000 Croatia;X-APPLE-RADIUS=500;X-TITLE=Poljana Paska Miličevića 3:geo:18.1071797,42.6414431
END:VEVENT
END:VCALENDAR