BEGIN:VCALENDAR
VERSION:2.0
PRODID:-//dbk.life - ECPv6.15.12//NONSGML v1.0//EN
CALSCALE:GREGORIAN
METHOD:PUBLISH
X-ORIGINAL-URL:https://dubrovnik.today
X-WR-CALDESC:Events for dbk.life
REFRESH-INTERVAL;VALUE=DURATION:PT1H
X-Robots-Tag:noindex
X-PUBLISHED-TTL:PT1H
BEGIN:VTIMEZONE
TZID:Europe/Zagreb
BEGIN:DAYLIGHT
TZOFFSETFROM:+0100
TZOFFSETTO:+0200
TZNAME:CEST
DTSTART:20240331T010000
END:DAYLIGHT
BEGIN:STANDARD
TZOFFSETFROM:+0200
TZOFFSETTO:+0100
TZNAME:CET
DTSTART:20241027T010000
END:STANDARD
BEGIN:DAYLIGHT
TZOFFSETFROM:+0100
TZOFFSETTO:+0200
TZNAME:CEST
DTSTART:20250330T010000
END:DAYLIGHT
BEGIN:STANDARD
TZOFFSETFROM:+0200
TZOFFSETTO:+0100
TZNAME:CET
DTSTART:20251026T010000
END:STANDARD
BEGIN:DAYLIGHT
TZOFFSETFROM:+0100
TZOFFSETTO:+0200
TZNAME:CEST
DTSTART:20260329T010000
END:DAYLIGHT
BEGIN:STANDARD
TZOFFSETFROM:+0200
TZOFFSETTO:+0100
TZNAME:CET
DTSTART:20261025T010000
END:STANDARD
BEGIN:DAYLIGHT
TZOFFSETFROM:+0100
TZOFFSETTO:+0200
TZNAME:CEST
DTSTART:20270328T010000
END:DAYLIGHT
BEGIN:STANDARD
TZOFFSETFROM:+0200
TZOFFSETTO:+0100
TZNAME:CET
DTSTART:20271031T010000
END:STANDARD
END:VTIMEZONE
BEGIN:VEVENT
DTSTART;TZID=Europe/Zagreb:20251205T130000
DTEND;TZID=Europe/Zagreb:20260102T170000
DTSTAMP:20260423T225609
CREATED:20251117T214013Z
LAST-MODIFIED:20251117T214013Z
UID:10007241-1764939600-1767373200@dubrovnik.today
SUMMARY:Advent u Župi 2025
DESCRIPTION:Advent u Župi 2025. od 5. prosinca 2025. do 2. siječnja 2026. godine u organizaciji Općine Župa dubrovačka donosi bogat program i prepoznatljivu blagdansku atmosferu. \nNa samom otvaranju Adventa nastupat će Plesni studio Lazareti\, klapa Kaše\, Plesno rekreacijski studio Dubrovnik – grupa Zumba Kids & Teens\, Mažoretke Župe dubrovačke. U večernjim satima svira Željko Barač uz DJ glazbu. \nZa 7. prosinca najavljen je nastup Matije Cveka\, 12. prosinca Ive Ajduković\, 20 prosinca Đanija Stipaničeva\, a Giuliano i Diktatori nastupaju 28. prosinca. Pored pjevačkih zvijezda nastupit će još  i DJ Petar Ipšić\, Band Bjelouška\, ženska klapa Ortenca i Modul 5.  Na dočeku Nove godine nastupa  sjajan zagrebački Freak Out Band predvođen Sanjom Parmać.Pored toga 13. prosinca 2025.\, održat će se i lutkarska predstava – mjuzikl “Pčelice zujalice” – Kulturnog društva Aster i humanitarni prikla party „Imaj srce za druge“ uz prodaju božićnih ukrasa  koji organiziraju Mladi i obitelji Župe Sv. Ilara. \nDan kasnije 14. prosinca 2025.\, predviđena je radionica 3D olovkama – izrada božićnih ukrasa koju će voditi Udruga Kurenat.I na programu  Adventa u Župi predviđene su  radionice kolende za djecu koje će  se održavati u samostanu sv. Vicenca u Mandaljeni\, gdje će se također održati i posebno događanje Storytelling Kolenda\, pod vodstvom našeg poznatog autora i predavača Vedrana Mezeija. Kao i prijašnjih godina\, organiziran je i Advent u Mandaljeni uz program koji prati paljenje Adventskih svijeća. \nEvo programa događanja u Župi. \n5.12.2025.- Željko Barač i DJ\n7.12.2025. – Matija Cvek\n12.12.2025. – Iva Ajduković\n13.12.2025. – DJ Petar Ipšić\n14.12.2025. – Bend Bjelouška\n20.12.2025.  -Đani Stipaničev\n21.12.2025. – DJ Petar Ipšić\n23.12.2025. – Bend Bjelouška\n24.12.2025. – ženska klapa Ortenca\n26.12.2025. – Modul 5\n28.12.2025.  Giuliano i Diktatori\n31.12.2025. – Freak Out Band  \n6. prosinca 2025.\n15.00 – 17.00 Pismo sv. Nikoli – Plesni studio Lazareti \n13. prosinca 2025.\n12.00-12.45 Lutkarska predstava – mjuzikl “Pčelice zujalice” – KD Aster\n15:00-16:00 radionica kolende – samostan sv. Vicenco\, Ivan Vlašić\n15:00-17:00 Imaj srce za druge – Humanitarni prikla party – Mladi i obitelji\nŽupe Sv. Ilara\n20:00-23:00 DJ Petar Ipšić \n14. prosinca 2025.\n15:00-16:30 radionica 3D ART (radionica 3D olovkama) – izrada božićnih\nukrasa – udruga Kurenat\n18.00-19.00 Storytelling Kolenda – samostan sv. Vicenco\, Vedran Mezei\n20:30-22:30 Bend Bjelouška\nZa radionicu 3D Art potrebno je ispuniti obrazac ovdje. \n20. prosinca 2025.\n15:00-16:00 radionica kolende – samostan sv. Vicenco\, Ivan Vlašić\n20.30 – 22.30 Đani Stipaničev \n21.prosinca 2025.\n15:00-16:00 radionica kolende – samostan sv. Vicenco\, Ivan Vlašić\n20:00-23:00 DJ Petar Ipšić
URL:https://dubrovnik.today/event/advent-u-zupi-2025/
LOCATION:Srebreno\, Župa Dubrovačka\, Vukovarska 46\, Srebreno\, Dubrovačko-neretvanska\, 20207\, Croatia
CATEGORIES:Exhibition,Music,Theatre,Workshop
ATTACH;FMTTYPE=image/jpeg:https://dubrovnik.today/wp-content/uploads/2025/11/9338004380289103747.jpg
ORGANIZER;CN="Tourist Board of %C5%BDupa dubrova%C4%8Dka":MAILTO:tz-zupa-dubrovacka@du.t-com.hr
GEO:42.622894;18.1933714
X-APPLE-STRUCTURED-LOCATION;VALUE=URI;X-ADDRESS=Srebreno Župa Dubrovačka Vukovarska 46 Srebreno Dubrovačko-neretvanska 20207 Croatia;X-APPLE-RADIUS=500;X-TITLE=Vukovarska 46:geo:18.1933714,42.622894
END:VEVENT
BEGIN:VEVENT
DTSTART;TZID=Europe/Zagreb:20251223T153000
DTEND;TZID=Europe/Zagreb:20251223T170000
DTSTAMP:20260423T225609
CREATED:20251210T112557Z
LAST-MODIFIED:20251230T123411Z
UID:10007615-1766503800-1766509200@dubrovnik.today
SUMMARY:BOŽIĆNA ČAROLIJA SJEVERA / North: An Epic Journey of Friendship
DESCRIPTION:Božićna čarolija sjevera je očaravajuća obiteljska pustolovina nadahnuta bajkom Hansa Christiana Andersena – Snježna kraljica. Smješten u veličanstvene krajolike Norveške\, film spaja bajkovitu magiju\, zadivljujuću vizualnost i dirljivu priču o hrabrosti\, odanosti i snazi ljubavi — priču koja će ugrijati srca publike svih uzrasta. \nU srcu ledene Norveške\, gdje snijeg skriva i čuva tajne svijeta\, djevojčica Gerda kreće na hrabro putovanje kako bi pronašla svog nestalog prijatelja Kaija — ne sluteći da ju iz sjenke promatra moćna Snježna kraljica i njezin zlokobni pomoćnik Louie. Na putu punom izazova i čuda\, Gerda pronalazi neočekivane saveznike: gusku\, konja\, soba i dobrodušnu vješticu\, a svaki korak vodi je bliže snijegom prekrivenom dvorcu u kojem Kai čeka svoje spasenje.
URL:https://dubrovnik.today/event/bozicna-carolija-sjevera-north-an-epic-journey-of-friendship/2025-12-23/
LOCATION:Kino Sloboda\, Luža 66\, Dubrovnik\, Dubrovačko-neretvanska\, 20000\, Croatia
CATEGORIES:Cinema
ATTACH;FMTTYPE=image/jpeg:https://dubrovnik.today/wp-content/uploads/2025/12/1080X1920_NORTH_HR.jpg
ORGANIZER;CN="Kinematografi Dubrovnik":MAILTO:operater@kinematografi.org
GEO:42.6409105;18.1101717
X-APPLE-STRUCTURED-LOCATION;VALUE=URI;X-ADDRESS=Kino Sloboda Luža 66 Dubrovnik Dubrovačko-neretvanska 20000 Croatia;X-APPLE-RADIUS=500;X-TITLE=Luža 66:geo:18.1101717,42.6409105
END:VEVENT
BEGIN:VEVENT
DTSTART;TZID=Europe/Zagreb:20251223T163000
DTEND;TZID=Europe/Zagreb:20251223T180000
DTSTAMP:20260423T225609
CREATED:20251222T094111Z
LAST-MODIFIED:20251222T094111Z
UID:10007609-1766507400-1766512800@dubrovnik.today
SUMMARY:How the Grinch stole Christmas@Trg oružja
DESCRIPTION:Gledamo “How the Grinch stole Christmas” na Festaničnom\, vanjskom kinu!\nVidimo se uz iće i piće 🥰❤️💃🎄✨ a za top atmosferu nakon filma zaslužan će biti naš DJ @alexg__official od 20:00 sati!! \n#grinch #movienight #christmastime #advent #festanica #bozic #dubrovnik #fyp #winterseason
URL:https://dubrovnik.today/event/how-the-grinch-stole-christmastrg-oruzja/
LOCATION:Trg oružja\, Ul. Svetog Dominika 3\, Dubrovnik\, Dubrovačko-neretvanska\, 20000\, Croatia
CATEGORIES:Cinema
ATTACH;FMTTYPE=image/jpeg:https://dubrovnik.today/wp-content/uploads/2025/12/602075942_17849879031611089_1338606594154537485_n.jpg
ORGANIZER;CN="Festanica":MAILTO:https://www.instagram.com/festanica/
GEO:42.6416325;18.1109116
X-APPLE-STRUCTURED-LOCATION;VALUE=URI;X-ADDRESS=Trg oružja Ul. Svetog Dominika 3 Dubrovnik Dubrovačko-neretvanska 20000 Croatia;X-APPLE-RADIUS=500;X-TITLE=Ul. Svetog Dominika 3:geo:18.1109116,42.6416325
END:VEVENT
BEGIN:VEVENT
DTSTART;TZID=Europe/Zagreb:20251223T190000
DTEND;TZID=Europe/Zagreb:20251223T200000
DTSTAMP:20260423T225609
CREATED:20251104T074028Z
LAST-MODIFIED:20251104T074028Z
UID:10007107-1766516400-1766520000@dubrovnik.today
SUMMARY:Orašar
DESCRIPTION:“Orašar i mišji kralj“ umjetnička je bajka koju je 1816. godine napisao veliki njemački romantičarski pisac Ernst Theodor Amadeus Hoffmann. Poslužila je kao inspiracija za jedan od najpoznatijih i djeci najomiljenijih svjetskih baleta\, koji u božićno doba ne silazi sa svjetskih pozornica\, kao i za brojne književne i filmske adaptacije. \nNaša se predstava u koprodukciji s baletnim odjelom Umjetničke škole Luke Sorkočevića\, u verziji Lade Kaštelan i režiji Paola Tišljarića\, na nov i neobičan način igra s originalnim Hoffmannovim zapletom. \nNaša je adaptacija namijenjena i malima i velikima\, svi će u njoj moći naći nešto za sebe\, ako je budu gledali otvorenih očiju i srca. Kao što na kraju predstave kaže Marie: \n„Te čarobne stvari mogu vidjeti samo oni\, koji za to imaju oči. Vi ste ih vidjeli\, djeco\, zar ne?“ \nPredstava je namijenjena djeci od 4 godine pa na više.
URL:https://dubrovnik.today/event/orasar/2025-12-23/
LOCATION:Kazalište Marina Držića\, Pred Dvorom 3\, Dubrovnik\, 20000\, Croatia
CATEGORIES:Theatre
ATTACH;FMTTYPE=image/jpeg:https://dubrovnik.today/wp-content/uploads/2025/11/Orashar-web.jpg
ORGANIZER;CN="Kazali%C5%A1te Marina Dr%C5%BEi%C4%87a":MAILTO:press@kmd.hr
GEO:42.6403741;18.1107474
X-APPLE-STRUCTURED-LOCATION;VALUE=URI;X-ADDRESS=Kazalište Marina Držića Pred Dvorom 3 Dubrovnik 20000 Croatia;X-APPLE-RADIUS=500;X-TITLE=Pred Dvorom 3:geo:18.1107474,42.6403741
END:VEVENT
BEGIN:VEVENT
DTSTART;TZID=Europe/Zagreb:20251223T190000
DTEND;TZID=Europe/Zagreb:20251223T223000
DTSTAMP:20260423T225609
CREATED:20251222T095223Z
LAST-MODIFIED:20251230T123252Z
UID:10007612-1766516400-1766529000@dubrovnik.today
SUMMARY:AVATAR : VATRA I PEPEO / Avatar: Fire and Ash
DESCRIPTION:„Avatar: Vatra i pepeo“\, treći film u nevjerojatno uspješnoj franšizi „Avatar“\, donosi još dublje i emotivnije poglavlje sage o obitelji Sully. Radnja filma ponovno okuplja obitelj Sully i klan Metkayina koji se\, ujedinjeni\, suočavaju s novom prijetnjom\, opasnim pepelnim plemenom. Emocionalni ulozi su veći nego ikada\, a vizualni elementi obećavaju još jedno nezaboravno kino iskustvo koje nadmašuje prethodne nastavke. Film će otkriti dosad neviđene dijelove Pandore\, ovaj put gledatelji će upoznati misteriozni narod Ash People\, ratobornu zajednicu koja živi u opasnim\, vulkanskim krajevima planeta. Njihova vođa Varang\, koju glumi Oona Chaplin\, prikazana je kao moćna figura s nevjerojatnom sposobnošću upravljanja vatrom\, što dovodi do razornih posljedica po prirodni svijet Pandore.
URL:https://dubrovnik.today/event/avatar-vatra-i-pepeo-avatar-fire-and-ash/2025-12-23/
LOCATION:Kino dvorana Visia\, Poljana Paska Miličevića 3\, Dubrovnik\, 20000\, Croatia
CATEGORIES:Cinema
ATTACH;FMTTYPE=image/jpeg:https://dubrovnik.today/wp-content/uploads/2025/12/FB_cover_AVATAR_FIRE_AND_ASH_HR.jpg
ORGANIZER;CN="Kinematografi Dubrovnik":MAILTO:operater@kinematografi.org
GEO:42.6414431;18.1071797
X-APPLE-STRUCTURED-LOCATION;VALUE=URI;X-ADDRESS=Kino dvorana Visia Poljana Paska Miličevića 3 Dubrovnik 20000 Croatia;X-APPLE-RADIUS=500;X-TITLE=Poljana Paska Miličevića 3:geo:18.1071797,42.6414431
END:VEVENT
BEGIN:VEVENT
DTSTART;TZID=Europe/Zagreb:20251223T200000
DTEND;TZID=Europe/Zagreb:20251223T213000
DTSTAMP:20260423T225609
CREATED:20251210T095233Z
LAST-MODIFIED:20251210T095233Z
UID:10007532-1766520000-1766525400@dubrovnik.today
SUMMARY:Murder Mystery: Domjenak smrti - DUBROVNIK
DESCRIPTION:Uredski božićni domjenak krenuo je kao i svake godine: pristojna glazba\, lažni osmijesi i neizbježna pitanja o godišnjim planovima. Sve je izgledalo savršeno uštimano… dok usred zabave iznenadni krik nije prerezao žamor. 𝐍𝐞𝐭𝐤𝐨 𝐣𝐞 𝐮𝐛𝐢𝐣𝐞𝐧. \nSitnice koje su se ranije činile bezazlenima odjednom dobivaju novu težinu: neugodan pogled\, prebrzo skretanje teme\, nečiji nestanak baš u ključnom trenutku. Sve se pretvara u trag. \nA dok blagdanske lampice nastavljaju treperiti kao da se ništa nije dogodilo\, jedna je stvar potpuno jasna.\nIstina je tu negdje\, skrivena među ljudima koji se kunu da nemaju što skrivati.\nPitanje je samo tko će je prvi rasplesti. \n************************** \nPridružite nam se u rješavanju našeg najnovijeg slučaja! Kroz vođenu igru\, u timovima od 𝟒-𝟔 𝐥𝐣𝐮𝐝𝐢 (ukoliko nemate dovoljno ljudi za cijeli tim\, ne brinite\, spojit ćemo vas s drugima!) uz pomoć dosjea i tragova po sobi otkrijte ubojicu i osvojite nagradu! 🕵️‍♀️✨ \n𝘕𝘢𝘬𝘰𝘯 𝘬𝘶𝘱𝘯𝘫𝘦 𝘬𝘢𝘳𝘢𝘵𝘢 𝘮𝘰𝘭𝘪𝘮𝘰 𝘷𝘢𝘴 𝘥𝘢 𝘯𝘢𝘮 𝘫𝘢𝘷𝘪𝘵𝘦 𝘬𝘰𝘭𝘪𝘬𝘰 𝘷𝘢𝘴 𝘫𝘦 𝘶 𝘵𝘪𝘮𝘶\, 𝘯𝘢 č𝘪𝘫𝘦 𝘪𝘮𝘦 𝘴𝘶 𝘬𝘶𝘱𝘭𝘫𝘦𝘯𝘦 𝘬𝘢𝘳𝘵𝘦 𝘪 𝘪𝘮𝘦 𝘷𝘢š𝘦𝘨 𝘥𝘦𝘵𝘦𝘬𝘵𝘪𝘷𝘴𝘬𝘰𝘨 𝘵𝘪𝘮𝘢.\n𝘜𝘬𝘰𝘭𝘪𝘬𝘰 𝘴𝘵𝘦 𝘷𝘪 𝘪 𝘷𝘢š𝘪 𝘱𝘳𝘪𝘫𝘢𝘵𝘦𝘭𝘫𝘪 𝘬𝘶𝘱𝘪𝘭𝘪 𝘬𝘢𝘳𝘵𝘦 𝘰𝘥𝘷𝘰𝘫𝘦𝘯𝘰 𝘢 ž𝘦𝘭𝘪𝘵𝘦 𝘣𝘪𝘵𝘪 𝘻𝘢𝘫𝘦𝘥𝘯𝘰 𝘶 𝘵𝘪𝘮𝘶 𝘰𝘣𝘢𝘷𝘦𝘻𝘯𝘰 𝘯𝘢𝘮 𝘴𝘦 𝘫𝘢𝘷𝘪𝘵𝘦 𝘥𝘢 𝘻𝘯𝘢𝘮𝘰 𝘬𝘢𝘬𝘰 𝘰𝘧𝘰𝘳𝘮𝘪𝘵𝘪 𝘵𝘪𝘮𝘰𝘷𝘦.\n𝘒𝘰𝘯𝘵𝘢𝘬𝘵: 𝘶𝘱𝘪𝘵@𝘮𝘶𝘳𝘥𝘦𝘳𝘮𝘺𝘴𝘵𝘦𝘳𝘺.𝘩𝘳 𝘪𝘭𝘪 𝘶 𝘪𝘯𝘴𝘵𝘢𝘨𝘳𝘢𝘮 𝘋𝘔 (@𝘮𝘶𝘳𝘥𝘦𝘳𝘮𝘺𝘴𝘵𝘦𝘳𝘺𝘩𝘳𝘷𝘢𝘵𝘴𝘬𝘢)\n𝘜𝘬𝘰𝘭𝘪𝘬𝘰 𝘯𝘦𝘮𝘢𝘵𝘦 𝘶𝘯𝘢𝘱𝘳𝘪𝘫𝘦𝘥 𝘰𝘥𝘳𝘦đ𝘦𝘯𝘪 𝘵𝘪𝘮 𝘪/𝘪𝘭𝘪 𝘴𝘦 𝘯𝘦 𝘫𝘢𝘷𝘪𝘵𝘦 𝘮𝘪 ć𝘦𝘮𝘰 𝘷𝘢𝘴 𝘴𝘱𝘰𝘫𝘪𝘵𝘪 𝘴 𝘯𝘦𝘬𝘪𝘮 𝘱𝘳𝘪 𝘥𝘰𝘭𝘢𝘴𝘬𝘶. \n𝘔𝘰𝘭𝘪𝘮𝘰 𝘷𝘢𝘴 𝘥𝘢 𝘥𝘰đ𝘦𝘵𝘦 𝘣𝘢𝘳𝘦𝘮 15 𝘮𝘪𝘯𝘶𝘵𝘢 𝘳𝘢𝘯𝘪𝘫𝘦 𝘬𝘢𝘬𝘰 𝘣𝘪𝘴𝘵𝘦 𝘴𝘦 𝘴𝘵𝘪𝘨𝘭𝘪 𝘴𝘮𝘫𝘦𝘴𝘵𝘪𝘵𝘪 𝘪 𝘬𝘢𝘬𝘰 𝘯𝘦 𝘣𝘪𝘴𝘵𝘦 𝘱𝘳𝘰𝘱𝘶𝘴𝘵𝘪𝘭𝘪 𝘣𝘪𝘵𝘯𝘦 𝘪𝘯𝘧𝘰𝘳𝘮𝘢𝘤𝘪𝘫𝘦 𝘰 𝘴𝘭𝘶č𝘢𝘫𝘶.
URL:https://dubrovnik.today/event/murder-mystery-domjenak-smrti-dubrovnik/
LOCATION:Love Bar\, Andrije Hebranga 95\, Dubrovnik\, Dubrovačko-neretvanska\, 20000\, Croatia
ATTACH;FMTTYPE=image/jpeg:https://dubrovnik.today/wp-content/uploads/2025/12/597868848_122181973292572076_4981943570663709415_n.jpg
ORGANIZER;CN="Love Bar":MAILTO:lovebardu@gmail.com
GEO:42.6602872;18.0868889
X-APPLE-STRUCTURED-LOCATION;VALUE=URI;X-ADDRESS=Love Bar Andrije Hebranga 95 Dubrovnik Dubrovačko-neretvanska 20000 Croatia;X-APPLE-RADIUS=500;X-TITLE=Andrije Hebranga 95:geo:18.0868889,42.6602872
END:VEVENT
BEGIN:VEVENT
DTSTART;TZID=Europe/Zagreb:20251223T200000
DTEND;TZID=Europe/Zagreb:20251223T214500
DTSTAMP:20260423T225609
CREATED:20251222T095924Z
LAST-MODIFIED:20251222T095924Z
UID:10007617-1766520000-1766526300@dubrovnik.today
SUMMARY:ČUDOVIŠTE ISPOD KREVETA / Dust Bunny
DESCRIPTION:Mads Mikkelsen predvodi jezovitu\, a opet začudno dirljivu priču Bryana Fullera\, u kojoj desetogodišnja djevojčica unajmljuje plaćenog ubojicu da ubije čudovište koje se skriva ispod njezina kreveta. Desetogodišnja djevojčica Aurora je uvjerena da ispod njezina kreveta vreba čudovište – i ima dobar razlog za strah: upravo je pojelo njezine udomitelje. Njeno rješenje je neobično\, ali praktično: unajmit će enigmatičnog susjeda (Mads Mikkelsen)\, plaćenog ubojicu\, da se obračuna s nemani. No susjed vjeruje kako su njezini roditelji zapravo stradali od metaka namijenjenih njemu\, pa njihovo neočekivano savezništvo prerasta u jezivu\, ali i dirljivu priču. Film je svojevrsni omaž klasiku Léon: The Professional\, no Bryan Fuller unosi prepoznatljiv stil – šaroliku vizualnu estetiku\, crni humor i bajkovitu atmosferu koja podsjeća na filmove Jean-Pierre Jeuneta.
URL:https://dubrovnik.today/event/cudoviste-ispod-kreveta-dust-bunny/
LOCATION:Kino dvorana Visia\, Poljana Paska Miličevića 3\, Dubrovnik\, 20000\, Croatia
CATEGORIES:Cinema
ATTACH;FMTTYPE=image/jpeg:https://dubrovnik.today/wp-content/uploads/2025/12/FB_COVER_DUST_BUNNY_single_HR.jpg
ORGANIZER;CN="Kinematografi Dubrovnik":MAILTO:operater@kinematografi.org
GEO:42.6414431;18.1071797
X-APPLE-STRUCTURED-LOCATION;VALUE=URI;X-ADDRESS=Kino dvorana Visia Poljana Paska Miličevića 3 Dubrovnik 20000 Croatia;X-APPLE-RADIUS=500;X-TITLE=Poljana Paska Miličevića 3:geo:18.1071797,42.6414431
END:VEVENT
BEGIN:VEVENT
DTSTART;TZID=Europe/Zagreb:20251223T200000
DTEND;TZID=Europe/Zagreb:20251223T230000
DTSTAMP:20260423T225609
CREATED:20251113T084817Z
LAST-MODIFIED:20251113T084817Z
UID:10007217-1766520000-1766530800@dubrovnik.today
SUMMARY:Advent na Vojnoviću: Bosutski bećari
DESCRIPTION:23/12/25\n20:00 Studentski dom\nBosutski bećari
URL:https://dubrovnik.today/event/advent-na-vojnovicu-bosutski-becari/
LOCATION:Studentski dom\, Marka Marojice 2b\, Dubrovnik\, Dubrovačko-neretvanska\, 20000\, Croatia
ATTACH;FMTTYPE=image/jpeg:https://dubrovnik.today/wp-content/uploads/2025/11/472331180_1125842412282586_4565297481559845154_n.jpg
ORGANIZER;CN="Advent na Vojnovi%C4%87u":MAILTO:adventnavojnovicu@gmail.com
GEO:42.6495114;18.0844886
X-APPLE-STRUCTURED-LOCATION;VALUE=URI;X-ADDRESS=Studentski dom Marka Marojice 2b Dubrovnik Dubrovačko-neretvanska 20000 Croatia;X-APPLE-RADIUS=500;X-TITLE=Marka Marojice 2b:geo:18.0844886,42.6495114
END:VEVENT
BEGIN:VEVENT
DTSTART;TZID=Europe/Zagreb:20251223T200000
DTEND;TZID=Europe/Zagreb:20251224T020000
DTSTAMP:20260423T225609
CREATED:20251222T094324Z
LAST-MODIFIED:20251222T094324Z
UID:10007610-1766520000-1766541600@dubrovnik.today
SUMMARY:Not so silent night@Trg oružja
DESCRIPTION:Ovo nije tiha večer.\nOvo nije bilo koji DJ.\nOvo je Festanica x @alexg__official 🤩 \nRezerviraj stol. Noć neće biti tiha. \n#festanica #dubrovackizimskifestival #adventdubrovnik #christmasparty #dubrovnik
URL:https://dubrovnik.today/event/not-so-silent-nighttrg-oruzja/
LOCATION:Trg oružja\, Ul. Svetog Dominika 3\, Dubrovnik\, Dubrovačko-neretvanska\, 20000\, Croatia
CATEGORIES:Music
ATTACH;FMTTYPE=image/jpeg:https://dubrovnik.today/wp-content/uploads/2025/12/603900248_17850006816611089_2601102841415459651_n.jpg
ORGANIZER;CN="Festanica":MAILTO:https://www.instagram.com/festanica/
GEO:42.6416325;18.1109116
X-APPLE-STRUCTURED-LOCATION;VALUE=URI;X-ADDRESS=Trg oružja Ul. Svetog Dominika 3 Dubrovnik Dubrovačko-neretvanska 20000 Croatia;X-APPLE-RADIUS=500;X-TITLE=Ul. Svetog Dominika 3:geo:18.1109116,42.6416325
END:VEVENT
END:VCALENDAR