BEGIN:VCALENDAR
VERSION:2.0
PRODID:-//dbk.life - ECPv6.15.12//NONSGML v1.0//EN
CALSCALE:GREGORIAN
METHOD:PUBLISH
X-WR-CALNAME:dbk.life
X-ORIGINAL-URL:https://dubrovnik.today
X-WR-CALDESC:Events for dbk.life
REFRESH-INTERVAL;VALUE=DURATION:PT1H
X-Robots-Tag:noindex
X-PUBLISHED-TTL:PT1H
BEGIN:VTIMEZONE
TZID:Europe/Zagreb
BEGIN:DAYLIGHT
TZOFFSETFROM:+0100
TZOFFSETTO:+0200
TZNAME:CEST
DTSTART:20240331T010000
END:DAYLIGHT
BEGIN:STANDARD
TZOFFSETFROM:+0200
TZOFFSETTO:+0100
TZNAME:CET
DTSTART:20241027T010000
END:STANDARD
BEGIN:DAYLIGHT
TZOFFSETFROM:+0100
TZOFFSETTO:+0200
TZNAME:CEST
DTSTART:20250330T010000
END:DAYLIGHT
BEGIN:STANDARD
TZOFFSETFROM:+0200
TZOFFSETTO:+0100
TZNAME:CET
DTSTART:20251026T010000
END:STANDARD
BEGIN:DAYLIGHT
TZOFFSETFROM:+0100
TZOFFSETTO:+0200
TZNAME:CEST
DTSTART:20260329T010000
END:DAYLIGHT
BEGIN:STANDARD
TZOFFSETFROM:+0200
TZOFFSETTO:+0100
TZNAME:CET
DTSTART:20261025T010000
END:STANDARD
BEGIN:DAYLIGHT
TZOFFSETFROM:+0100
TZOFFSETTO:+0200
TZNAME:CEST
DTSTART:20270328T010000
END:DAYLIGHT
BEGIN:STANDARD
TZOFFSETFROM:+0200
TZOFFSETTO:+0100
TZNAME:CET
DTSTART:20271031T010000
END:STANDARD
END:VTIMEZONE
BEGIN:VEVENT
DTSTART;TZID=Europe/Zagreb:20251205T130000
DTEND;TZID=Europe/Zagreb:20260102T170000
DTSTAMP:20260424T015824
CREATED:20251117T214013Z
LAST-MODIFIED:20251117T214013Z
UID:10007241-1764939600-1767373200@dubrovnik.today
SUMMARY:Advent u Župi 2025
DESCRIPTION:Advent u Župi 2025. od 5. prosinca 2025. do 2. siječnja 2026. godine u organizaciji Općine Župa dubrovačka donosi bogat program i prepoznatljivu blagdansku atmosferu. \nNa samom otvaranju Adventa nastupat će Plesni studio Lazareti\, klapa Kaše\, Plesno rekreacijski studio Dubrovnik – grupa Zumba Kids & Teens\, Mažoretke Župe dubrovačke. U večernjim satima svira Željko Barač uz DJ glazbu. \nZa 7. prosinca najavljen je nastup Matije Cveka\, 12. prosinca Ive Ajduković\, 20 prosinca Đanija Stipaničeva\, a Giuliano i Diktatori nastupaju 28. prosinca. Pored pjevačkih zvijezda nastupit će još  i DJ Petar Ipšić\, Band Bjelouška\, ženska klapa Ortenca i Modul 5.  Na dočeku Nove godine nastupa  sjajan zagrebački Freak Out Band predvođen Sanjom Parmać.Pored toga 13. prosinca 2025.\, održat će se i lutkarska predstava – mjuzikl “Pčelice zujalice” – Kulturnog društva Aster i humanitarni prikla party „Imaj srce za druge“ uz prodaju božićnih ukrasa  koji organiziraju Mladi i obitelji Župe Sv. Ilara. \nDan kasnije 14. prosinca 2025.\, predviđena je radionica 3D olovkama – izrada božićnih ukrasa koju će voditi Udruga Kurenat.I na programu  Adventa u Župi predviđene su  radionice kolende za djecu koje će  se održavati u samostanu sv. Vicenca u Mandaljeni\, gdje će se također održati i posebno događanje Storytelling Kolenda\, pod vodstvom našeg poznatog autora i predavača Vedrana Mezeija. Kao i prijašnjih godina\, organiziran je i Advent u Mandaljeni uz program koji prati paljenje Adventskih svijeća. \nEvo programa događanja u Župi. \n5.12.2025.- Željko Barač i DJ\n7.12.2025. – Matija Cvek\n12.12.2025. – Iva Ajduković\n13.12.2025. – DJ Petar Ipšić\n14.12.2025. – Bend Bjelouška\n20.12.2025.  -Đani Stipaničev\n21.12.2025. – DJ Petar Ipšić\n23.12.2025. – Bend Bjelouška\n24.12.2025. – ženska klapa Ortenca\n26.12.2025. – Modul 5\n28.12.2025.  Giuliano i Diktatori\n31.12.2025. – Freak Out Band  \n6. prosinca 2025.\n15.00 – 17.00 Pismo sv. Nikoli – Plesni studio Lazareti \n13. prosinca 2025.\n12.00-12.45 Lutkarska predstava – mjuzikl “Pčelice zujalice” – KD Aster\n15:00-16:00 radionica kolende – samostan sv. Vicenco\, Ivan Vlašić\n15:00-17:00 Imaj srce za druge – Humanitarni prikla party – Mladi i obitelji\nŽupe Sv. Ilara\n20:00-23:00 DJ Petar Ipšić \n14. prosinca 2025.\n15:00-16:30 radionica 3D ART (radionica 3D olovkama) – izrada božićnih\nukrasa – udruga Kurenat\n18.00-19.00 Storytelling Kolenda – samostan sv. Vicenco\, Vedran Mezei\n20:30-22:30 Bend Bjelouška\nZa radionicu 3D Art potrebno je ispuniti obrazac ovdje. \n20. prosinca 2025.\n15:00-16:00 radionica kolende – samostan sv. Vicenco\, Ivan Vlašić\n20.30 – 22.30 Đani Stipaničev \n21.prosinca 2025.\n15:00-16:00 radionica kolende – samostan sv. Vicenco\, Ivan Vlašić\n20:00-23:00 DJ Petar Ipšić
URL:https://dubrovnik.today/event/advent-u-zupi-2025/
LOCATION:Srebreno\, Župa Dubrovačka\, Vukovarska 46\, Srebreno\, Dubrovačko-neretvanska\, 20207\, Croatia
CATEGORIES:Exhibition,Music,Theatre,Workshop
ATTACH;FMTTYPE=image/jpeg:https://dubrovnik.today/wp-content/uploads/2025/11/9338004380289103747.jpg
ORGANIZER;CN="Tourist Board of %C5%BDupa dubrova%C4%8Dka":MAILTO:tz-zupa-dubrovacka@du.t-com.hr
GEO:42.622894;18.1933714
X-APPLE-STRUCTURED-LOCATION;VALUE=URI;X-ADDRESS=Srebreno Župa Dubrovačka Vukovarska 46 Srebreno Dubrovačko-neretvanska 20207 Croatia;X-APPLE-RADIUS=500;X-TITLE=Vukovarska 46:geo:18.1933714,42.622894
END:VEVENT
BEGIN:VEVENT
DTSTART;TZID=Europe/Zagreb:20251222T180000
DTEND;TZID=Europe/Zagreb:20251222T190000
DTSTAMP:20260424T015824
CREATED:20251222T093132Z
LAST-MODIFIED:20251222T093132Z
UID:10007607-1766426400-1766430000@dubrovnik.today
SUMMARY:Otvorenje izložbe Dubrovačkih muzeja "Brodogradnja na dubrovački način – 500 godina škara u Gružu"
DESCRIPTION:Dubrovački muzeji u ponedjeljak\, 22. prosinca 2025. u 18 sati u žitnici „Rupe“ otvaraju izložbu „Brodogradnja na dubrovački način – 500. obljetnica škara u Gružu“\, kojom se obilježava osnutak i višestoljetno djelovanje najvažnijega državnog brodogradilišta Dubrovačke Republike\, utemeljenog 1525. godine. Autorice izložbe su Ana Kaznačić Skurić i Ljerka Dunatov.\nDržavno brodogradilište nalazilo se na sjevernoj strani Gruškoga zaljeva\, na Kantafigu te je gotovo tri stoljeća uživalo zaštitu dubrovačke vlade. Unatoč razaranju u doba Napoleonskih ratova\, brodogradilište je obnovljeno i nastavilo djelovati tijekom francuske i austrijske uprave\, dok je u 19. stoljeću na području Gruža djelovalo i više manjih obiteljskih brodogradilišta.\nOva obljetnička izložba podsjetnik je na iznimno bogatu brodograđevnu baštinu Dubrovnika\, koja je u nekim razdobljima svoje povijesti dosezala svjetske domete. Bez nava\, karaka\, galijuna\, izgrađenih na navozima dubrovačkoga kraja\, nije moguće ni zamisliti pomorsko-trgovačku ekspanziju Dubrovačke Republike u 16. stoljeću. Dubrovačka brodograđevna škola nadilazi hrvatske granice\, pa se s pravom može nazvati baštinom čovječanstva.\nIzložba je zamišljena kao putovanje kroz povijest dubrovačke brodogradnje od kasnoga srednjeg vijeka do kraja 19. stoljeća\, a ona ujedno prikazuje i promjene koje su se zbivale na prostoru Gruža\, koji je krajem 19. stoljeća postupno izgubio ulogu brodograđevnoga središta i preobrazio se u suvremenu luku.\nPosuditelji: Dubrovačka biskupija\, Kapucinski samostan Gospe od Milosrđa – Dubrovnik\, Samostan Svetog Križa – Gruž\, Dubrovnik\, Župa sv. Mihajla – Dubrovnik\, Župa Velike Gospe – Dubrovnik\, Državni arhiv u Dubrovniku\, Dubrovačke knjižnice – Znanstvena knjižnica Dubrovnik\, HAZU – Zbirka Baltazara Bogišića u Cavtatu\, Mladen Mitić – Dubrovnik\, Vladimir Glavočić – Dubrovnik i Hermina Jočić – Dubrovnik.\nProgram je realiziran u sklopu Dubrovačkog zimskog festivala.
URL:https://dubrovnik.today/event/otvorenje-izlozbe-dubrovackih-muzeja-brodogradnja-na-dubrovacki-nacin-500-godina-skara-u-gruzu/
LOCATION:Muzej Rupe\, Od Rupa 3\, Dubrovnik\, Dubrovačko-neretvanska\, 20000\, Croatia
CATEGORIES:Exhibition
ATTACH;FMTTYPE=image/jpeg:https://dubrovnik.today/wp-content/uploads/2025/12/600915912_1166636725621636_4296583712085050762_n.jpg
ORGANIZER;CN="Dubrova%C4%8Dki muzeji / Dubrovnik Museums":MAILTO:info@dumus.hr
GEO:42.6404457;18.1073202
X-APPLE-STRUCTURED-LOCATION;VALUE=URI;X-ADDRESS=Muzej Rupe Od Rupa 3 Dubrovnik Dubrovačko-neretvanska 20000 Croatia;X-APPLE-RADIUS=500;X-TITLE=Od Rupa 3:geo:18.1073202,42.6404457
END:VEVENT
BEGIN:VEVENT
DTSTART;TZID=Europe/Zagreb:20251222T180000
DTEND;TZID=Europe/Zagreb:20251222T200000
DTSTAMP:20260424T015824
CREATED:20251210T112839Z
LAST-MODIFIED:20251222T095300Z
UID:10007555-1766426400-1766433600@dubrovnik.today
SUMMARY:VJEČNOST / Eternity
DESCRIPTION:Elizabeth Olsen\, Miles Teller i Callum Turner predvode romantičnu fantaziju studija A24 o ljubavi koja nadilazi život – i samu vječnost. \nU zagrobnom životu\, gdje svaka duša ima samo jedan tjedan za odluku gdje će provesti vječnost\, Joan (Elizabeth Olsen) suočava se s nemogućim izborom. Mora birati između muškarca (Miles Teller) s kojim je dijelila cijeli svoj život i svoje prve ljubavi (Callum Turner)\, koji je prerano umro i desetljećima čekao njezin dolazak.
URL:https://dubrovnik.today/event/vjecnost-eternity-2/
LOCATION:Kino dvorana Visia\, Poljana Paska Miličevića 3\, Dubrovnik\, 20000\, Croatia
CATEGORIES:Cinema
ATTACH;FMTTYPE=image/jpeg:https://dubrovnik.today/wp-content/uploads/2025/12/1920X1080_ETERNITY_HR.jpg
ORGANIZER;CN="Kinematografi Dubrovnik":MAILTO:operater@kinematografi.org
GEO:42.6414431;18.1071797
X-APPLE-STRUCTURED-LOCATION;VALUE=URI;X-ADDRESS=Kino dvorana Visia Poljana Paska Miličevića 3 Dubrovnik 20000 Croatia;X-APPLE-RADIUS=500;X-TITLE=Poljana Paska Miličevića 3:geo:18.1071797,42.6414431
END:VEVENT
BEGIN:VEVENT
DTSTART;TZID=Europe/Zagreb:20251222T183000
DTEND;TZID=Europe/Zagreb:20251222T220000
DTSTAMP:20260424T015824
CREATED:20251222T095223Z
LAST-MODIFIED:20251230T123252Z
UID:10007611-1766428200-1766440800@dubrovnik.today
SUMMARY:AVATAR : VATRA I PEPEO / Avatar: Fire and Ash
DESCRIPTION:„Avatar: Vatra i pepeo“\, treći film u nevjerojatno uspješnoj franšizi „Avatar“\, donosi još dublje i emotivnije poglavlje sage o obitelji Sully. Radnja filma ponovno okuplja obitelj Sully i klan Metkayina koji se\, ujedinjeni\, suočavaju s novom prijetnjom\, opasnim pepelnim plemenom. Emocionalni ulozi su veći nego ikada\, a vizualni elementi obećavaju još jedno nezaboravno kino iskustvo koje nadmašuje prethodne nastavke. Film će otkriti dosad neviđene dijelove Pandore\, ovaj put gledatelji će upoznati misteriozni narod Ash People\, ratobornu zajednicu koja živi u opasnim\, vulkanskim krajevima planeta. Njihova vođa Varang\, koju glumi Oona Chaplin\, prikazana je kao moćna figura s nevjerojatnom sposobnošću upravljanja vatrom\, što dovodi do razornih posljedica po prirodni svijet Pandore.
URL:https://dubrovnik.today/event/avatar-vatra-i-pepeo-avatar-fire-and-ash/2025-12-22/
LOCATION:Kino dvorana Visia\, Poljana Paska Miličevića 3\, Dubrovnik\, 20000\, Croatia
CATEGORIES:Cinema
ATTACH;FMTTYPE=image/jpeg:https://dubrovnik.today/wp-content/uploads/2025/12/FB_cover_AVATAR_FIRE_AND_ASH_HR.jpg
ORGANIZER;CN="Kinematografi Dubrovnik":MAILTO:operater@kinematografi.org
GEO:42.6414431;18.1071797
X-APPLE-STRUCTURED-LOCATION;VALUE=URI;X-ADDRESS=Kino dvorana Visia Poljana Paska Miličevića 3 Dubrovnik 20000 Croatia;X-APPLE-RADIUS=500;X-TITLE=Poljana Paska Miličevića 3:geo:18.1071797,42.6414431
END:VEVENT
BEGIN:VEVENT
DTSTART;TZID=Europe/Zagreb:20251222T190000
DTEND;TZID=Europe/Zagreb:20251222T200000
DTSTAMP:20260424T015824
CREATED:20251104T074028Z
LAST-MODIFIED:20251104T074028Z
UID:10007106-1766430000-1766433600@dubrovnik.today
SUMMARY:Orašar
DESCRIPTION:“Orašar i mišji kralj“ umjetnička je bajka koju je 1816. godine napisao veliki njemački romantičarski pisac Ernst Theodor Amadeus Hoffmann. Poslužila je kao inspiracija za jedan od najpoznatijih i djeci najomiljenijih svjetskih baleta\, koji u božićno doba ne silazi sa svjetskih pozornica\, kao i za brojne književne i filmske adaptacije. \nNaša se predstava u koprodukciji s baletnim odjelom Umjetničke škole Luke Sorkočevića\, u verziji Lade Kaštelan i režiji Paola Tišljarića\, na nov i neobičan način igra s originalnim Hoffmannovim zapletom. \nNaša je adaptacija namijenjena i malima i velikima\, svi će u njoj moći naći nešto za sebe\, ako je budu gledali otvorenih očiju i srca. Kao što na kraju predstave kaže Marie: \n„Te čarobne stvari mogu vidjeti samo oni\, koji za to imaju oči. Vi ste ih vidjeli\, djeco\, zar ne?“ \nPredstava je namijenjena djeci od 4 godine pa na više.
URL:https://dubrovnik.today/event/orasar/2025-12-22/
LOCATION:Kazalište Marina Držića\, Pred Dvorom 3\, Dubrovnik\, 20000\, Croatia
CATEGORIES:Theatre
ATTACH;FMTTYPE=image/jpeg:https://dubrovnik.today/wp-content/uploads/2025/11/Orashar-web.jpg
ORGANIZER;CN="Kazali%C5%A1te Marina Dr%C5%BEi%C4%87a":MAILTO:press@kmd.hr
GEO:42.6403741;18.1107474
X-APPLE-STRUCTURED-LOCATION;VALUE=URI;X-ADDRESS=Kazalište Marina Držića Pred Dvorom 3 Dubrovnik 20000 Croatia;X-APPLE-RADIUS=500;X-TITLE=Pred Dvorom 3:geo:18.1107474,42.6403741
END:VEVENT
BEGIN:VEVENT
DTSTART;TZID=Europe/Zagreb:20251222T200000
DTEND;TZID=Europe/Zagreb:20251222T214500
DTSTAMP:20260424T015824
CREATED:20251210T113145Z
LAST-MODIFIED:20251222T095354Z
UID:10007613-1766433600-1766439900@dubrovnik.today
SUMMARY:GOSPODIN AZNAVOUR / Monsieur Aznavour
DESCRIPTION:Film prati život Charlesa Aznavoura od njegovih skromnih početaka kao sina armenskih izbjeglica u Parizu\, preko njegovih početnih neuspjeha\, do uspona u svijet francuske šansone. Kroz film se prikazuju ključni trenuci njegove karijere\, uključujući suradnju s poznatim glazbenicima poput Édith Piaf i Pierre Rochea\, te njegovu borbu za priznanje u glazbenoj industriji. Film također istražuje njegovu osobnu životnu priču\, uključujući ljubavne veze i obiteljske odnose.
URL:https://dubrovnik.today/event/gospodin-aznavour-monsieur-aznavour/2025-12-22/
LOCATION:Kino dvorana Visia\, Poljana Paska Miličevića 3\, Dubrovnik\, 20000\, Croatia
CATEGORIES:Cinema
ATTACH;FMTTYPE=image/jpeg:https://dubrovnik.today/wp-content/uploads/2025/12/MV5BMDNiOWZkZTktZjA3OS00NTRjLThmZGMtMTBkZGUzZDFmYWFlXkEyXkFqcGc@._V1_FMjpg_UY576_.jpg
ORGANIZER;CN="Kinematografi Dubrovnik":MAILTO:operater@kinematografi.org
GEO:42.6414431;18.1071797
X-APPLE-STRUCTURED-LOCATION;VALUE=URI;X-ADDRESS=Kino dvorana Visia Poljana Paska Miličevića 3 Dubrovnik 20000 Croatia;X-APPLE-RADIUS=500;X-TITLE=Poljana Paska Miličevića 3:geo:18.1071797,42.6414431
END:VEVENT
BEGIN:VEVENT
DTSTART;TZID=Europe/Zagreb:20251222T200000
DTEND;TZID=Europe/Zagreb:20251222T230000
DTSTAMP:20260424T015824
CREATED:20251202T083019Z
LAST-MODIFIED:20251202T083019Z
UID:10007432-1766433600-1766444400@dubrovnik.today
SUMMARY:Bjelouška@Trg oružja
DESCRIPTION:Konavle u gradu! 🍾❤️✨🎶 Orginalni i jedinstveni ❤️ \n#konavle #advent #festanica #dubrovnik #winter #zimskifestival #oldtown
URL:https://dubrovnik.today/event/bjelouskatrg-oruzja/
LOCATION:Trg oružja\, Ul. Svetog Dominika 3\, Dubrovnik\, Dubrovačko-neretvanska\, 20000\, Croatia
CATEGORIES:Music
ATTACH;FMTTYPE=image/jpeg:https://dubrovnik.today/wp-content/uploads/2025/12/588553941_17847466167611089_1036610320600139575_n.jpg
ORGANIZER;CN="Festanica":MAILTO:https://www.instagram.com/festanica/
GEO:42.6416325;18.1109116
X-APPLE-STRUCTURED-LOCATION;VALUE=URI;X-ADDRESS=Trg oružja Ul. Svetog Dominika 3 Dubrovnik Dubrovačko-neretvanska 20000 Croatia;X-APPLE-RADIUS=500;X-TITLE=Ul. Svetog Dominika 3:geo:18.1109116,42.6416325
END:VEVENT
END:VCALENDAR