BEGIN:VCALENDAR
VERSION:2.0
PRODID:-//dbk.life - ECPv6.15.12//NONSGML v1.0//EN
CALSCALE:GREGORIAN
METHOD:PUBLISH
X-WR-CALNAME:dbk.life
X-ORIGINAL-URL:https://dubrovnik.today
X-WR-CALDESC:Events for dbk.life
REFRESH-INTERVAL;VALUE=DURATION:PT1H
X-Robots-Tag:noindex
X-PUBLISHED-TTL:PT1H
BEGIN:VTIMEZONE
TZID:Europe/Zagreb
BEGIN:DAYLIGHT
TZOFFSETFROM:+0100
TZOFFSETTO:+0200
TZNAME:CEST
DTSTART:20240331T010000
END:DAYLIGHT
BEGIN:STANDARD
TZOFFSETFROM:+0200
TZOFFSETTO:+0100
TZNAME:CET
DTSTART:20241027T010000
END:STANDARD
BEGIN:DAYLIGHT
TZOFFSETFROM:+0100
TZOFFSETTO:+0200
TZNAME:CEST
DTSTART:20250330T010000
END:DAYLIGHT
BEGIN:STANDARD
TZOFFSETFROM:+0200
TZOFFSETTO:+0100
TZNAME:CET
DTSTART:20251026T010000
END:STANDARD
BEGIN:DAYLIGHT
TZOFFSETFROM:+0100
TZOFFSETTO:+0200
TZNAME:CEST
DTSTART:20260329T010000
END:DAYLIGHT
BEGIN:STANDARD
TZOFFSETFROM:+0200
TZOFFSETTO:+0100
TZNAME:CET
DTSTART:20261025T010000
END:STANDARD
END:VTIMEZONE
BEGIN:VEVENT
DTSTART;TZID=Europe/Zagreb:20251204T150000
DTEND;TZID=Europe/Zagreb:20251204T170000
DTSTAMP:20260420T013854
CREATED:20251202T075616Z
LAST-MODIFIED:20251202T075616Z
UID:10007418-1764860400-1764867600@dubrovnik.today
SUMMARY:Radionica robotike i programiranja bez ekrana
DESCRIPTION:Na programu Tip Top TUP-u u četvrtak u 15 sati slijedi radionica robotike i programiranja bez ekrana s robopčelicama koju održavaju ZTK GD i Informatički klub Futura. Broj mjesta na radionicama je ograničen\, stoga se potrebno prijaviti na: https://docs.google.com/…/1FAIpQLSfCOkdXXURyiv…/viewform
URL:https://dubrovnik.today/event/radionica-robotike-i-programiranja-bez-ekrana/
LOCATION:TUP Dubrovnik\, Ul. Svetog Križa 3\, Dubrovnik\, DFubrovačko-neretvanska\, 20000\, Croatia
CATEGORIES:Workshop
ATTACH;FMTTYPE=image/jpeg:https://dubrovnik.today/wp-content/uploads/2025/12/590662881_1331984825622307_3281293779493266788_n1.jpg
ORGANIZER;CN="Zajednica tehni%C4%8Dke kulture Dubrovnik":MAILTO:ztk.dub@gmail.com
GEO:42.6593797;18.0870239
X-APPLE-STRUCTURED-LOCATION;VALUE=URI;X-ADDRESS=TUP Dubrovnik Ul. Svetog Križa 3 Dubrovnik DFubrovačko-neretvanska 20000 Croatia;X-APPLE-RADIUS=500;X-TITLE=Ul. Svetog Križa 3:geo:18.0870239,42.6593797
END:VEVENT
BEGIN:VEVENT
DTSTART;TZID=Europe/Zagreb:20251204T170000
DTEND;TZID=Europe/Zagreb:20251204T180000
DTSTAMP:20260420T013854
CREATED:20251102T080907Z
LAST-MODIFIED:20251202T080429Z
UID:10007421-1764867600-1764871200@dubrovnik.today
SUMMARY:Besplatne likovne radionice za djecu
DESCRIPTION:U suradnji sa @cdmo.dubrovnik i u sklopu Dubrovačkog zimskog festivala nudimo besplatne likovne radionice za djecu.\nProgram za prosinac:\n\n\n ČET. 04.12. Prstovizija – crtić u mini formatu\n VRIJEME: 17-18h\n UZRAST: 6+ godina\n\n\n PET. 05.12. Izrađujemo ukrasne pumpuline\n VRIJEME:17-18h\n UZRAST: 5+ godina\n\n\n ČET. 18.12. Zimski mobile\n VRIJEME: 17-18h\n UZRAST: 5+ godina\n\n\n PET. 19.12. 3D ukrasne zvijezde\n VRIJEME: 17-18h\n UZRAST: 5+ godina\n\n\nLokacija je @cdmo.dubrovnik\, Andrije Hebranga 95 (poviše Love Bara).\nSačuvaj termine i prati profil\, uskoro objavljujemo link za prijave!\n\n\n#histeriadubrovnik #likovneradionicezadjecu #likovneradionice #likovneradionicedubrovnik #radionicedubrovnik
URL:https://dubrovnik.today/event/besplatne-likovne-radionice-za-djecu/2025-12-04/
LOCATION:TUP Dubrovnik\, Ul. Svetog Križa 3\, Dubrovnik\, DFubrovačko-neretvanska\, 20000\, Croatia
CATEGORIES:Workshop
ATTACH;FMTTYPE=image/jpeg:https://dubrovnik.today/wp-content/uploads/2025/11/586697451_17981592953927141_6314083599643158875_n.jpg
ORGANIZER;CN="Histeria concept store":MAILTO:ivana@histeriaconceptstore.hr
GEO:42.6593797;18.0870239
X-APPLE-STRUCTURED-LOCATION;VALUE=URI;X-ADDRESS=TUP Dubrovnik Ul. Svetog Križa 3 Dubrovnik DFubrovačko-neretvanska 20000 Croatia;X-APPLE-RADIUS=500;X-TITLE=Ul. Svetog Križa 3:geo:18.0870239,42.6593797
END:VEVENT
BEGIN:VEVENT
DTSTART;TZID=Europe/Zagreb:20251204T173000
DTEND;TZID=Europe/Zagreb:20251204T190000
DTSTAMP:20260420T013854
CREATED:20251126T125542Z
LAST-MODIFIED:20251126T125542Z
UID:10007342-1764869400-1764874800@dubrovnik.today
SUMMARY:BOŽIĆNA RADIONICA ZA ODRASLE S IVONOM PERAK
DESCRIPTION:KREATIVNA BOŽIĆNA RADIONICA ZA ODRASLE S IVONOM PERAK\n\n\nU Ogranku Cavtat organizirat će se kreativna božićna radionica namijenjena odraslima. Radionicu će voditi Ivona Perak\, vlasnica obrta „Basta mi“.\nRadionica je namijenjena odraslima\nPrijave su obavezne na e-mail adresu: cavtat@dkd.hr\n 4. 12. (četvrtak)\n17:30 sati\n\n\nDubrovački zimski festival Dubrovnik Winter Festival\n\n\n#dzf #dzf2025 #duknjiznice
URL:https://dubrovnik.today/event/bozicna-radionica-za-odrasle-s-ivonom-perak/
LOCATION:Ogranak Cavtat – Dubrovačke knjižnice\, Zidine 6\, Cavtat\, Dubrovačko-neretvanska\, 20210\, Croatia
CATEGORIES:Workshop
ATTACH;FMTTYPE=image/jpeg:https://dubrovnik.today/wp-content/uploads/2025/11/590571515_1140810931541894_2852562051848715294_n.jpg
GEO:42.5812987;18.2181598
X-APPLE-STRUCTURED-LOCATION;VALUE=URI;X-ADDRESS=Ogranak Cavtat – Dubrovačke knjižnice Zidine 6 Cavtat Dubrovačko-neretvanska 20210 Croatia;X-APPLE-RADIUS=500;X-TITLE=Zidine 6:geo:18.2181598,42.5812987
END:VEVENT
BEGIN:VEVENT
DTSTART;TZID=Europe/Zagreb:20251204T180000
DTEND;TZID=Europe/Zagreb:20251204T190000
DTSTAMP:20260420T013854
CREATED:20251203T123121Z
LAST-MODIFIED:20251203T123121Z
UID:10007450-1764871200-1764874800@dubrovnik.today
SUMMARY:Predavanje TRAGOM KORČULANSKIH SUTVARA: OD LUMBARDE DO POTIRNE
DESCRIPTION:Centar za kulturu Vela Luka vas poziva na predavanje\nTRAGOM KORČULANSKIH SUTVARA: OD LUMBARDE DO POTIRNE\n Četvrtak\, 4. 12. 2025. u 18:00 sati Narodnoj knjižnici “Šime Vučetić”\n\n\n U adventskom razdoblju sv. Barbara je prva u nizu svetaca/svetica koji se osobito štuju i uz koje su vezani liturgijski i narodni običaji.  Svima je dobro poznata svetobarbarska vara – sočivo.\n\n\n U ovom predavanju će biti riječi o tragovima\, nematerijalnima i materijalnima\, štovanja ove svetice od ranog kršćanstva do novog vijeka\, a koji su nam se na različite načine očuvali do današnjeg dana. Nama najbliži primjer je Sutvara u Potirni\, no na Korčuli ima još nekoliko takvih lokaliteta.\n\n\n Uz to ćemo se kratko osvrnuti i na crkve posvećene ovoj svetici na otoku Korčuli – čije su sudbine na različite načine isprepletene s različitim aspektima zaštite koju ova svetica pruža. Neke od njih su doživjele neočekivane transformacije u 20. stoljeću\, a njihova istraživanja su donijela vrlo značajne rezultate za povijest grada i otoka.\n\n\n Predavanje će se održati u prostoru Narodne knjižnice Šime Vučetić\n Predavač je Maja Šunjić
URL:https://dubrovnik.today/event/predavanje-tragom-korculanskih-sutvara-od-lumbarde-do-potirne/
LOCATION:Narodna knjižnica “Šime Vučetić”\, Ulica 26 br. 2\, Vela Luka\, Dubrovačko-neretvanska\, 20270\, Croatia
CATEGORIES:Lecture
ATTACH;FMTTYPE=image/jpeg:https://dubrovnik.today/wp-content/uploads/2025/12/592206099_122198763074570344_2962045517829930201_n.jpg
ORGANIZER;CN="Centar za kulturu Vela Luka":MAILTO:info.czk@velaluka.hr
GEO:42.9468968;16.71167
X-APPLE-STRUCTURED-LOCATION;VALUE=URI;X-ADDRESS=Narodna knjižnica “Šime Vučetić” Ulica 26 br. 2 Vela Luka Dubrovačko-neretvanska 20270 Croatia;X-APPLE-RADIUS=500;X-TITLE=Ulica 26 br. 2:geo:16.71167,42.9468968
END:VEVENT
BEGIN:VEVENT
DTSTART;TZID=Europe/Zagreb:20251204T180000
DTEND;TZID=Europe/Zagreb:20251219T170000
DTSTAMP:20260420T013854
CREATED:20251127T085742Z
LAST-MODIFIED:20251127T085742Z
UID:10007383-1764871200-1766163600@dubrovnik.today
SUMMARY:VLADIMIR GUDAC "Živjeti u prostoru" — izložba
DESCRIPTION:Pozivamo vas sve u Galeriju Otoku četvrtak\, 4. 12. u 18 sati na otvorenje izložbeVLADIMIRA GUDCA “Živjeti u prostoru”\nU ovoj izložbi koja tematski zahvaća 53 godine života i javnog djelovanja autora V.G.\, naziv prostor je citat svakodnevne javne negacije vremena.\nIzložba u galeriji Otok (Art radionica Lazareti\, Dubrovnik) krajem 2025. godine je izbor radova nastalih između 1972. i 2024 /25. godine.\nNeka djela su izlagana više puta\, a neka se pojavljuju pred publikom prvi put.\nIzložba tematski zahvaća život u području turizma\, klimatske promjene i šire.\nIzložba nije inkluzivna\, humanitarna niti prikazuje nešto što bi bilo održivo.\nZa vrijeme trajanja izložbe nije predviđena interakcija niti bilo kakva radionica vezana uz autora ili eksponate.\nMetode kojima se služio autor pri stvaranju djela i izložbe su: metafora\, metonimija i oksimoron.\nIzložba je rezultat suradnje kustosice Stephanie Peršić iz Labina i Vladimira Gudca iz Opatije\, tijekom 2024. godine\, a koja je započela još 2022. autorovom izložbom u Gradskoj galeriji Labin.\n—————————————————————————————————\nZa Vladimira Gudca možemo reći kako je svojevrsni dokumentarist svojeg vremena. Iako u njegovoj maniri nema ničeg doslovnog ni namjernog što bi upućivalo na takvu tvrdnju\, njegovi bi radovi\, promatrani u bliskoj budućnosti\, poput suvremenog Boccaccia\, pružili uvid u tok svijesti društva od sedamdesetih godina do danas. Točnih pet i pol desetljeća koliko do ove izložbe traje aktivno djelovanje ovog autora\, poprilično je razdoblje za analizu mijena nekog društva ili zajednice.\nGudac je od samih početaka kao jedan od osnivača i protagonista Grupe TOK početkom sedamdesetih godina prošloga stoljeća\, angažirano povezivao u svojim radovima i akcijama (već tada) goruća pitanja ekologije (odlaganja i procesuiranja otpada te važnosti recikliranja)\, onodobno rastućeg urbanizma i industrije uz razvoj turizma. Gledano s odmakom\, može se reći kako je bio „ispred svoga vremena“ jer kao da je anticipirao situaciju u kojoj ćemo se danas naći: pretrpani i zatrpani neplanskom gradnjom\, prekapacitiranošću posjetiteljima i smećem bez vidne održive putanje kretanja.\nNaziv izložbe deriviran je iz publikacije Čovjek u prostoru Velimira Neidhardta\, priručnika koji pruža kontekst o složenom odnosu čovjeka i prostora kao temelju zdravog i racionalnog urbanizma. Urbanizam\, gradnja\, prostornost\, turizam i ekologija srodni su i međusobno uvjetovani pojmovi koji tvore kompleksnost čovjekovog kvalitetnog okruženja i balansa s prirodom (i drugim stanovnicima planeta). Modernistička arhitektura\, posebice u Le Corbusierovoj zamisli\, promišljeno je povezivala te odnose u neraskidivu cjelinu. Vladimir Gudac\, rezident sjevernojadranskog bisera – grada Opatije\, svakodnevnim kretanjem gradom i njegovom širom okolicom svjedoči tim pitanjima\, nekad s analognom\, danas s digitalnom kamerom mobilnog uređaja u ruci. Gledajući njegove radove kroz najrazličitije medije – od performansa i akcija\, instalacija i objekata\, plakata\, fotografija do crteža – pred nama se otvara kronika društva ispričana biranim kadrovima\, uz popratnu sugestivnost i prepoznatljiv ironijski prizvuk koji se\, u recentnim radovima\, nerijetko približava sarkazmu pa i blagom cinizmu. Ponekad je dovoljan tek kadar kojim autor neposredno otkriva svoj stav onim posjetiteljima koji su dovoljno predani dekodiranju konteksta i upoznavanju njegove persone. Na drugim radovima\, direktnije unosi vlastite iskaze dovitljivim kratkim izjavama i digitalnom intervencijom na fotografiji ili plakatu.\nDolazak Hrvata na more podnaslova autentični arheološki nalaz in situ iz 1977. ikonički je Gudčev rad\, postavljen kao uvertira izložbe. Gudčeva kronika razvija se razglednicama Pozdrav iz Zagreba i B strana te plakatom Goli i mrtvi\, sve do novijih Lungo mare – Corpo morto\, radova koji upućuju na jasnu društvenu kritiku. Ujedno su upozorenje na devastaciju okoliša i prostora koja rezultira neosjetljivošću vlastitog utjecaja na važne problematike. Humornim prizvukom umjetnik nas izvlači iz turobnosti ludičkim objektom Zalazak Sunca\, fotografijom Che Guevara te fotografijom i objektom Giraffenline – zamišljenom „kruzerskom linijom“ koja povezuje Opatiju s Dubrovnikom i ostalim etapama na „putu krstarenja“. U kolikoj mjeri turizam i nepromišljenost utječu na posljedičnu (potencijalno nepovratnu) devastiranost obale i krajobraza primorskih gradova\, napose Opatije i Dubrovnika\, deklarira radom Ne postoji nedirnuta priroda. Dubrovnik se suočio s pitanjem Srđa koji je umalo postao golf terenom\, Istrani će s druge strane dobiti drugi krak autoceste\, tzv. Istarski iks\, izgradnjom akvedukta iznad plodne doline čime se narušava ekosustav zarad kapitalizma i konformizma. Goli i mrtvi.\nNaposljetku\, dolazi kultura. No\, ne kao slučajnost. Predispozicije za kulturu i kulturnost\, bilo pojedinca bilo društva\, postavljaju osigurana egzistencijalna pitanja\, obrazovanje\, osviještenost o vlastitoj okolini i ljudskom utjecaju te stanje duha. Kultura je produkt simbioze navedenog i onog (potencijalno) izostavljenog\, a njezino stanje predstavlja odraz svake zajednice i čovječanstva. Ona je utkana u sve što nas okružuje i kao takvu\, autor je postavlja u svakodnevne javne prostore implicirajući je kroz nespojive prizore i predmete. Radovi iz ciklusa Maclura pomifera (od objekata\, ready madea do fotografija) nastajali su od devedesetih godina do danas uporabnim varijacijama ploda drveta\, predstavljajući svojevrsnu autoreferencu\, autorov alter ego. Trube – ciklus nastao iz video dokumentiranih eksperimenata stvaranja zvuka i ritma različitim i neočekivanim predmetima među kojima i cvijećem\, postavljaju cvjetove poput gramofonskih zvučnika na gradske stupove s aluzijom na razglase. Time Gudac unosi ekološke\, auditivne i meditativne elemente u urbanu okolinu ukazujući na nužnost promjene postojećeg ritma i unošenje refleksivnosti u našu svakodnevicu.Naposljetku\, ljudi su ti koji oblikuju prostor – pitanje je samo na koji način. Autor to sažima posljednjim statementom na otvorenju\, malom fotografijom s tekstom: „Sve je palo u vodu“.\nStephanie Peršić\n—————————————————————————————————\nVLADIMIR GUDACŽIVJETI U PROSTORU4. 12. — 19. 12. 2025.\nOtvorenje izložbe:Čevrtak\, 4. prosinca 2025. u 18 sati\nRadno vrijeme:PON – PET: 11 – 18 satiU drugim terminima po dogovoru na arl@arl.hrTekst: Vladimir Gudac\, Stephanie PeršićPostav: Vladimir Gudac\, Stephanie Peršić\, Slaven ToljTehnički postav: Nikša VukosavićDizajn: Petra MiličkiARLa: Frana Supila 8\, 20 000 Dubrovnike: arl@arl.hrt: 020-324-633fb: @ARL.Dbkig: @arlduw: arl.hr
URL:https://dubrovnik.today/event/vladimir-gudac-zivjeti-u-prostoru-izlozba/
LOCATION:art radionica lazareti # art workshop lazareti\, Frana Supila 8\, Dubrovnik\, Dubrovačko-neretvanska\, 20000\, Croatia
CATEGORIES:Exhibition
ATTACH;FMTTYPE=image/jpeg:https://dubrovnik.today/wp-content/uploads/2025/11/588882671_1434164365376684_4532523552572198347_n.jpg
ORGANIZER;CN="art radionica lazareti # art workshop lazareti":MAILTO:art@du.t-com.hr
GEO:42.6416755;18.1145855
X-APPLE-STRUCTURED-LOCATION;VALUE=URI;X-ADDRESS=art radionica lazareti # art workshop lazareti Frana Supila 8 Dubrovnik Dubrovačko-neretvanska 20000 Croatia;X-APPLE-RADIUS=500;X-TITLE=Frana Supila 8:geo:18.1145855,42.6416755
END:VEVENT
BEGIN:VEVENT
DTSTART;TZID=Europe/Zagreb:20251204T183000
DTEND;TZID=Europe/Zagreb:20251204T203000
DTSTAMP:20260420T013854
CREATED:20251204T074521Z
LAST-MODIFIED:20251204T074521Z
UID:10007469-1764873000-1764880200@dubrovnik.today
SUMMARY:NADA UMIRE POSLJEDNJA / Not Without Hope
DESCRIPTION:Scenarij su napisali E. Nicholas Mariani i Joe Carnahan\, a temelji se na istoimenoj knjizi Nicka Schuylera i Jeréa Longmana iz 2010. godine. \nFilm prati priču Nicka Schuylera (Zachary Levi)\, jedinog preživjelog iz nesreće na moru koja je odnijela živote NFL igrača Marquisa Coopera i Coreya Smitha. Kada se njihov brod prevrne kod obale Floride\, četvorica prijatelja započinju nemilosrdnu borbu za opstanak usred divljeg oceana. Dok se satovi pretvaraju u beskonačna iskušenja\, Nickova odlučnost i volja za životom postaju jedina nada u ovoj potresnoj priči o preživljavanju\, gubitku i snazi ljudskog duha.
URL:https://dubrovnik.today/event/nada-umire-posljednja-not-without-hope/2025-12-04/
LOCATION:Kino Sloboda\, Luža 66\, Dubrovnik\, Dubrovačko-neretvanska\, 20000\, Croatia
CATEGORIES:Cinema
ATTACH;FMTTYPE=image/jpeg:https://dubrovnik.today/wp-content/uploads/2025/12/FB_cover_NOT_WITHOUT_HOPE_HR.jpg
ORGANIZER;CN="Kinematografi Dubrovnik":MAILTO:operater@kinematografi.org
GEO:42.6409105;18.1101717
X-APPLE-STRUCTURED-LOCATION;VALUE=URI;X-ADDRESS=Kino Sloboda Luža 66 Dubrovnik Dubrovačko-neretvanska 20000 Croatia;X-APPLE-RADIUS=500;X-TITLE=Luža 66:geo:18.1101717,42.6409105
END:VEVENT
BEGIN:VEVENT
DTSTART;TZID=Europe/Zagreb:20251204T190000
DTEND;TZID=Europe/Zagreb:20251204T220000
DTSTAMP:20260420T013854
CREATED:20251128T153026Z
LAST-MODIFIED:20251128T153040Z
UID:10007403-1764874800-1764885600@dubrovnik.today
SUMMARY:How I met your mother kviz
DESCRIPTION:Drage kvizašice i kvizaši\, ljubitelji serije “How I met your mother” i legendarnih doživljaja Ted Mosbyja i ostatka famozne petorke\, predstavljamo vam naš HIMYM kviz\, gdje ćemo u četvrtak\, 4. prosinca s početkom u 19:00 h\, u Giru\, igrati tematski kviz posvećen ovoj kultnoj seriji koju obožavaju generacije. ☂️🎷🗽 \nNAGRADE: Za Vas smo pripremili nagrade\, a nagradit ćemo minimalno 3 najbolje i najsretnije ekipa. Dobre atmosfere\, odličnih pitanja za sve tipove publike i fenomenalnih nagrada svakog tjedna na tematskim kvizovima neće nedostajati! \nSvaka ekipa koja želi sudjelovati može biti sastavljena od maksimalno pet osoba\, a kotizacije se naplaćuju 12€ po ekipi. \nNAPOMENA: Ako vaša ekipa ne može prisustvovati kvizu\, molimo da nas što prije obavijestite na organizacija@kvizovi.hr kako bismo omogućili nekoj od ekipa s liste čekanja da sudjeluje. \nPrijave za kviz bit će otvorene do četvrtka\, 4.12. u 18:00 sati ili do popunjenja kapaciteta kviza.
URL:https://dubrovnik.today/event/how-i-met-your-mother-kviz/
LOCATION:Caffe Bar Giro\, Vukovarska ulica 34\, Dubrovnik\, 20000\, Croatia
CATEGORIES:Pub quiz
ATTACH;FMTTYPE=image/jpeg:https://dubrovnik.today/wp-content/uploads/2025/11/468139714_568331519484906_3146692621277054523_n.jpg
ORGANIZER;CN="Urbana Kviz Pri%C4%8Da - Dubrovnik":MAILTO:https://www.instagram.com/dubrovackakvizzprica/
GEO:42.6524076;18.0904568
X-APPLE-STRUCTURED-LOCATION;VALUE=URI;X-ADDRESS=Caffe Bar Giro Vukovarska ulica 34 Dubrovnik 20000 Croatia;X-APPLE-RADIUS=500;X-TITLE=Vukovarska ulica 34:geo:18.0904568,42.6524076
END:VEVENT
BEGIN:VEVENT
DTSTART;TZID=Europe/Zagreb:20251204T200000
DTEND;TZID=Europe/Zagreb:20251204T213000
DTSTAMP:20260420T013854
CREATED:20251104T073104Z
LAST-MODIFIED:20251104T073104Z
UID:10007096-1764878400-1764883800@dubrovnik.today
SUMMARY:CZK Tivat: Filomena Marturano
DESCRIPTION:“Filomena Marturano” je 11. profesionalna kazališna produkcija CZK Tivat\, rađena u koprodukciji s Gradskim kazalištem Podgorica. \nLjubavna i komična melodrama bivše prostitutke Filomene i bogatog hedoniste Domenika\, govori o lukavstvu kojim se služila glavna junakinja\, da bi svojim zatajenim izvanbračnim sinovima osigurala budućnost\, ali i prezime Soriano. \nKomad otvara pitanja statusa izvanbračne i bračne djece\, ženske emancipacije\, individualne pravde i porodice. \nDomeniko će se silom ili milom promijeniti\, kada ga na lažnoj samrti Filomena učini svojim suprugom. Saznavši da ga je obmanula\, on bijesno\, glasno\, pokušava da se riješi njenih namjera\, da objasni ljubavnici u kakvoj je neprilici\, saznaje i za tri sina od kojih je jedan njegov. \nRadnja se iz žestokih svađa\, Filomenine neodustajuće borbe i inata\, pretvara u ljubav\, strast\, i njenu pobjedu\, te završava radošću\, plesom braće\, roditelja\, sluga.
URL:https://dubrovnik.today/event/czk-tivat-filomena-marturano/
LOCATION:Kazalište Marina Držića\, Pred Dvorom 3\, Dubrovnik\, 20000\, Croatia
CATEGORIES:Theatre
ATTACH;FMTTYPE=image/jpeg:https://dubrovnik.today/wp-content/uploads/2025/11/9.jpg
ORGANIZER;CN="Kazali%C5%A1te Marina Dr%C5%BEi%C4%87a":MAILTO:press@kmd.hr
GEO:42.6403741;18.1107474
X-APPLE-STRUCTURED-LOCATION;VALUE=URI;X-ADDRESS=Kazalište Marina Držića Pred Dvorom 3 Dubrovnik 20000 Croatia;X-APPLE-RADIUS=500;X-TITLE=Pred Dvorom 3:geo:18.1107474,42.6403741
END:VEVENT
BEGIN:VEVENT
DTSTART;TZID=Europe/Zagreb:20251204T200000
DTEND;TZID=Europe/Zagreb:20251204T213000
DTSTAMP:20260420T013854
CREATED:20251113T071356Z
LAST-MODIFIED:20251204T074629Z
UID:10007473-1764878400-1764883800@dubrovnik.today
SUMMARY:SOKOL
DESCRIPTION:Sokol – Nezaustavljiv kao sudbina \nDokumentarni film o Velimiru Đereku Sokolu – ratniku iz Vukovara i Imotske krajine čija je priča postala simbol hrabrosti i izdržljivosti. \nKroz ekskluzivne snimke\, iskrene ispovijesti i do sada neviđene detalje\, film donosi snažan portret čovjeka koji nikad nije stao.
URL:https://dubrovnik.today/event/sokol-2/2025-12-04/
LOCATION:Kino dvorana Visia\, Poljana Paska Miličevića 3\, Dubrovnik\, 20000\, Croatia
CATEGORIES:Cinema
ATTACH;FMTTYPE=image/jpeg:https://dubrovnik.today/wp-content/uploads/2025/11/1080x1920.jpg
ORGANIZER;CN="Kinematografi Dubrovnik":MAILTO:operater@kinematografi.org
GEO:42.6414431;18.1071797
X-APPLE-STRUCTURED-LOCATION;VALUE=URI;X-ADDRESS=Kino dvorana Visia Poljana Paska Miličevića 3 Dubrovnik 20000 Croatia;X-APPLE-RADIUS=500;X-TITLE=Poljana Paska Miličevića 3:geo:18.1071797,42.6414431
END:VEVENT
BEGIN:VEVENT
DTSTART;TZID=Europe/Zagreb:20251204T230000
DTEND;TZID=Europe/Zagreb:20251205T040000
DTSTAMP:20260420T013854
CREATED:20251203T125110Z
LAST-MODIFIED:20251203T125110Z
UID:10007454-1764889200-1764907200@dubrovnik.today
SUMMARY:Afterparty@Level
DESCRIPTION:‼️ Studenti\, sportaši i njihove obožavateljice\, \nu četvrtak je službeno otvaranje Memorijalnog turnira Vedran Jelavić i UniSport H2O natjecanja u čijoj organizaciji sudjeluje Sveučilište u Dubrovniku i Studentski zbor 🥳 \n🏀 Kroz godine\, ovaj turnir postao je simbol zajedništva\, značajno doprinoseći razvoju i ugledu kako osobnog tako i sveučilišnog sporta 🏃🏻‍♂️ \n💃🏻 Pozivamo svih da nam se pridruže na otvaranju turnira i na afterpartyu u @caffenightbarlevel 🕺🏼 \nVaš SZDU ❤️
URL:https://dubrovnik.today/event/afterpartylevel/
LOCATION:Cafe & night bar LEVEL\, Iva Vojnovića 39\, Dubrovnik\, Dubrovačko-neretvanska\, 20000\, Croatia
CATEGORIES:Music
ATTACH;FMTTYPE=image/jpeg:https://dubrovnik.today/wp-content/uploads/2025/12/587269858_18328629880246098_327278275022227982_n.jpg
ORGANIZER;CN="Studentski zbor Sveu%C4%8Dili%C5%A1ta u Dubrovniku":MAILTO:info@szdu.hr
GEO:42.6501053;18.0828825
X-APPLE-STRUCTURED-LOCATION;VALUE=URI;X-ADDRESS=Cafe & night bar LEVEL Iva Vojnovića 39 Dubrovnik Dubrovačko-neretvanska 20000 Croatia;X-APPLE-RADIUS=500;X-TITLE=Iva Vojnovića 39:geo:18.0828825,42.6501053
END:VEVENT
END:VCALENDAR