BEGIN:VCALENDAR
VERSION:2.0
PRODID:-//dbk.life - ECPv6.15.12//NONSGML v1.0//EN
CALSCALE:GREGORIAN
METHOD:PUBLISH
X-ORIGINAL-URL:https://dubrovnik.today
X-WR-CALDESC:Events for dbk.life
REFRESH-INTERVAL;VALUE=DURATION:PT1H
X-Robots-Tag:noindex
X-PUBLISHED-TTL:PT1H
BEGIN:VTIMEZONE
TZID:Europe/Zagreb
BEGIN:DAYLIGHT
TZOFFSETFROM:+0100
TZOFFSETTO:+0200
TZNAME:CEST
DTSTART:20240331T010000
END:DAYLIGHT
BEGIN:STANDARD
TZOFFSETFROM:+0200
TZOFFSETTO:+0100
TZNAME:CET
DTSTART:20241027T010000
END:STANDARD
BEGIN:DAYLIGHT
TZOFFSETFROM:+0100
TZOFFSETTO:+0200
TZNAME:CEST
DTSTART:20250330T010000
END:DAYLIGHT
BEGIN:STANDARD
TZOFFSETFROM:+0200
TZOFFSETTO:+0100
TZNAME:CET
DTSTART:20251026T010000
END:STANDARD
BEGIN:DAYLIGHT
TZOFFSETFROM:+0100
TZOFFSETTO:+0200
TZNAME:CEST
DTSTART:20260329T010000
END:DAYLIGHT
BEGIN:STANDARD
TZOFFSETFROM:+0200
TZOFFSETTO:+0100
TZNAME:CET
DTSTART:20261025T010000
END:STANDARD
END:VTIMEZONE
BEGIN:VEVENT
DTSTART;TZID=Europe/Zagreb:20251030T193000
DTEND;TZID=Europe/Zagreb:20251130T170000
DTSTAMP:20260420T100940
CREATED:20251017T052727Z
LAST-MODIFIED:20251017T052727Z
UID:10006853-1761852600-1764522000@dubrovnik.today
SUMMARY:Izložba: BABIN KUK - PLANIRANJE UTOPIJE: 50 godina od izgradnje hotelsko-turističkog centra
DESCRIPTION:U četvrtak 30.10. otvaramo izložbu posvećenu planiranju\, izgradnji i djelovanju Hotelsko-turističkog centra Babin Kuk. Lapadsku Dubravu zamislili su i projektirali brojni domaći i strani stručnjaci\, na izgradnji je sudjelovalo i preko tri tisuće radnika i inženjera istovremeno\, a njeno otvaranje u lipnju 1976. oblikovalo zabavni i društveni život Grada. Postala je mjesto susreta Dubrovčana i njihovih gostiju\, koji su u njenim hotelima\, restoranima\, barovima\, šetnicama i parkovima zajednički stvarali uspomene za cijeli život.\n\nNa izložbi će kroz tekstove\, fotografije\, novinske članke i predmete biti predstavljena polustoljetna povijest ovog prostora\, oblikovanog za najveću kvalitetu i iskoristivost: od projektiranja\, nikad dovršene izgradnje\, zabavnog života\, do ratnih i poratnih godina.\n\nAutori izložbe su Ivan Lujo\, povjesničar i kustos Muzeja crvene povijesti i Krunoslav Šmit\, profesor na Arhitektonskom fakultetu u Zagrebu. Dizajn postava potpisuje Studio Bonsenjo.\n\nIzložba ostaje otvorena do početka prosinca.Pokrovitelji izložbe su: Grad Dubrovnik\, Ministarstvo kulture RH i Valamar.
URL:https://dubrovnik.today/event/izlozba-babin-kuk-planiranje-utopije-50-godina-od-izgradnje-hotelsko-turistickog-centra/
LOCATION:Muzej crvene povijesti\, Ulica Svetog Križa 3\, Dubrovnik\, Dubrovačko-neretvanska\, 20000\, Croatia
CATEGORIES:Music
ATTACH;FMTTYPE=image/jpeg:https://dubrovnik.today/wp-content/uploads/2025/10/561910977_1385058940290589_5235604758939907485_n.jpg
ORGANIZER;CN="Muzej crvene povijesti":MAILTO:info@redhistorymuseum.com
GEO:42.6591959;18.0871613
X-APPLE-STRUCTURED-LOCATION;VALUE=URI;X-ADDRESS=Muzej crvene povijesti Ulica Svetog Križa 3 Dubrovnik Dubrovačko-neretvanska 20000 Croatia;X-APPLE-RADIUS=500;X-TITLE=Ulica Svetog Križa 3:geo:18.0871613,42.6591959
END:VEVENT
BEGIN:VEVENT
DTSTART;TZID=Europe/Zagreb:20251118T180000
DTEND;TZID=Europe/Zagreb:20251118T193000
DTSTAMP:20260420T100940
CREATED:20251104T070733Z
LAST-MODIFIED:20251126T133937Z
UID:10007157-1763488800-1763494200@dubrovnik.today
SUMMARY:DRUGI DNEVNIK PAULINE P.
DESCRIPTION:Omiljena junakinja iz školskih klupa vraća se u filmu Drugi dnevnik Pauline P.\, a nastavak hit filma donosi još više emocija i iskrenih trenutaka iz života jedne (ne tako male) djevojčice. \nNaša junakinja sada ima već jedanaest godina! Iako joj odrasli govore da joj je ovo „najbolji dio života“\, Paulini se uopće ne čini tako. U petom razredu dočekat će je profesorica Mirković\, stroga nastavnica geografije\, kao i Marta iz 5.D\, Paulinin prvi bully. Uskoro će otkriti i da njezina draga baka boluje od neizlječive bolesti. U borbi s nevoljama Paulina će se još jednom poslužiti šarmom i bujnom maštom\, i izvući jednu vrijednu pouku–da se život ne sastoji samo od pobjeda.
URL:https://dubrovnik.today/event/drugi-dnevnik-pauline-p/2025-11-18/
LOCATION:Kino Sloboda\, Luža 66\, Dubrovnik\, Dubrovačko-neretvanska\, 20000\, Croatia
CATEGORIES:Cinema
ATTACH;FMTTYPE=image/jpeg:https://dubrovnik.today/wp-content/uploads/2025/11/DDPP_1920x600.jpg
ORGANIZER;CN="Kinematografi Dubrovnik":MAILTO:operater@kinematografi.org
GEO:42.6409105;18.1101717
X-APPLE-STRUCTURED-LOCATION;VALUE=URI;X-ADDRESS=Kino Sloboda Luža 66 Dubrovnik Dubrovačko-neretvanska 20000 Croatia;X-APPLE-RADIUS=500;X-TITLE=Luža 66:geo:18.1101717,42.6409105
END:VEVENT
BEGIN:VEVENT
DTSTART;TZID=Europe/Zagreb:20251118T180000
DTEND;TZID=Europe/Zagreb:20251118T193000
DTSTAMP:20260420T100940
CREATED:20251113T071356Z
LAST-MODIFIED:20251204T074629Z
UID:10007162-1763488800-1763494200@dubrovnik.today
SUMMARY:SOKOL
DESCRIPTION:Sokol – Nezaustavljiv kao sudbina \nDokumentarni film o Velimiru Đereku Sokolu – ratniku iz Vukovara i Imotske krajine čija je priča postala simbol hrabrosti i izdržljivosti. \nKroz ekskluzivne snimke\, iskrene ispovijesti i do sada neviđene detalje\, film donosi snažan portret čovjeka koji nikad nije stao.
URL:https://dubrovnik.today/event/sokol-2/2025-11-18/
LOCATION:Kino dvorana Visia\, Poljana Paska Miličevića 3\, Dubrovnik\, 20000\, Croatia
CATEGORIES:Cinema
ATTACH;FMTTYPE=image/jpeg:https://dubrovnik.today/wp-content/uploads/2025/11/1080x1920.jpg
ORGANIZER;CN="Kinematografi Dubrovnik":MAILTO:operater@kinematografi.org
GEO:42.6414431;18.1071797
X-APPLE-STRUCTURED-LOCATION;VALUE=URI;X-ADDRESS=Kino dvorana Visia Poljana Paska Miličevića 3 Dubrovnik 20000 Croatia;X-APPLE-RADIUS=500;X-TITLE=Poljana Paska Miličevića 3:geo:18.1071797,42.6414431
END:VEVENT
BEGIN:VEVENT
DTSTART;TZID=Europe/Zagreb:20251118T200000
DTEND;TZID=Europe/Zagreb:20251118T221500
DTSTAMP:20260420T100940
CREATED:20251113T072013Z
LAST-MODIFIED:20251117T220010Z
UID:10007167-1763496000-1763504100@dubrovnik.today
SUMMARY:TRKAČ / Running Man
DESCRIPTION:U distopijskoj bliskoj budućnosti\, najpopularniji televizijski show nije talent-natjecanje — već borba za goli život. Show okuplja Trkače\, očajne kandidate koji 30 dana moraju preživjeti lov profesionalnih ubojica. Sve se snima. Sve se emitira. Krvožedna publika glasa novcem\, a nagrada svakim danom raste.\nKada Ben Richards (Glen Powell)\, radnik iz radničke klase\, pristane sudjelovati kako bi spasio teško bolesnu kćer\, producent emisije Dan Killian (Josh Brolin) vidi savršenu priču. Ali Ben nije običan Trkač. Njegov prkos\, snalažljivost i instinkt za preživljavanje pretvaraju ga u nacionalnog junaka — i potencijalnu prijetnju cijelom sustavu. Kako gledanost ruši sve rekorde\, postaje jasno: sustav ne želi pobjednike. Samo krv. Ben mora nadmudriti Lovce\, preživjeti spektakl i razotkriti istinu — prije nego ga nacija gladna smrti zauvijek izbriše s ekrana.
URL:https://dubrovnik.today/event/trkac-running-man/2025-11-18/
LOCATION:Kino Sloboda\, Luža 66\, Dubrovnik\, Dubrovačko-neretvanska\, 20000\, Croatia
CATEGORIES:Cinema
ATTACH;FMTTYPE=image/jpeg:https://dubrovnik.today/wp-content/uploads/2025/11/1920x1080_RUNNING_MAN_HR.jpg
ORGANIZER;CN="Kinematografi Dubrovnik":MAILTO:operater@kinematografi.org
GEO:42.6409105;18.1101717
X-APPLE-STRUCTURED-LOCATION;VALUE=URI;X-ADDRESS=Kino Sloboda Luža 66 Dubrovnik Dubrovačko-neretvanska 20000 Croatia;X-APPLE-RADIUS=500;X-TITLE=Luža 66:geo:18.1101717,42.6409105
END:VEVENT
END:VCALENDAR