BEGIN:VCALENDAR
VERSION:2.0
PRODID:-//dbk.life - ECPv6.15.12//NONSGML v1.0//EN
CALSCALE:GREGORIAN
METHOD:PUBLISH
X-ORIGINAL-URL:https://dubrovnik.today
X-WR-CALDESC:Events for dbk.life
REFRESH-INTERVAL;VALUE=DURATION:PT1H
X-Robots-Tag:noindex
X-PUBLISHED-TTL:PT1H
BEGIN:VTIMEZONE
TZID:Europe/Zagreb
BEGIN:DAYLIGHT
TZOFFSETFROM:+0100
TZOFFSETTO:+0200
TZNAME:CEST
DTSTART:20240331T010000
END:DAYLIGHT
BEGIN:STANDARD
TZOFFSETFROM:+0200
TZOFFSETTO:+0100
TZNAME:CET
DTSTART:20241027T010000
END:STANDARD
BEGIN:DAYLIGHT
TZOFFSETFROM:+0100
TZOFFSETTO:+0200
TZNAME:CEST
DTSTART:20250330T010000
END:DAYLIGHT
BEGIN:STANDARD
TZOFFSETFROM:+0200
TZOFFSETTO:+0100
TZNAME:CET
DTSTART:20251026T010000
END:STANDARD
BEGIN:DAYLIGHT
TZOFFSETFROM:+0100
TZOFFSETTO:+0200
TZNAME:CEST
DTSTART:20260329T010000
END:DAYLIGHT
BEGIN:STANDARD
TZOFFSETFROM:+0200
TZOFFSETTO:+0100
TZNAME:CET
DTSTART:20261025T010000
END:STANDARD
END:VTIMEZONE
BEGIN:VEVENT
DTSTART;TZID=Europe/Zagreb:20251030T193000
DTEND;TZID=Europe/Zagreb:20251130T170000
DTSTAMP:20260420T063021
CREATED:20251017T052727Z
LAST-MODIFIED:20251017T052727Z
UID:10006853-1761852600-1764522000@dubrovnik.today
SUMMARY:Izložba: BABIN KUK - PLANIRANJE UTOPIJE: 50 godina od izgradnje hotelsko-turističkog centra
DESCRIPTION:U četvrtak 30.10. otvaramo izložbu posvećenu planiranju\, izgradnji i djelovanju Hotelsko-turističkog centra Babin Kuk. Lapadsku Dubravu zamislili su i projektirali brojni domaći i strani stručnjaci\, na izgradnji je sudjelovalo i preko tri tisuće radnika i inženjera istovremeno\, a njeno otvaranje u lipnju 1976. oblikovalo zabavni i društveni život Grada. Postala je mjesto susreta Dubrovčana i njihovih gostiju\, koji su u njenim hotelima\, restoranima\, barovima\, šetnicama i parkovima zajednički stvarali uspomene za cijeli život.\n\nNa izložbi će kroz tekstove\, fotografije\, novinske članke i predmete biti predstavljena polustoljetna povijest ovog prostora\, oblikovanog za najveću kvalitetu i iskoristivost: od projektiranja\, nikad dovršene izgradnje\, zabavnog života\, do ratnih i poratnih godina.\n\nAutori izložbe su Ivan Lujo\, povjesničar i kustos Muzeja crvene povijesti i Krunoslav Šmit\, profesor na Arhitektonskom fakultetu u Zagrebu. Dizajn postava potpisuje Studio Bonsenjo.\n\nIzložba ostaje otvorena do početka prosinca.Pokrovitelji izložbe su: Grad Dubrovnik\, Ministarstvo kulture RH i Valamar.
URL:https://dubrovnik.today/event/izlozba-babin-kuk-planiranje-utopije-50-godina-od-izgradnje-hotelsko-turistickog-centra/
LOCATION:Muzej crvene povijesti\, Ulica Svetog Križa 3\, Dubrovnik\, Dubrovačko-neretvanska\, 20000\, Croatia
CATEGORIES:Music
ATTACH;FMTTYPE=image/jpeg:https://dubrovnik.today/wp-content/uploads/2025/10/561910977_1385058940290589_5235604758939907485_n.jpg
ORGANIZER;CN="Muzej crvene povijesti":MAILTO:info@redhistorymuseum.com
GEO:42.6591959;18.0871613
X-APPLE-STRUCTURED-LOCATION;VALUE=URI;X-ADDRESS=Muzej crvene povijesti Ulica Svetog Križa 3 Dubrovnik Dubrovačko-neretvanska 20000 Croatia;X-APPLE-RADIUS=500;X-TITLE=Ulica Svetog Križa 3:geo:18.0871613,42.6591959
END:VEVENT
BEGIN:VEVENT
DTSTART;TZID=Europe/Zagreb:20251116T110000
DTEND;TZID=Europe/Zagreb:20251116T140000
DTSTAMP:20260420T063021
CREATED:20251102T081439Z
LAST-MODIFIED:20251102T081439Z
UID:10007038-1763290800-1763301600@dubrovnik.today
SUMMARY:34. memorijalni turnir
DESCRIPTION:[1950. – 1991. – 2025.: DUBROVAČKO ŠAHOVSKO NASLJEĐE]\n\n\nOve godine prisjećamo se dviju velikih obljetnica koje se najsnažnije povezuju s dubrovačkim šahom i Šahovskim klubom Dubrovnik: 34. obljetnica memorijalnog turnira održanog u ratnim uvjetima\, u kojem su nagrade\, pet litara vode\, litra mlijeka i štruca kruha\, imale doslovno životnu vrijednost\, te 75. obljetnica Šahovske olimpijade održane u Dubrovniku 1950. godine. Ta je olimpijada ostavila dubok trag u kulturnoj memoriji Grada i učvrstila Dubrovnik kao prepoznatljivo šahovsko središte.\n\n\nPovodom ovih dviju obljetnica pripremili smo prigodan program. U nedjelju\, 16. studenog 2025.\, s početkom u 10:00 sati\, u kongresnoj dvorani Hotela Dubrovnik Palace održat će se svečano okupljanje posvećeno uspomenama i nasljeđu šaha u Dubrovniku. Program otvara prezentacija o Šahovskoj olimpijadi 1950. godine koje će održati Tonko Marunčić\, viši kustos Dubrovačkih muzeja. Slijede svjedočanstva sudionika ratnog turnira – sjećanje na vrijeme\, okolnosti i poruku zajedništva koju je taj turnir poslao u najtežim prilikama. Nakon službenog dijela uslijedit će prigodan domjenak za sve sudionike\, a u 11:30 sati započinje brzopotezni turnir u sedam kola\, s tempom igre od pet minuta po igraču bez dodatka\, i očekivanim završetkom oko 13:30 sati.\n\n\nNakon završetka brzopoteznog turnira nastavljamo šahovskim ritmom u klupskim prostorijama; treći dan finala Prvenstva Grada počinje u 15:00 sati.\n\n\nNa prigodni program i turnir dobrodošli su svi članovi Kluba uz prethodnu najavu najkasnije do 13. studenog 2025. Prijave i dodatne informacije dostupne su putem e-pošte na ivan.potrebica@skdubrovnik.hr ili na broj telefona +385 99 329 8599.\n\n\nVjerujemo da će se mnogi odazvati\, otkriti manje poznate detalje o dubrovačkoj Olimpijadi te zajedno s nama odati pijetet turniru koji je u teškim vremenima nosio snažnu poruku ustrajnosti i zajedništva za šahovskom pločom.\n\n\n#chess #chessgame #chessclub #chesslife #dubrovnik #croatia
URL:https://dubrovnik.today/event/34-memorijalni-turnir/
LOCATION:Hotel Dubrovnik Palace\, Masarykov Put 20\, Dubrovnik\, 20000\, Croatia
CATEGORIES:Sport
ATTACH;FMTTYPE=image/jpeg:https://dubrovnik.today/wp-content/uploads/2025/11/572577195_17850099237582923_4072844569270059488_n.jpg
ORGANIZER;CN="%C5%A0ahovski klub Dubrovnik":MAILTO:skdubrovnik@skdubrovnik.hr
GEO:42.6511102;18.0606996
X-APPLE-STRUCTURED-LOCATION;VALUE=URI;X-ADDRESS=Hotel Dubrovnik Palace Masarykov Put 20 Dubrovnik 20000 Croatia;X-APPLE-RADIUS=500;X-TITLE=Masarykov Put 20:geo:18.0606996,42.6511102
END:VEVENT
BEGIN:VEVENT
DTSTART;TZID=Europe/Zagreb:20251116T130000
DTEND;TZID=Europe/Zagreb:20251116T170000
DTSTAMP:20260420T063021
CREATED:20251111T120627Z
LAST-MODIFIED:20251111T120650Z
UID:10007139-1763298000-1763312400@dubrovnik.today
SUMMARY:Trio Miki i zelena menestra
DESCRIPTION:U nedjelju\, 16.11.\, u Vinici ručak ide uz živu glazbu!Trio Miki svira\, mi služimo domaću hranu\, a vi dođite s obitelji ili prijateljima.Opustite se\, zapjevajte i uživajte u nedjelji kakva treba biti.Rezervacije: DM ili  099 215 2459Vidimo se u Vinici!\nOn Sunday\, 16.11\, lunch at Vinica comes with live music!Trio Miki will play\, we’ll serve homemade dishes\, and you bring family or friends.Relax\, sing along\, and enjoy Sunday the way it should be.Reservations: DM or  099 215 2459See you at Vinica!
URL:https://dubrovnik.today/event/trio-miki-i-zelena-menestra/
LOCATION:Konoba Vinica Monković Konavle\, Donja Ljuta 44\, Gruda\, Dubrovačko-neretvanska\, 20125\, Croatia
CATEGORIES:Gastronomy,Music
ATTACH;FMTTYPE=image/jpeg:https://dubrovnik.today/wp-content/uploads/2025/11/581045407_1401678571963131_438823930376673055_n.jpg
ORGANIZER;CN="Konoba Vinica Monkovi%C4%87":MAILTO:peromonkovic@gmail.com
GEO:42.5387108;18.3788648
X-APPLE-STRUCTURED-LOCATION;VALUE=URI;X-ADDRESS=Konoba Vinica Monković Konavle Donja Ljuta 44 Gruda Dubrovačko-neretvanska 20125 Croatia;X-APPLE-RADIUS=500;X-TITLE=Donja Ljuta 44:geo:18.3788648,42.5387108
END:VEVENT
BEGIN:VEVENT
DTSTART;TZID=Europe/Zagreb:20251116T160000
DTEND;TZID=Europe/Zagreb:20251116T173000
DTSTAMP:20260420T063021
CREATED:20251104T070839Z
LAST-MODIFIED:20251230T123852Z
UID:10007154-1763308800-1763314200@dubrovnik.today
SUMMARY:DRUGI DNEVNIK PAULINE P.
DESCRIPTION:Omiljena junakinja iz školskih klupa vraća se u filmu Drugi dnevnik Pauline P.\, a nastavak hit filma donosi još više emocija i iskrenih trenutaka iz života jedne (ne tako male) djevojčice. \nNaša junakinja sada ima već jedanaest godina! Iako joj odrasli govore da joj je ovo „najbolji dio života“\, Paulini se uopće ne čini tako. U petom razredu dočekat će je profesorica Mirković\, stroga nastavnica geografije\, kao i Marta iz 5.D\, Paulinin prvi bully. Uskoro će otkriti i da njezina draga baka boluje od neizlječive bolesti. U borbi s nevoljama Paulina će se još jednom poslužiti šarmom i bujnom maštom\, i izvući jednu vrijednu pouku–da se život ne sastoji samo od pobjeda.
URL:https://dubrovnik.today/event/drugi-dnevnik-pauline-p-2/2025-11-16/
LOCATION:Kino dvorana Visia\, Poljana Paska Miličevića 3\, Dubrovnik\, 20000\, Croatia
CATEGORIES:Cinema
ATTACH;FMTTYPE=image/jpeg:https://dubrovnik.today/wp-content/uploads/2025/11/DDPP_1920x600.jpg
ORGANIZER;CN="Kinematografi Dubrovnik":MAILTO:operater@kinematografi.org
GEO:42.6414431;18.1071797
X-APPLE-STRUCTURED-LOCATION;VALUE=URI;X-ADDRESS=Kino dvorana Visia Poljana Paska Miličevića 3 Dubrovnik 20000 Croatia;X-APPLE-RADIUS=500;X-TITLE=Poljana Paska Miličevića 3:geo:18.1071797,42.6414431
END:VEVENT
BEGIN:VEVENT
DTSTART;TZID=Europe/Zagreb:20251116T163000
DTEND;TZID=Europe/Zagreb:20251116T180000
DTSTAMP:20260420T063021
CREATED:20251113T073540Z
LAST-MODIFIED:20251113T073540Z
UID:10007185-1763310600-1763316000@dubrovnik.today
SUMMARY:ZFF putuje 2025: DIVLJACI
DESCRIPTION:Nova animirana avantura Claudea Barrasa (Moj život kao Tikvica\, ZFF 2016.) donosi dirljivu priču o dvoje djece i mladunčetu orangutana koji kreću u borbu za spas prašume Bornea. Keria živi s ocem na Borneu\, na rubu džungle. Kada spasi malog orangutana Oshija\, pridružuje se svom rođaku Selaïu u putovanju koje je vodi u srce šume i duhovni svijet nomadskog plemena Penan. Kada se njihov zeleni dom nađe u opasnosti od drvne korporacije\, odlučni trojac udružit će se u borbi za spas džungle. Divljaci kroz oči mladih junaka otvaraju važne ekološke teme i potiču djecu i mlade na promišljanje o zaštiti prirode i važnosti očuvanja prašuma i njihovih stanovnika.
URL:https://dubrovnik.today/event/zff-putuje-2025-divljaci/
LOCATION:Kino Sloboda\, Luža 66\, Dubrovnik\, Dubrovačko-neretvanska\, 20000\, Croatia
CATEGORIES:Cinema
ATTACH;FMTTYPE=image/jpeg:https://dubrovnik.today/wp-content/uploads/2025/11/Divljaci-CRO-B1-707x1000mm-scaled-1.jpg
ORGANIZER;CN="Kinematografi Dubrovnik":MAILTO:operater@kinematografi.org
GEO:42.6409105;18.1101717
X-APPLE-STRUCTURED-LOCATION;VALUE=URI;X-ADDRESS=Kino Sloboda Luža 66 Dubrovnik Dubrovačko-neretvanska 20000 Croatia;X-APPLE-RADIUS=500;X-TITLE=Luža 66:geo:18.1101717,42.6409105
END:VEVENT
BEGIN:VEVENT
DTSTART;TZID=Europe/Zagreb:20251116T180000
DTEND;TZID=Europe/Zagreb:20251116T193000
DTSTAMP:20260420T063021
CREATED:20251113T071356Z
LAST-MODIFIED:20251204T074629Z
UID:10007160-1763316000-1763321400@dubrovnik.today
SUMMARY:SOKOL
DESCRIPTION:Sokol – Nezaustavljiv kao sudbina \nDokumentarni film o Velimiru Đereku Sokolu – ratniku iz Vukovara i Imotske krajine čija je priča postala simbol hrabrosti i izdržljivosti. \nKroz ekskluzivne snimke\, iskrene ispovijesti i do sada neviđene detalje\, film donosi snažan portret čovjeka koji nikad nije stao.
URL:https://dubrovnik.today/event/sokol-2/2025-11-16/
LOCATION:Kino dvorana Visia\, Poljana Paska Miličevića 3\, Dubrovnik\, 20000\, Croatia
CATEGORIES:Cinema
ATTACH;FMTTYPE=image/jpeg:https://dubrovnik.today/wp-content/uploads/2025/11/1080x1920.jpg
ORGANIZER;CN="Kinematografi Dubrovnik":MAILTO:operater@kinematografi.org
GEO:42.6414431;18.1071797
X-APPLE-STRUCTURED-LOCATION;VALUE=URI;X-ADDRESS=Kino dvorana Visia Poljana Paska Miličevića 3 Dubrovnik 20000 Croatia;X-APPLE-RADIUS=500;X-TITLE=Poljana Paska Miličevića 3:geo:18.1071797,42.6414431
END:VEVENT
BEGIN:VEVENT
DTSTART;TZID=Europe/Zagreb:20251116T183000
DTEND;TZID=Europe/Zagreb:20251116T203000
DTSTAMP:20260420T063021
CREATED:20251029T114602Z
LAST-MODIFIED:20251113T073815Z
UID:10007187-1763317800-1763325000@dubrovnik.today
SUMMARY:GODIŠNJICA / Anniversary
DESCRIPTION:Obitelj Taylor s nestrpljenjem se priprema proslaviti godišnjicu braka\, ali veselje se pretvara u nemir kada upoznaju novu djevojku svog sina – Liz. Ono što u početku izgleda kao sretan susret uskoro prerasta u niz sukoba i sumnji\, jer Liz krije dublju povezanost s kontroverznim pokretom „Promjena”. Kako se ona sve više upliće u njihov život\, napetosti rastu\, a povjerenje i obiteljska povezanost počinju pucati. U razdoblju kada i cijela nacija stoji na rubu\, obitelj Taylor otkriva da ono što prijeti njihovoj sreći dolazi iznutra.
URL:https://dubrovnik.today/event/godisnjica-anniversary/2025-11-16/
LOCATION:Kino Sloboda\, Luža 66\, Dubrovnik\, Dubrovačko-neretvanska\, 20000\, Croatia
CATEGORIES:Cinema
ATTACH;FMTTYPE=image/jpeg:https://dubrovnik.today/wp-content/uploads/2025/10/FB_COVER_ANNIVERSARY_HR.jpg
ORGANIZER;CN="Kinematografi Dubrovnik":MAILTO:operater@kinematografi.org
GEO:42.6409105;18.1101717
X-APPLE-STRUCTURED-LOCATION;VALUE=URI;X-ADDRESS=Kino Sloboda Luža 66 Dubrovnik Dubrovačko-neretvanska 20000 Croatia;X-APPLE-RADIUS=500;X-TITLE=Luža 66:geo:18.1101717,42.6409105
END:VEVENT
BEGIN:VEVENT
DTSTART;TZID=Europe/Zagreb:20251116T190000
DTEND;TZID=Europe/Zagreb:20251116T213000
DTSTAMP:20260420T063021
CREATED:20251104T074338Z
LAST-MODIFIED:20251104T074338Z
UID:10007108-1763319600-1763328600@dubrovnik.today
SUMMARY:Humanitarni koncert dubrovačkih klapa za Hrvate iz Boke kotorske i Crne gore
DESCRIPTION:Prihod od dobrotvornog koncerta je namijenjem bolesnim i siromašnim članovima hrvatskog naroda u Boki i Crnoj Gori. \nNa koncertu će pjevati klapa Ragusa\, klapa Kaše te ženske klape Anfora i FA Linđo. \nKoncert organizira Hrvatsko građansko društvo Crne gore
URL:https://dubrovnik.today/event/humanitarni-koncert-dubrovackih-klapa-za-hrvate-iz-boke-kotorske-i-crne-gore/
LOCATION:Kazalište Marina Držića\, Pred Dvorom 3\, Dubrovnik\, 20000\, Croatia
CATEGORIES:Music
ATTACH;FMTTYPE=image/jpeg:https://dubrovnik.today/wp-content/uploads/2025/11/skolji-pogled-iz-zraka.jpg
ORGANIZER;CN="Kazali%C5%A1te Marina Dr%C5%BEi%C4%87a":MAILTO:press@kmd.hr
GEO:42.6403741;18.1107474
X-APPLE-STRUCTURED-LOCATION;VALUE=URI;X-ADDRESS=Kazalište Marina Držića Pred Dvorom 3 Dubrovnik 20000 Croatia;X-APPLE-RADIUS=500;X-TITLE=Pred Dvorom 3:geo:18.1107474,42.6403741
END:VEVENT
BEGIN:VEVENT
DTSTART;TZID=Europe/Zagreb:20251116T200000
DTEND;TZID=Europe/Zagreb:20251116T230000
DTSTAMP:20260420T063021
CREATED:20251018T105014Z
LAST-MODIFIED:20251018T105014Z
UID:10006913-1763323200-1763334000@dubrovnik.today
SUMMARY:Milonga la mariposa – večeri tanga u Dubrovniku!
DESCRIPTION:Milonga la mariposa – večeri tanga u Dubrovniku! \n\n\nPozivamo vas da zaplešete s nama u ritmu strasti\, elegancije i povezanosti!\nTango Libertas Dubrovnik organizira Milonga la mariposa u predivnom ambijentu Caffe bara Flores (DOC).\n\n\n Datumi druženja:\n\n\n19. listopada\n\n\n16. studenoga\n\n\n21. prosinca\n\n\n Vrijeme: od 20:00 do 23:00\n Adresa: Kralja Tomislava 7\, Shopping centar DOC\n\n\nDođite\, zaplešite\, poslušajte prekrasnu glazbu i uživajte u atmosferi tanga — bilo kao plesač ili promatrač.\nBez obzira jeste li početnik ili iskusni tanguero\, svi su dobrodošli! \n\n\n Kontakt: tangolibertasdu@gmail.com\n 091 541 4927
URL:https://dubrovnik.today/event/milonga-la-mariposa-veceri-tanga-u-dubrovniku/2025-11-16/
LOCATION:Kavana Flores\, Šetalište kralja Zvonimira 7\, Dubrovnik\, Dubrovačko-neretvanska\, 20000\, Croatia
CATEGORIES:Music,Workshop
ATTACH;FMTTYPE=image/jpeg:https://dubrovnik.today/wp-content/uploads/2025/10/561342378_1428107062651224_4200132368481264119_n.jpg
ORGANIZER;CN="Tango Libertas Dubrovnik":MAILTO:tangolibertasdu@gmail.com
GEO:42.6562819;18.0744414
X-APPLE-STRUCTURED-LOCATION;VALUE=URI;X-ADDRESS=Kavana Flores Šetalište kralja Zvonimira 7 Dubrovnik Dubrovačko-neretvanska 20000 Croatia;X-APPLE-RADIUS=500;X-TITLE=Šetalište kralja Zvonimira 7:geo:18.0744414,42.6562819
END:VEVENT
END:VCALENDAR