BEGIN:VCALENDAR
VERSION:2.0
PRODID:-//dbk.life - ECPv6.15.12//NONSGML v1.0//EN
CALSCALE:GREGORIAN
METHOD:PUBLISH
X-WR-CALNAME:dbk.life
X-ORIGINAL-URL:https://dubrovnik.today
X-WR-CALDESC:Events for dbk.life
REFRESH-INTERVAL;VALUE=DURATION:PT1H
X-Robots-Tag:noindex
X-PUBLISHED-TTL:PT1H
BEGIN:VTIMEZONE
TZID:Europe/Zagreb
BEGIN:DAYLIGHT
TZOFFSETFROM:+0100
TZOFFSETTO:+0200
TZNAME:CEST
DTSTART:20240331T010000
END:DAYLIGHT
BEGIN:STANDARD
TZOFFSETFROM:+0200
TZOFFSETTO:+0100
TZNAME:CET
DTSTART:20241027T010000
END:STANDARD
BEGIN:DAYLIGHT
TZOFFSETFROM:+0100
TZOFFSETTO:+0200
TZNAME:CEST
DTSTART:20250330T010000
END:DAYLIGHT
BEGIN:STANDARD
TZOFFSETFROM:+0200
TZOFFSETTO:+0100
TZNAME:CET
DTSTART:20251026T010000
END:STANDARD
BEGIN:DAYLIGHT
TZOFFSETFROM:+0100
TZOFFSETTO:+0200
TZNAME:CEST
DTSTART:20260329T010000
END:DAYLIGHT
BEGIN:STANDARD
TZOFFSETFROM:+0200
TZOFFSETTO:+0100
TZNAME:CET
DTSTART:20261025T010000
END:STANDARD
END:VTIMEZONE
BEGIN:VEVENT
DTSTART;TZID=Europe/Zagreb:20251030T193000
DTEND;TZID=Europe/Zagreb:20251130T170000
DTSTAMP:20260420T073110
CREATED:20251017T052727Z
LAST-MODIFIED:20251017T052727Z
UID:10006853-1761852600-1764522000@dubrovnik.today
SUMMARY:Izložba: BABIN KUK - PLANIRANJE UTOPIJE: 50 godina od izgradnje hotelsko-turističkog centra
DESCRIPTION:U četvrtak 30.10. otvaramo izložbu posvećenu planiranju\, izgradnji i djelovanju Hotelsko-turističkog centra Babin Kuk. Lapadsku Dubravu zamislili su i projektirali brojni domaći i strani stručnjaci\, na izgradnji je sudjelovalo i preko tri tisuće radnika i inženjera istovremeno\, a njeno otvaranje u lipnju 1976. oblikovalo zabavni i društveni život Grada. Postala je mjesto susreta Dubrovčana i njihovih gostiju\, koji su u njenim hotelima\, restoranima\, barovima\, šetnicama i parkovima zajednički stvarali uspomene za cijeli život.\n\nNa izložbi će kroz tekstove\, fotografije\, novinske članke i predmete biti predstavljena polustoljetna povijest ovog prostora\, oblikovanog za najveću kvalitetu i iskoristivost: od projektiranja\, nikad dovršene izgradnje\, zabavnog života\, do ratnih i poratnih godina.\n\nAutori izložbe su Ivan Lujo\, povjesničar i kustos Muzeja crvene povijesti i Krunoslav Šmit\, profesor na Arhitektonskom fakultetu u Zagrebu. Dizajn postava potpisuje Studio Bonsenjo.\n\nIzložba ostaje otvorena do početka prosinca.Pokrovitelji izložbe su: Grad Dubrovnik\, Ministarstvo kulture RH i Valamar.
URL:https://dubrovnik.today/event/izlozba-babin-kuk-planiranje-utopije-50-godina-od-izgradnje-hotelsko-turistickog-centra/
LOCATION:Muzej crvene povijesti\, Ulica Svetog Križa 3\, Dubrovnik\, Dubrovačko-neretvanska\, 20000\, Croatia
CATEGORIES:Music
ATTACH;FMTTYPE=image/jpeg:https://dubrovnik.today/wp-content/uploads/2025/10/561910977_1385058940290589_5235604758939907485_n.jpg
ORGANIZER;CN="Muzej crvene povijesti":MAILTO:info@redhistorymuseum.com
GEO:42.6591959;18.0871613
X-APPLE-STRUCTURED-LOCATION;VALUE=URI;X-ADDRESS=Muzej crvene povijesti Ulica Svetog Križa 3 Dubrovnik Dubrovačko-neretvanska 20000 Croatia;X-APPLE-RADIUS=500;X-TITLE=Ulica Svetog Križa 3:geo:18.0871613,42.6591959
END:VEVENT
BEGIN:VEVENT
DTSTART;TZID=Europe/Zagreb:20251112T100000
DTEND;TZID=Europe/Zagreb:20251115T210000
DTSTAMP:20260420T073110
CREATED:20251109T112441Z
LAST-MODIFIED:20251109T112441Z
UID:10007123-1762941600-1763240400@dubrovnik.today
SUMMARY:12. Dani kulturnih i kreativnih industrija u Dubrovniku
DESCRIPTION: 12. Dani kulturnih i kreativnih industrija\nDubrovnik ponovno postaje središte kreativnosti i inovacija! Od 12. do 15. studenoga 2025.\, pridružite nam se na DKKI 2025 – manifestaciji koja spaja umjetnost\, znanost i ekologiju kroz temu „MODRA VIZIJA_Kreativni čuvari dubina“.\nOvogodišnji DKKI istražuje kako kreativne i kulturne industrije mogu doprinijeti očuvanju morskog ekosustava\, smanjenju onečišćenja i promicanju održivosti kroz umjetnost\, dizajn i inovativna rješenja. \n Što vas čeka?Radionice\, izložbe\, panel-rasprave\, performansi i koncerti – na više lokacija u Dubrovniku: Lazareti\, Aquarium Dubrovnik i drugi prostori. Izložba Blue Scream – Iris Lobaš Kukavičić Umjetničko-znanstvena izložba „Fragmenti čovječanstva: Personifikacija otpada“ Panel MODRA VIZIJA_Kreativni čuvari dubina Art of Your Mind powered by Pecha Kucha Kreativne radionice za djecu i odrasle Ekološka akcija čišćenja podmorja Koncert mladog benda Rock Palace Band\n Rasprave s umjetnicima\, istraživačima i poduzetnicima donose nove poglede na pitanje:– Kako umjetnost i kreativnost mogu pomoći moru?– Može li kreativni sektor biti pokretač ekološke promjene?\nULAZ NA SVA DOGAĐANJA JE BESPLATAN!ZA SUDJELOVANJE NA RADIONICAMA POTREBNO JE PRIJAVITI SE NA: dkki@dura.hr\n Ako ne možete biti s nama uživo\, možete nas pratiti na Facebook stranici Dani kreativnih i kulturnih industrija gdje ćete imati prijenos uživo!\nOrganizator: Dubrovačka razvojna agencija DURAPod pokroviteljstvom: Grada Dubrovnika i Ministarstva kulture i medija Republike Hrvatske\n\n\nSRIJEDA 12.11.2025. \n10:00 OTOK LOKRUM\nTužni i sretni dom PLEMENITE PERISKE – Radionica za djecu\, Ana Šimunović / J.U. Rezervat Lokrum \n10:00 LAZARETI\, lađa broj 5\nMORE U MOM DLANU Radionica\, Ines Miljan Popović / Muzej školjaka Cavtat \n19:00 AQUARIUM DUBROVNIK\nSLUŽBENO OTVORENJE XII. DKKI\nIzložba Blue scream\, Autor: izv. prof. dr. art. Iris Lobaš kukavčić\, glazba Srđan Berdović (otvoreno od 12.11. do 15.1.2025.) \nČETVRTAK 13.11.2025. \n10:00 PRIRODOSLOVNI MUZEJ\nMorski svijet – radionica za djecu / Dubravka Tullio \n12:00 LAZARETI\, lađa broj 4\nIzložba: FRAGMENTI ČOVJEČANSTVA: Personifikacija otpada – Iva Pozniak \n13:00 LAZARETI\, lađa broj 4\nMODRA VIZIJA_KREATIVNI ČUVARI DUBINA\, panel rasprava \n18:30 Klub Lazareti\nART OF YOUR MIND powered by PECHAKUCHA \n20:00 Club LAZARETI\nKoncert ROCK PALACE BAND \nPETAK 14.11.2025. \n09:30 DOMUS CHRISTI\, Za Rokom 13\nSTVORITI USPOMENU Radionica oslikavanja platnenih torbi / Dunja Kežić \n10:00 PRIRODOSLOVNI MUZEJ\nMorski svijet – radionica za djecu / Dubravka Tullio \n10:00 LAZARETI\, lađa broj 5\nMORSKI KONJIC Interaktivna radionica\, Nikola Fallar / Kiparska kolonija SLAMA \n13:00 Pomorski muzej\nPredstavljanje COOL NOONS projekta / Dubrovačka razvojna agencija DURA d.0.0. \n18:00 Iva Vojnovića 55\nKIKARA S PRIČOM – radionica / Andrea Vukoja Prce \nSUBOTA  15.11.2025. \n09:30 DOMUS CHRISTI\, Za Rokom 13\nSTVORITI USPOMENU Radionica oslikavanja platnenih torbi / Dunja Kežić \n10:30 Gradska Luka Dubrovnik / PORAT\nEKOLOŠKA AKCIJA ČIŠĆENJA PODMORJA \n16:00 LAZARETI\, DEŠA\nZajednička radionica VEZENJE BOOKMARKERA & BEZBEZ izrada malo drukčijih kolačića / Dunja Kežič & Mirna Nutrigurman \n19:00 LOVE BAR\nSPLICKA SCENA Stand up Josip Škiljo
URL:https://dubrovnik.today/event/12-dani-kulturnih-i-kreativnih-industrija-u-dubrovniku/
LOCATION:Dubrovnik\, Dubrovnik\, Dubrovačko-neretvanska\, 20000\, Croatia
CATEGORIES:Exhibition,Lecture,Music,Theatre,Workshop
ATTACH;FMTTYPE=image/jpeg:https://dubrovnik.today/wp-content/uploads/2025/11/577827973_1259595609542134_753586458210743666_n.jpg
GEO:42.6586378;18.1013637
END:VEVENT
BEGIN:VEVENT
DTSTART;TZID=Europe/Zagreb:20251113T100000
DTEND;TZID=Europe/Zagreb:20251113T130000
DTSTAMP:20260420T073110
CREATED:20251110T085612Z
LAST-MODIFIED:20251110T085612Z
UID:10007129-1763028000-1763038800@dubrovnik.today
SUMMARY:Orebić: radionica Digitalnim alatima do uspješnog brenda
DESCRIPTION:𝐎𝐫𝐞𝐛𝐢𝐜́: 𝐏𝐫𝐢𝐣𝐚𝐯𝐢 𝐬𝐞 𝐧𝐚 𝐫𝐚𝐝𝐢𝐨𝐧𝐢𝐜𝐮 – 𝐃𝐢𝐠𝐢𝐭𝐚𝐥𝐧𝐢𝐦 𝐚𝐥𝐚𝐭𝐢𝐦𝐚 𝐝𝐨 𝐮𝐬𝐩𝐣𝐞𝐬̌𝐧𝐨𝐠 𝐛𝐫𝐞𝐧𝐝𝐚!\n\n\n Želiš da tvoj brend na društvenim mrežama izgleda profesionalno\, autentično i dosljedno – bez dodatnih troškova?\n\n\nPrijavi se na besplatnu radionicu u organizaciji Centar za poduzetništvo Dubrovačko-neretvanske županije i Razvojne agencije Općine Orebić – ORA i saznaj kako koristiti jednostavne i pristupačne alate za profesionalan nastup na društvenim mrežama i drugim digitalnim kanalima.\n\n\n Kada? 13.11.2025. u 10:00\n Gdje? dvorana Općine Orebić\, Obala pomoraca 24\, Orebić\n Trajanje: 3 sata\n Predavač: Toni Njirić\, EZ Booker\n\n\nNa radionici “Digitalnim alatima do uspješnog brenda” naučit ćeš:\n kako osmisliti i predstaviti svoj brend online\n koristiti alate kao što su Canva\, Meta Business Suite\, Mailchimp\, Google Analytics\n izraditi vizualni identitet\n planirati objave i analizirati uspješnost\n\n\nViše informacija možeš pronaći na: www.czp.hr\n\n\n Prijave su obavezne putem:\n https://forms.gle/H1kJotkYCFDZNMqd9\n razvojna.ora@gmail.com ili czp@czp.hr\n 020/412-071 ili 020/418-401\n\n\n Broj mjesta je ograničen – osiguraj svoje na vrijeme!\n\n\n#centarzapoduzetništvodnž\n#dubrovačkoneretvanskažupanija\n#poduzetničkiinkubatordubrovnik\n#ora\n#besplatnaradionica
URL:https://dubrovnik.today/event/orebic-radionica-digitalnim-alatima-do-uspjesnog-brenda/
LOCATION:Dvorana Općine Orebić\, Obala pomoraca 24\, Orebić\, Croatia
CATEGORIES:Workshop
ATTACH;FMTTYPE=image/jpeg:https://dubrovnik.today/wp-content/uploads/2025/11/578050058_1463558601909813_4495805661429053756_n.jpg
ORGANIZER;CN="Centar za poduzetni%C5%A1tvo Dubrova%C4%8Dko-neretvanske %C5%BEupanije":MAILTO:dcp@dcp.hr
GEO:42.9741776;17.1778107
X-APPLE-STRUCTURED-LOCATION;VALUE=URI;X-ADDRESS=Dvorana Općine Orebić Obala pomoraca 24 Orebić Croatia;X-APPLE-RADIUS=500;X-TITLE=Obala pomoraca 24:geo:17.1778107,42.9741776
END:VEVENT
BEGIN:VEVENT
DTSTART;TZID=Europe/Zagreb:20251113T163000
DTEND;TZID=Europe/Zagreb:20251113T180000
DTSTAMP:20260420T073110
CREATED:20251104T071637Z
LAST-MODIFIED:20251224T121539Z
UID:10007168-1763051400-1763056800@dubrovnik.today
SUMMARY:BOŽIĆNA MIŠOLOVKA / A Mouse Hunt for Christmas
DESCRIPTION:Obitelj miševa zauzeta je pripremama za blagdane u svom ugodnom seoskom domu – sve dok ne stigne prava gradska obitelj koja traži miran bijeg od svakodnevnog života. Ali ovi odlučni miševi neće odustati od svog prostora bez borbe! Nizom pametnih trikova – treperenjem svjetala\, misterioznim zvukovima grebanja i još mnogo toga – miševi započinju drzak obračun koji će vas natjerati da navijate za ove nestašne ‘štetočine’ do kraja!
URL:https://dubrovnik.today/event/bozicna-misolovka-a-mouse-hunt-for-christmas/2025-11-13/
LOCATION:Kino Sloboda\, Luža 66\, Dubrovnik\, Dubrovačko-neretvanska\, 20000\, Croatia
CATEGORIES:Cinema
ATTACH;FMTTYPE=image/jpeg:https://dubrovnik.today/wp-content/uploads/2025/11/MOUSE-HUNT-FOR-CHRISTMAS-1920x1080px-T-PORTAL-1.jpg
ORGANIZER;CN="Kinematografi Dubrovnik":MAILTO:operater@kinematografi.org
GEO:42.6409105;18.1101717
X-APPLE-STRUCTURED-LOCATION;VALUE=URI;X-ADDRESS=Kino Sloboda Luža 66 Dubrovnik Dubrovačko-neretvanska 20000 Croatia;X-APPLE-RADIUS=500;X-TITLE=Luža 66:geo:18.1101717,42.6409105
END:VEVENT
BEGIN:VEVENT
DTSTART;TZID=Europe/Zagreb:20251113T170000
DTEND;TZID=Europe/Zagreb:20251113T180000
DTSTAMP:20260420T073110
CREATED:20251104T062823Z
LAST-MODIFIED:20251111T121541Z
UID:10007049-1763053200-1763056800@dubrovnik.today
SUMMARY:Likovna radionica Kantunić
DESCRIPTION:Nastavljamo u “mjesecu slikarstva” kroz studeni održavati besplatne radionice u suradnji s Art studio Kantunić i Histeria Concept Store! Giovanna Kličan i Ivana Gille će u narednim danima polaznike provesti kroz raznovrsne tehnike slikanja i približiti umjetnost djevojčicama i dječacima u dobi od 6 do 15 godina.\n\n\nPrijave za ovotjedne termina su dostupne odmah za sve zainteresirane polaznike na linkovima u nastavku\, a prostor održavanja za sve radionice je CDMOD TUP (Andrije Hebranga 95 – poviše Love Bara). Pridružite nam se na nekoj od kreativnih aktivnosti!\n\n\nČetvrtak\, 13. studenog u 17h // Art studio Kantunić (dob 6+)\nLink za prijavu: https://forms.fillout.com/t/e39XSyh2Rjus
URL:https://dubrovnik.today/event/likovna-radionica-kantunic/
LOCATION:Art studio Kantunić\, Ul. Svetog Križa 3\, Dubrovnik\, Dubrovačko-neretvanska\, 20000\, Croatia
CATEGORIES:Workshop
ATTACH;FMTTYPE=image/jpeg:https://dubrovnik.today/wp-content/uploads/2025/11/577695263_122196144284345181_3153520736778184910_n.jpg
ORGANIZER;CN="Art studio Kantuni%C4%87":MAILTO:artstudiokantunic@gmail.com
GEO:42.6593763;18.0870519
X-APPLE-STRUCTURED-LOCATION;VALUE=URI;X-ADDRESS=Art studio Kantunić Ul. Svetog Križa 3 Dubrovnik Dubrovačko-neretvanska 20000 Croatia;X-APPLE-RADIUS=500;X-TITLE=Ul. Svetog Križa 3:geo:18.0870519,42.6593763
END:VEVENT
BEGIN:VEVENT
DTSTART;TZID=Europe/Zagreb:20251113T170000
DTEND;TZID=Europe/Zagreb:20251113T180000
DTSTAMP:20260420T073110
CREATED:20251111T115006Z
LAST-MODIFIED:20251111T115006Z
UID:10007137-1763053200-1763056800@dubrovnik.today
SUMMARY:Predavanje: “Autizam u mladenaštvu i odrasloj dobi”
DESCRIPTION:Pozivamo vas na predavanje posvećeno razumijevanju položaja mladih i odraslih osoba u spektru autizma u Hrvatskoj. Govorit će se o izazovima s kojima se susreću u obrazovanju i zapošljavanju\, ali i o pozitivnim pomacima koje donose inkluzivniji pristupi i jača podrška zajednice. Predavanje će obraditi specifične potrebe osoba u spektru\, prilagodbe u obrazovnom i radnom okruženju\, te načine na koje obitelji\, škole i poslodavci mogu pridonijeti boljoj kvaliteti života i socijalnoj uključenosti. \nPredavanje će održati Sanja Aguila Munoz\, stručnjakinja s dugogodišnjim iskustvom rada s djecom i mladima u spektru autizma. Kroz svoj rad u Centru za autizam Zagreb i u Kabinetu za pružanje podrške djeci i mladima posvetila se procjeni\, savjetovanju i pružanju podrške obiteljima\, stručnjacima i školama\, s posebnim interesom za rad s djevojčicama i djevojkama u spektru. \nSudjeluje i Udruga edukacijskih rehabilitatora Dubrovačko-neretvanske županije (eDUreh)\, koja djeluje na promicanju\, razvoju i jačanju edukacijsko-rehabilitacijske struke te na senzibiliziranju javnosti o potrebama i pravima osoba s invaliditetom i djece s teškoćama u razvoju.
URL:https://dubrovnik.today/event/predavanje-autizam-u-mladenastvu-i-odrasloj-dobi/
LOCATION:Sveučilište u Dubrovniku\, Branitelja Dubrovnika 29\, Dubrovnik\, Dubrovačko-neretvanska\, 20000\, Croatia
CATEGORIES:Lecture
ATTACH;FMTTYPE=image/jpeg:https://dubrovnik.today/wp-content/uploads/2025/11/576578095_17872975470449763_4805744238805675569_n.jpg
GEO:42.643515;18.1020806
X-APPLE-STRUCTURED-LOCATION;VALUE=URI;X-ADDRESS=Sveučilište u Dubrovniku Branitelja Dubrovnika 29 Dubrovnik Dubrovačko-neretvanska 20000 Croatia;X-APPLE-RADIUS=500;X-TITLE=Branitelja Dubrovnika 29:geo:18.1020806,42.643515
END:VEVENT
BEGIN:VEVENT
DTSTART;TZID=Europe/Zagreb:20251113T180000
DTEND;TZID=Europe/Zagreb:20251113T193000
DTSTAMP:20260420T073110
CREATED:20251010T091359Z
LAST-MODIFIED:20251010T091359Z
UID:10006818-1763056800-1763062200@dubrovnik.today
SUMMARY:MJESEC HRVATSKE KNJIGE - Zvrkijada
DESCRIPTION:“U svijetu prepunom kratkih vijesti i brzih pretraživanja\, u kojemu informacije putuju brže nego ikada\, a buka i žurba bliski su pratioci ljudske svakodnevnice\, još uvijek postoje mjesta gdje se misao smije zadržati i rasti. Utočišta u kojima se može zastati\, pitati\, tražiti\, listati\, saznavati\, družiti\, povezivati\, zabavljati\, a ponekad tek – biti.\n\n\nMjesta učenja novih slova\, ali i starih znanja. Kutci u kojima istražujemo\, otkrivamo\, spoznajemo. Lokacije kojima se vraćamo i onda kada lutamo. To su knjižnice – one u kojima ideje žive\, zajednička dobra koja nas iznova podsjećaju da znanje nije luksuz\, već mora biti dostupno svima\, i da čitanje ne mora biti samo bijeg već i povratak sebi i svijetu…\n\n\nAli što je knjižnica bez knjižničara? Možemo li zamisliti prostor ispunjen knjigama bez onih koji tim knjigama daju život\, a prostoru smisao? Onih koji znanje čuvaju\, ali ga i nesebično dijele. Onih koji tihe i zatvorene riznice znanja pretvaraju u živa kulturna i društvena središta\, mjesta susreta i otkrića koja dobrodošlicu pružaju – svima. Knjižničar danas nije samo čuvar knjiga\, već i onaj koji osluškuje\, usmjerava i pomaže. Neprestano uči i stvara\, njeguje tradiciju istovremeno se prilagođavajući novim tehnologijama\, razvija informacijske vještine\, promiče ljepotu čitanja\, povezuje generacije i spaja naizgled nespojive svjetove… Baš poput renesansnog čovjeka\, otvorenog\, obrazovanog i znatiželjnog pojedinca\, koji neumorno traga za novim horizontima i povezuje različita znanja\, i suvremeni knjižničar nosi duh tog pomalo zaboravljenog\, ali i dalje živog ideala svestranosti.\n\n\nI zato ovaj Mjesec hrvatske knjige posvećujemo onima koji čine srce svake knjižnice\, onima koji nisu samo stručnjaci za knjige i čitanje\, nego stvaratelji okruženja u kojem znanje raste\, kultura se stvara i umnaža\, a različitosti nalaze prostor za uvažavajući dijalog i toleranciju. Ova je manifestacija prilika da istaknemo često manje primjetnu\, a izuzetno važnu ulogu knjižničara\, ali i da se zapitamo kako ostati vjeran humanističkim idealima u svijetu koji sve više oblikuju digitalne tehnologije.” (izvor: https://mhk.hr/mjesec-hrvatske-knjige-2025-odabrali… )\n\n\nU Ogranku Cavtat odabrali smo se posvetiti Ratku Zvrku i\, onima za koje je on najčešće pisao\, osnovnoškolcima\, stoga organiziramo – Zvrkijadu. Zvrkijada je ciklus radionica na kojima će polaznici istraživati crtice iz života Ratka Zvrka\, upoznat će se s njegovim djelima te ista analizirati i interpretirati kroz dramske\, literarne i likovne forme. Program su osmislile i vode nastavnica hrvatskog jezika Jelena Sukurica i knjižničarka Lucijana Mihaljek.\n\n\nZbog ograničenog broja mjesta prijave su obavezne\, stoga nam se javite što prije na mail adresu cavtat@dkd.hr. \n\n\nVeselimo vam se\, zvrkići!
URL:https://dubrovnik.today/event/mjesec-hrvatske-knjige-zvrkijada/2025-11-13/
LOCATION:Ogranak Cavtat – Dubrovačke knjižnice\, Zidine 6\, Cavtat\, Dubrovačko-neretvanska\, 20210\, Croatia
CATEGORIES:Lecture,Pub quiz,Workshop
ATTACH;FMTTYPE=image/jpeg:https://dubrovnik.today/wp-content/uploads/2025/10/559529594_122230551110057871_6683405997588036234_n.jpg
ORGANIZER;CN="Ogranak Cavtat - Dubrova%C4%8Dke knji%C5%BEnice":MAILTO:cavtat@dkd.hr
GEO:42.5812987;18.2181598
X-APPLE-STRUCTURED-LOCATION;VALUE=URI;X-ADDRESS=Ogranak Cavtat – Dubrovačke knjižnice Zidine 6 Cavtat Dubrovačko-neretvanska 20210 Croatia;X-APPLE-RADIUS=500;X-TITLE=Zidine 6:geo:18.2181598,42.5812987
END:VEVENT
BEGIN:VEVENT
DTSTART;TZID=Europe/Zagreb:20251113T180000
DTEND;TZID=Europe/Zagreb:20251113T193000
DTSTAMP:20260420T073110
CREATED:20251104T070839Z
LAST-MODIFIED:20251230T123852Z
UID:10007152-1763056800-1763062200@dubrovnik.today
SUMMARY:DRUGI DNEVNIK PAULINE P.
DESCRIPTION:Omiljena junakinja iz školskih klupa vraća se u filmu Drugi dnevnik Pauline P.\, a nastavak hit filma donosi još više emocija i iskrenih trenutaka iz života jedne (ne tako male) djevojčice. \nNaša junakinja sada ima već jedanaest godina! Iako joj odrasli govore da joj je ovo „najbolji dio života“\, Paulini se uopće ne čini tako. U petom razredu dočekat će je profesorica Mirković\, stroga nastavnica geografije\, kao i Marta iz 5.D\, Paulinin prvi bully. Uskoro će otkriti i da njezina draga baka boluje od neizlječive bolesti. U borbi s nevoljama Paulina će se još jednom poslužiti šarmom i bujnom maštom\, i izvući jednu vrijednu pouku–da se život ne sastoji samo od pobjeda.
URL:https://dubrovnik.today/event/drugi-dnevnik-pauline-p-2/2025-11-13/
LOCATION:Kino dvorana Visia\, Poljana Paska Miličevića 3\, Dubrovnik\, 20000\, Croatia
CATEGORIES:Cinema
ATTACH;FMTTYPE=image/jpeg:https://dubrovnik.today/wp-content/uploads/2025/11/DDPP_1920x600.jpg
ORGANIZER;CN="Kinematografi Dubrovnik":MAILTO:operater@kinematografi.org
GEO:42.6414431;18.1071797
X-APPLE-STRUCTURED-LOCATION;VALUE=URI;X-ADDRESS=Kino dvorana Visia Poljana Paska Miličevića 3 Dubrovnik 20000 Croatia;X-APPLE-RADIUS=500;X-TITLE=Poljana Paska Miličevića 3:geo:18.1071797,42.6414431
END:VEVENT
BEGIN:VEVENT
DTSTART;TZID=Europe/Zagreb:20251113T183000
DTEND;TZID=Europe/Zagreb:20251113T200000
DTSTAMP:20260420T073110
CREATED:20251113T071202Z
LAST-MODIFIED:20251113T071202Z
UID:10007158-1763058600-1763064000@dubrovnik.today
SUMMARY:SOKOL
DESCRIPTION:Sokol – Nezaustavljiv kao sudbina \nDokumentarni film o Velimiru Đereku Sokolu – ratniku iz Vukovara i Imotske krajine čija je priča postala simbol hrabrosti i izdržljivosti. \nKroz ekskluzivne snimke\, iskrene ispovijesti i do sada neviđene detalje\, film donosi snažan portret čovjeka koji nikad nije stao.
URL:https://dubrovnik.today/event/sokol/
LOCATION:Kino Sloboda\, Luža 66\, Dubrovnik\, Dubrovačko-neretvanska\, 20000\, Croatia
CATEGORIES:Cinema
ATTACH;FMTTYPE=image/jpeg:https://dubrovnik.today/wp-content/uploads/2025/11/1080x1920.jpg
ORGANIZER;CN="Kinematografi Dubrovnik":MAILTO:operater@kinematografi.org
GEO:42.6409105;18.1101717
X-APPLE-STRUCTURED-LOCATION;VALUE=URI;X-ADDRESS=Kino Sloboda Luža 66 Dubrovnik Dubrovačko-neretvanska 20000 Croatia;X-APPLE-RADIUS=500;X-TITLE=Luža 66:geo:18.1101717,42.6409105
END:VEVENT
BEGIN:VEVENT
DTSTART;TZID=Europe/Zagreb:20251113T190000
DTEND;TZID=Europe/Zagreb:20251113T223000
DTSTAMP:20260420T073110
CREATED:20251110T092243Z
LAST-MODIFIED:20251110T092243Z
UID:10007131-1763060400-1763073000@dubrovnik.today
SUMMARY:Filmski kviz
DESCRIPTION:Spreman si da testiraš svoje filmsko znanje? 🎬 Pridruži nam se na filmskom kvizu i pokaži koliko dobro poznaješ velike ekrane\, legendarne replike i nezaboravne scene! \nPripremili smo za Vas izvrstan set pitanja + veliki broj popratnih igara i to ćemo sve začiniti sa velikim brojem nagrada. \nNAPOMENA: Ako vaša ekipa ne može doći na kviz molimo da nam obavezno javite čim ranije na organizacija@kvizovi.hr kako bismo mogli ubaciti neku od ekipa s liste čekanja jer imamo ekipe koje bi vrlo rado zaigrale kviz\, a vaše pravovremeno javljanje utječe na njihove planove pa molimo da budete obzirni. \nBroj ekipa je ograničen i očekujemo će se kapacitet brzo popuniti. \nBroj članova: maksimalno 5 po ekipi \nKotizacija: 12 eura po ekipi \nPrijave za kviz bit će otvorene do četvrtka\, 13.11. u 18:00 sati ili do popunjenja kapaciteta.
URL:https://dubrovnik.today/event/filmski-kviz/
LOCATION:Caffe Bar Giro\, Vukovarska ulica 34\, Dubrovnik\, 20000\, Croatia
CATEGORIES:Pub quiz
ATTACH;FMTTYPE=image/jpeg:https://dubrovnik.today/wp-content/uploads/2025/11/Screenshot_20251110-1018442.jpg
ORGANIZER;CN="Urbana Kviz Pri%C4%8Da - Dubrovnik":MAILTO:https://www.instagram.com/dubrovackakvizzprica/
GEO:42.6524076;18.0904568
X-APPLE-STRUCTURED-LOCATION;VALUE=URI;X-ADDRESS=Caffe Bar Giro Vukovarska ulica 34 Dubrovnik 20000 Croatia;X-APPLE-RADIUS=500;X-TITLE=Vukovarska ulica 34:geo:18.0904568,42.6524076
END:VEVENT
BEGIN:VEVENT
DTSTART;TZID=Europe/Zagreb:20251113T190000
DTEND;TZID=Europe/Zagreb:20251113T230000
DTSTAMP:20260420T073110
CREATED:20251119T123634Z
LAST-MODIFIED:20251119T123634Z
UID:10007280-1763060400-1763074800@dubrovnik.today
SUMMARY:Studeni u Pino’s
DESCRIPTION:Mjesec pred nama donosi pregršt dobre zabave\, glazbe i posebnih događanja! \nOd opuštenih večeri uz vino i kreativnost s @slatkokaocukar.hr\, do nastupa @teatarband_dbk\, @du_not_worry_music\, te večeri uz @djtimejack\, saksofon i puno dobre energije – u Pino’su vas svaki tjedan čeka nešto novo. \n🎭 Za najmlađe – Kids Show by @we.kids.production & @wevents_entertainment “Princezin put do koncerta” očekuje vas u subotu ujutro\, dok večer rezerviramo za čarobne note @_nikolinaviolina. \n📅 PROGRAM\n13.11. Clay & Wine by Slatko kao Cukar\n14.11. DJ Time Jack\n15.11. Teatar Band\n20.11. Thursdays at Pino’s by Slatko kao Cukar\n21.11. DU Not Worry Band\n22.11. Laura John & Antun Milinković\n28.11. DJ Time Jack & Sax\n29.11. Kids Show – Princezin put do koncerta (jutro)\n29.11. Nikolina Violina (večer) \n📍 Pino’s Fun and Dine – mjesto gdje dobra hrana\, vino i glazba stvaraju savršenu jesensku atmosferu. \n✨ Rezervacije:\n📞 +385 02 301 576\n📩 Instagram DM\n📍 Šetalište kralja Zvonimira 2b
URL:https://dubrovnik.today/event/studeni-u-pinos/2025-11-13/
LOCATION:Pino’s Dubrovnik\, Šetalište Kralja Zvonimira 2b\, Dubrovnik\, Dubrovačko-neretvanska\, 20000\, Croatia
CATEGORIES:Gastronomy,Music,Workshop
ATTACH;FMTTYPE=image/jpeg:https://dubrovnik.today/wp-content/uploads/2025/11/581103068_17865609351497353_3367480876992574751_n.jpg
ORGANIZER;CN="Pino%E2%80%99s Dubrovnik":MAILTO:https://www.instagram.com/pinosdubrovnik
GEO:42.6566176;18.0753568
X-APPLE-STRUCTURED-LOCATION;VALUE=URI;X-ADDRESS=Pino’s Dubrovnik Šetalište Kralja Zvonimira 2b Dubrovnik Dubrovačko-neretvanska 20000 Croatia;X-APPLE-RADIUS=500;X-TITLE=Šetalište Kralja Zvonimira 2b:geo:18.0753568,42.6566176
END:VEVENT
BEGIN:VEVENT
DTSTART;TZID=Europe/Zagreb:20251113T200000
DTEND;TZID=Europe/Zagreb:20251113T221500
DTSTAMP:20260420T073110
CREATED:20251113T072013Z
LAST-MODIFIED:20251117T220010Z
UID:10007163-1763064000-1763072100@dubrovnik.today
SUMMARY:TRKAČ / Running Man
DESCRIPTION:U distopijskoj bliskoj budućnosti\, najpopularniji televizijski show nije talent-natjecanje — već borba za goli život. Show okuplja Trkače\, očajne kandidate koji 30 dana moraju preživjeti lov profesionalnih ubojica. Sve se snima. Sve se emitira. Krvožedna publika glasa novcem\, a nagrada svakim danom raste.\nKada Ben Richards (Glen Powell)\, radnik iz radničke klase\, pristane sudjelovati kako bi spasio teško bolesnu kćer\, producent emisije Dan Killian (Josh Brolin) vidi savršenu priču. Ali Ben nije običan Trkač. Njegov prkos\, snalažljivost i instinkt za preživljavanje pretvaraju ga u nacionalnog junaka — i potencijalnu prijetnju cijelom sustavu. Kako gledanost ruši sve rekorde\, postaje jasno: sustav ne želi pobjednike. Samo krv. Ben mora nadmudriti Lovce\, preživjeti spektakl i razotkriti istinu — prije nego ga nacija gladna smrti zauvijek izbriše s ekrana.
URL:https://dubrovnik.today/event/trkac-running-man/2025-11-13/
LOCATION:Kino Sloboda\, Luža 66\, Dubrovnik\, Dubrovačko-neretvanska\, 20000\, Croatia
CATEGORIES:Cinema
ATTACH;FMTTYPE=image/jpeg:https://dubrovnik.today/wp-content/uploads/2025/11/1920x1080_RUNNING_MAN_HR.jpg
ORGANIZER;CN="Kinematografi Dubrovnik":MAILTO:operater@kinematografi.org
GEO:42.6409105;18.1101717
X-APPLE-STRUCTURED-LOCATION;VALUE=URI;X-ADDRESS=Kino Sloboda Luža 66 Dubrovnik Dubrovačko-neretvanska 20000 Croatia;X-APPLE-RADIUS=500;X-TITLE=Luža 66:geo:18.1101717,42.6409105
END:VEVENT
END:VCALENDAR