BEGIN:VCALENDAR
VERSION:2.0
PRODID:-//dbk.life - ECPv6.15.12//NONSGML v1.0//EN
CALSCALE:GREGORIAN
METHOD:PUBLISH
X-ORIGINAL-URL:https://dubrovnik.today
X-WR-CALDESC:Events for dbk.life
REFRESH-INTERVAL;VALUE=DURATION:PT1H
X-Robots-Tag:noindex
X-PUBLISHED-TTL:PT1H
BEGIN:VTIMEZONE
TZID:Europe/Zagreb
BEGIN:DAYLIGHT
TZOFFSETFROM:+0100
TZOFFSETTO:+0200
TZNAME:CEST
DTSTART:20240331T010000
END:DAYLIGHT
BEGIN:STANDARD
TZOFFSETFROM:+0200
TZOFFSETTO:+0100
TZNAME:CET
DTSTART:20241027T010000
END:STANDARD
BEGIN:DAYLIGHT
TZOFFSETFROM:+0100
TZOFFSETTO:+0200
TZNAME:CEST
DTSTART:20250330T010000
END:DAYLIGHT
BEGIN:STANDARD
TZOFFSETFROM:+0200
TZOFFSETTO:+0100
TZNAME:CET
DTSTART:20251026T010000
END:STANDARD
BEGIN:DAYLIGHT
TZOFFSETFROM:+0100
TZOFFSETTO:+0200
TZNAME:CEST
DTSTART:20260329T010000
END:DAYLIGHT
BEGIN:STANDARD
TZOFFSETFROM:+0200
TZOFFSETTO:+0100
TZNAME:CET
DTSTART:20261025T010000
END:STANDARD
END:VTIMEZONE
BEGIN:VEVENT
DTSTART;TZID=Europe/Zagreb:20251030T193000
DTEND;TZID=Europe/Zagreb:20251130T170000
DTSTAMP:20260420T095254
CREATED:20251017T052727Z
LAST-MODIFIED:20251017T052727Z
UID:10006853-1761852600-1764522000@dubrovnik.today
SUMMARY:Izložba: BABIN KUK - PLANIRANJE UTOPIJE: 50 godina od izgradnje hotelsko-turističkog centra
DESCRIPTION:U četvrtak 30.10. otvaramo izložbu posvećenu planiranju\, izgradnji i djelovanju Hotelsko-turističkog centra Babin Kuk. Lapadsku Dubravu zamislili su i projektirali brojni domaći i strani stručnjaci\, na izgradnji je sudjelovalo i preko tri tisuće radnika i inženjera istovremeno\, a njeno otvaranje u lipnju 1976. oblikovalo zabavni i društveni život Grada. Postala je mjesto susreta Dubrovčana i njihovih gostiju\, koji su u njenim hotelima\, restoranima\, barovima\, šetnicama i parkovima zajednički stvarali uspomene za cijeli život.\n\nNa izložbi će kroz tekstove\, fotografije\, novinske članke i predmete biti predstavljena polustoljetna povijest ovog prostora\, oblikovanog za najveću kvalitetu i iskoristivost: od projektiranja\, nikad dovršene izgradnje\, zabavnog života\, do ratnih i poratnih godina.\n\nAutori izložbe su Ivan Lujo\, povjesničar i kustos Muzeja crvene povijesti i Krunoslav Šmit\, profesor na Arhitektonskom fakultetu u Zagrebu. Dizajn postava potpisuje Studio Bonsenjo.\n\nIzložba ostaje otvorena do početka prosinca.Pokrovitelji izložbe su: Grad Dubrovnik\, Ministarstvo kulture RH i Valamar.
URL:https://dubrovnik.today/event/izlozba-babin-kuk-planiranje-utopije-50-godina-od-izgradnje-hotelsko-turistickog-centra/
LOCATION:Muzej crvene povijesti\, Ulica Svetog Križa 3\, Dubrovnik\, Dubrovačko-neretvanska\, 20000\, Croatia
CATEGORIES:Music
ATTACH;FMTTYPE=image/jpeg:https://dubrovnik.today/wp-content/uploads/2025/10/561910977_1385058940290589_5235604758939907485_n.jpg
ORGANIZER;CN="Muzej crvene povijesti":MAILTO:info@redhistorymuseum.com
GEO:42.6591959;18.0871613
X-APPLE-STRUCTURED-LOCATION;VALUE=URI;X-ADDRESS=Muzej crvene povijesti Ulica Svetog Križa 3 Dubrovnik Dubrovačko-neretvanska 20000 Croatia;X-APPLE-RADIUS=500;X-TITLE=Ulica Svetog Križa 3:geo:18.0871613,42.6591959
END:VEVENT
BEGIN:VEVENT
DTSTART;TZID=Europe/Zagreb:20251110T190000
DTEND;TZID=Europe/Zagreb:20251111T200000
DTSTAMP:20260420T095254
CREATED:20251106T132149Z
LAST-MODIFIED:20251106T132149Z
UID:10007121-1762801200-1762891200@dubrovnik.today
SUMMARY:PARALELNE REALNOSTI: Maja Erdeljanin\, Stevan Kojić\, Ljiljana Maletin Vojvodić\, Dragan Vojvodić
DESCRIPTION:Hrvatsko društvo likovnih umjetnika Dubrovnik i Galerija Flora sa zadovoljstvom Vas pozivaju na otvorenje izložbe PARALELNE REALNOSTI: ̧Maja Erdeljanin\, Stevan Kojić\, Ljiljana Maletin Vojvodić\, Dragan Vojvodić koje će se održati u ponedjeljak 10.11. u 19 sati u Flori.\nIzložba i boravak umjetnika odvijaju se u sklopu Godišnjeg programa medijateke suvremenih umjetničkih praksi.\nIzložba se može pogledati u ponedjeljak i utorak\, 10.11. i 11.11.\, od 10 do 20 sati.\nRadujemo se Vašem dolasku i druženju u Flori.\nProgram Galerije Flora i Medijateke suvremenih umjetničkih praksi ostvaruje se uz financijsku potporu Grada Dubrovnika i Ministarstva kulture i medija RH\, kojima ovom prilikom zahvaljujemo na podršci.\nMedijski partner: Plan for Culture
URL:https://dubrovnik.today/event/paralelne-realnosti-maja-erdeljanin-stevan-kojic-ljiljana-maletin-vojvodic-dragan-vojvodic/
LOCATION:Galerija Flora\, Šetaliste kralja Zvonimira 32\, Dubrovnik\, Dubrovačko-neretvanska\, 20000\, Croatia
CATEGORIES:Exhibition
ATTACH;FMTTYPE=image/jpeg:https://dubrovnik.today/wp-content/uploads/2025/11/576168005_1333765961877132_5065145692645387932_n.jpg
ORGANIZER;CN="Galerija Flora":MAILTO:hdludubrovnik@gmail.com
GEO:42.656403;18.0745061
X-APPLE-STRUCTURED-LOCATION;VALUE=URI;X-ADDRESS=Galerija Flora Šetaliste kralja Zvonimira 32 Dubrovnik Dubrovačko-neretvanska 20000 Croatia;X-APPLE-RADIUS=500;X-TITLE=Šetaliste kralja Zvonimira 32:geo:18.0745061,42.656403
END:VEVENT
BEGIN:VEVENT
DTSTART;TZID=Europe/Zagreb:20251111T100000
DTEND;TZID=Europe/Zagreb:20251111T113000
DTSTAMP:20260420T095254
CREATED:20250709T155648Z
LAST-MODIFIED:20251104T072312Z
UID:10005343-1762855200-1762860600@dubrovnik.today
SUMMARY:BUMBAROVO LJETO
DESCRIPTION:Jedan bljesak s neba\, jedan tajni svjetionik – i ljeto se pretvara u najveću pustolovinu života! Djeci s otočića Trs ljeto je beskrajno monotono dok ne stigne Karlo\, gradski “šminker” bujne mašte. Njegov teleskop zabilježi tajanstveni bljesak na noćnom nebu\, pa povede ekipu – na čelu s ljubomornim Bumbarom – u noćnu potragu. Kod napuštenog svjetionika otkrivaju Chikua\, preplašenog dječaka iz Afrike\, i shvate da “meteorit” nije kamen s neba već krijumčarska nesreća na moru. Dok ih progoni Čovjek u crnom\, djeca sklanjaju Chikua i planiraju razotkriti mrežu trgovaca ljudima. Sukob kulminira kad Bumbar otkrije tko je zapravo taj prijeteći lik. Rastrgan između prijatelja i obitelji\, Bumbar staje uz ekipu; Chiku je spašen\, a krijumčar završava u zatvoru. Ljeto koje je prijetilo dosadom pretvara se u avanturu koja djecu zauvijek mijenja.
URL:https://dubrovnik.today/event/pula-u-gostima-bumbarovo-ljeto/
LOCATION:Kino Sloboda\, Luža 66\, Dubrovnik\, Dubrovačko-neretvanska\, 20000\, Croatia
CATEGORIES:Cinema
ATTACH;FMTTYPE=image/jpeg:https://dubrovnik.today/wp-content/uploads/2025/07/1080x1920_BUMBAROVO_LJETO_HR.jpg
ORGANIZER;CN="Kinematografi Dubrovnik":MAILTO:operater@kinematografi.org
GEO:42.6409105;18.1101717
X-APPLE-STRUCTURED-LOCATION;VALUE=URI;X-ADDRESS=Kino Sloboda Luža 66 Dubrovnik Dubrovačko-neretvanska 20000 Croatia;X-APPLE-RADIUS=500;X-TITLE=Luža 66:geo:18.1101717,42.6409105
END:VEVENT
BEGIN:VEVENT
DTSTART;TZID=Europe/Zagreb:20251111T163000
DTEND;TZID=Europe/Zagreb:20251111T180000
DTSTAMP:20260420T095254
CREATED:20251104T071637Z
LAST-MODIFIED:20251224T121539Z
UID:10007084-1762878600-1762884000@dubrovnik.today
SUMMARY:BOŽIĆNA MIŠOLOVKA / A Mouse Hunt for Christmas
DESCRIPTION:Obitelj miševa zauzeta je pripremama za blagdane u svom ugodnom seoskom domu – sve dok ne stigne prava gradska obitelj koja traži miran bijeg od svakodnevnog života. Ali ovi odlučni miševi neće odustati od svog prostora bez borbe! Nizom pametnih trikova – treperenjem svjetala\, misterioznim zvukovima grebanja i još mnogo toga – miševi započinju drzak obračun koji će vas natjerati da navijate za ove nestašne ‘štetočine’ do kraja!
URL:https://dubrovnik.today/event/bozicna-misolovka-a-mouse-hunt-for-christmas/2025-11-11/
LOCATION:Kino Sloboda\, Luža 66\, Dubrovnik\, Dubrovačko-neretvanska\, 20000\, Croatia
CATEGORIES:Cinema
ATTACH;FMTTYPE=image/jpeg:https://dubrovnik.today/wp-content/uploads/2025/11/MOUSE-HUNT-FOR-CHRISTMAS-1920x1080px-T-PORTAL-1.jpg
ORGANIZER;CN="Kinematografi Dubrovnik":MAILTO:operater@kinematografi.org
GEO:42.6409105;18.1101717
X-APPLE-STRUCTURED-LOCATION;VALUE=URI;X-ADDRESS=Kino Sloboda Luža 66 Dubrovnik Dubrovačko-neretvanska 20000 Croatia;X-APPLE-RADIUS=500;X-TITLE=Luža 66:geo:18.1101717,42.6409105
END:VEVENT
BEGIN:VEVENT
DTSTART;TZID=Europe/Zagreb:20251111T180000
DTEND;TZID=Europe/Zagreb:20251111T200000
DTSTAMP:20260420T095254
CREATED:20251014T074525Z
LAST-MODIFIED:20251014T074525Z
UID:10006832-1762884000-1762891200@dubrovnik.today
SUMMARY:Women's Bank božićna radionica crtanja 3D olovkom - Women's Bank Christmas 3D pen drawing workshop
DESCRIPTION:Ovaj put pripremili smo nešto novo – iako je tek početak studenoga\, nikad nije prerano za božićne pripreme! Women’s Bank božićna radionica crtanja 3D olovkom održat će se 11. studenoga u 18 sati u Centru za djecu\, mlade i obitelj Dubrovnik (Obala pape Ivana Pavla II 44a).Za članove i pratitelje Women’s Banka radionicu organiziraju Zajednice tehničke kulture Grada Dubrovnika i Dubrovačko-neretvanske županije te Informatički klub Futura.Iako je većina njihovih radionica inače namijenjena djeci i mladima\, ova je radionica osmišljena za odrasle – da se i oni malo zabave!Na radionici ćete\, pomoću plastike koja se zagrijava u 3D olovci i uz pomoć predložaka\, izrađivati božićne ukrase koje ćete moći zadržati i njima ukrasiti svoje domove. Pritom ćete razvijati kreativnost\, inovativnost i tehničke vještine!Sudjelovanje je besplatno\, no broj mjesta je ograničen\, stoga vas molimo da svoje mjesto rezervirate na vrijeme putem e-maila: dubrovnik@naistenpankki.fiDobrovoljne donacije Women’s Banku uvijek su dobrodošle i pomažu ženama diljem svijeta da izgrade bolju budućnost.\nThis time\, we’ve prepared something new – and even though it’s only the beginning of November\, it’s never too early for some Christmas preparations! The Women’s Bank Christmas 3D Pen Drawing Workshop will take place on November 11 at 6 PM at the Center for Children\, Youth\, and Families Dubrovnik (Obala pape Ivana Pavla II 44a).For Women’s Bank members and followers\, the workshop is organized by the City of Dubrovnik Association of Technical Culture\, Dubrovnik-Neretva county Association of Technical Culture and Informatics Club Futura.Although most of the workshops are usually intended for children and youth\, this one is designed for adults – so they can have some fun too!During the workshop\, you’ll use heated plastic and templates with a 3D pen to create Christmas decorations that you can keep to decorate your homes. At the same time\, you’ll be developing your creativity\, innovation\, and technical skills!Participation is free of charge\, but the number of spots is limited\, so please make sure to reserve your place in advance by emailing dubrovnik@naistenpankki.fi
URL:https://dubrovnik.today/event/womens-bank-bozicna-radionica-crtanja-3d-olovkom-womens-bank-christmas-3d-pen-drawing-workshop/
LOCATION:Centar za djecu\, mlade i obitelj Dubrovnik\, Obala Ivana Pavla II 44\, Dubrovnik\, Dubrovačko-neretvanska\, 20000\, Croatia
CATEGORIES:Workshop
ATTACH;FMTTYPE=image/jpeg:https://dubrovnik.today/wp-content/uploads/2025/10/564616333_1198993232254128_1116910589432732623_n.jpg
GEO:42.6632032;18.0833576
X-APPLE-STRUCTURED-LOCATION;VALUE=URI;X-ADDRESS=Centar za djecu mlade i obitelj Dubrovnik Obala Ivana Pavla II 44 Dubrovnik Dubrovačko-neretvanska 20000 Croatia;X-APPLE-RADIUS=500;X-TITLE=Obala Ivana Pavla II 44:geo:18.0833576,42.6632032
END:VEVENT
BEGIN:VEVENT
DTSTART;TZID=Europe/Zagreb:20251111T180000
DTEND;TZID=Europe/Zagreb:20251111T203000
DTSTAMP:20260420T095254
CREATED:20251104T071118Z
LAST-MODIFIED:20251104T071118Z
UID:10007073-1762884000-1762893000@dubrovnik.today
SUMMARY:260 DANA / 260 Days
DESCRIPTION:Temeljen na romanu koji se zasniva na istinitoj priči Marijana Gubine\, film prikazuje život desetogodišnjeg Marijana i njegove obitelji\, čiji miran i idiličan život iznenada biva razoren Domovinskim ratom. Sukob pustoši njihov mali grad Dalj\, a obitelj doživljava golemo izdaju od svojih najbližih prijatelja i susjeda. Nakon 260 dana zatočeništva i nezamislivog nasilja\, obitelj se odlučuje na hrabre poteze kako bi osigurala svoju slobodu\, stavljajući na kušnju svoju hrabrost i izdržljivost. Godinama kasnije\, u Marijanovu trgovinu ulazi čovjek koji u njemu ponovno budi sve uspomene koje je želio zaboraviti i prisiljava ga da ih proživi iznova. Unatoč golemim životnim patnjama\, Marijan nastavlja živjeti u oprostu\, uvijek tražeći pozitivno u budućnosti umjesto da se vraća i ostaje u prošlosti.
URL:https://dubrovnik.today/event/260-dana-260-days/2025-11-11/
LOCATION:Kino Sloboda\, Luža 66\, Dubrovnik\, Dubrovačko-neretvanska\, 20000\, Croatia
CATEGORIES:Cinema
ATTACH;FMTTYPE=image/jpeg:https://dubrovnik.today/wp-content/uploads/2025/11/56185_260_DAYS_KEY_ART_WHITE_05.09.2025-01-1.jpg
ORGANIZER;CN="Kinematografi Dubrovnik":MAILTO:operater@kinematografi.org
GEO:42.6409105;18.1101717
X-APPLE-STRUCTURED-LOCATION;VALUE=URI;X-ADDRESS=Kino Sloboda Luža 66 Dubrovnik Dubrovačko-neretvanska 20000 Croatia;X-APPLE-RADIUS=500;X-TITLE=Luža 66:geo:18.1101717,42.6409105
END:VEVENT
BEGIN:VEVENT
DTSTART;TZID=Europe/Zagreb:20251111T183000
DTEND;TZID=Europe/Zagreb:20251111T203000
DTSTAMP:20260420T095254
CREATED:20251029T114654Z
LAST-MODIFIED:20251104T071752Z
UID:10007086-1762885800-1762893000@dubrovnik.today
SUMMARY:GODIŠNJICA / Anniversary
DESCRIPTION:Obitelj Taylor s nestrpljenjem se priprema proslaviti godišnjicu braka\, ali veselje se pretvara u nemir kada upoznaju novu djevojku svog sina – Liz. Ono što u početku izgleda kao sretan susret uskoro prerasta u niz sukoba i sumnji\, jer Liz krije dublju povezanost s kontroverznim pokretom „Promjena”. Kako se ona sve više upliće u njihov život\, napetosti rastu\, a povjerenje i obiteljska povezanost počinju pucati. U razdoblju kada i cijela nacija stoji na rubu\, obitelj Taylor otkriva da ono što prijeti njihovoj sreći dolazi iznutra.
URL:https://dubrovnik.today/event/godisnjica-anniversary-2/2025-11-11/
LOCATION:Kino dvorana Visia\, Poljana Paska Miličevića 3\, Dubrovnik\, 20000\, Croatia
CATEGORIES:Cinema
ATTACH;FMTTYPE=image/jpeg:https://dubrovnik.today/wp-content/uploads/2025/10/FB_COVER_ANNIVERSARY_HR.jpg
ORGANIZER;CN="Kinematografi Dubrovnik":MAILTO:operater@kinematografi.org
GEO:42.6414431;18.1071797
X-APPLE-STRUCTURED-LOCATION;VALUE=URI;X-ADDRESS=Kino dvorana Visia Poljana Paska Miličevića 3 Dubrovnik 20000 Croatia;X-APPLE-RADIUS=500;X-TITLE=Poljana Paska Miličevića 3:geo:18.1071797,42.6414431
END:VEVENT
BEGIN:VEVENT
DTSTART;TZID=Europe/Zagreb:20251111T200000
DTEND;TZID=Europe/Zagreb:20251111T200000
DTSTAMP:20260420T095254
CREATED:20241212T103930Z
LAST-MODIFIED:20251017T065259Z
UID:10002928-1762891200-1762891200@dubrovnik.today
SUMMARY:Mare Fjočica
DESCRIPTION:Komediju Josipa Lovrića “Mare Fjočica” u izvedbi Kazališne družine Kolarin režirao je Paolo Tišljarić! Maru Fjočicu autor je napisao potkraj sedamdesetih\, a u teatru se izvodila početkom osamdesetih. Privukla je velik interes pa je njezin odjek uspoređivan sa Stullijevom Katom Kapuralicom. Zato je 1983. g. snimljena i za državnu televiziju\, u posebnoj inačici\, kao još jedan komad dubrovačkoga ambijentalnog teatra – u Pilama. \nViše je puta zadnjih godina reprizirana na HTV-u pa su je mogli vidjeti i mlađi naraštaji. Lovrić je uvijek naglašavao kako drama kao forma valja biti pisana prvenstveno za čitanje\, a uprizorenje joj može biti samo dodatan ostvarenje. Vjerojatno se iz toga razloga dramske dionice u Mari Fjočici nižu bez oznake o tome tko ih izgovara.
URL:https://dubrovnik.today/event/mare-fjocica/
LOCATION:Kazalište Marina Držića\, Pred Dvorom 3\, Dubrovnik\, 20000\, Croatia
CATEGORIES:Theatre
ATTACH;FMTTYPE=image/jpeg:https://dubrovnik.today/wp-content/uploads/2024/12/15700757375201979042.jpg
ORGANIZER;CN="Kolarin kazali%C5%A1na dru%C5%BEina Dubrovnik":MAILTO:info@kolarin.hr
GEO:42.6403741;18.1107474
X-APPLE-STRUCTURED-LOCATION;VALUE=URI;X-ADDRESS=Kazalište Marina Držića Pred Dvorom 3 Dubrovnik 20000 Croatia;X-APPLE-RADIUS=500;X-TITLE=Pred Dvorom 3:geo:18.1107474,42.6403741
END:VEVENT
BEGIN:VEVENT
DTSTART;TZID=Europe/Zagreb:20251111T200000
DTEND;TZID=Europe/Zagreb:20251111T230000
DTSTAMP:20260420T095254
CREATED:20251104T062210Z
LAST-MODIFIED:20251104T062210Z
UID:10007046-1762891200-1762902000@dubrovnik.today
SUMMARY:Delumbija_diy presents: Mučin - koncert plus punk slušaonica
DESCRIPTION: EVENT OO1\nM U Č I N\nBend je nastao 2024. godine od ekipe sa ozbiljnim stažom kroz bendove Punkreas\, MKZP i Gnar. U Mučinu su se odlučili za cold Oi! post-punk pravac inspririran (sirovim) britanskim i francuskim (melodičnijim) Oi! zvukom uz dozu post-punk “hladnije” atmosfere.\nDo sada imaju 2 EP izdanja\, DIY snimljena i izdana za Geenger Records.\nhttps://muchin.bandcamp.com\nSvirkom u Dubrovniku koju će snimiti i krajem godine izdati kao live album počinju regionalnu turneju koju nastavljaju u Zadru\, Zagrebu i završavaju na To be Punk festivalu u Novom Sadu.\nUtorak 11.11.2025Udruga mladih OrlandoUlaz besplatan. Nema šanka.Bring your own booze.\nOvo je prvi event ekipe delumbija_diy koja će nastaviti raditi svirke\, upratite ih na https://www.instagram.com/delumbija_diy_dubrovnik
URL:https://dubrovnik.today/event/delumbija_diy-presents-mucin-koncert-plus-punk-slusaonica/
LOCATION:Udruga mladih Orlando\, Ulica branitelja Dubrovnika 41\, Dubrovnik\, Dubrovačko-neretvanska\, 20 000\, Croatia
CATEGORIES:Music
ATTACH;FMTTYPE=image/jpeg:https://dubrovnik.today/wp-content/uploads/2025/11/575110815_1413395984124892_1932824989539296251_n.jpg
ORGANIZER;CN="Udruga mladih Orlando":MAILTO:udruga.orlando@gmail.com
GEO:42.6440539;18.1008489
X-APPLE-STRUCTURED-LOCATION;VALUE=URI;X-ADDRESS=Udruga mladih Orlando Ulica branitelja Dubrovnika 41 Dubrovnik Dubrovačko-neretvanska 20 000 Croatia;X-APPLE-RADIUS=500;X-TITLE=Ulica branitelja Dubrovnika 41:geo:18.1008489,42.6440539
END:VEVENT
BEGIN:VEVENT
DTSTART;TZID=Europe/Zagreb:20251111T203000
DTEND;TZID=Europe/Zagreb:20251111T223000
DTSTAMP:20260420T095254
CREATED:20251104T071322Z
LAST-MODIFIED:20251113T073414Z
UID:10007076-1762893000-1762900200@dubrovnik.today
SUMMARY:PREDATOR : BADLANDS
DESCRIPTION:Od vizionarskog redatelja Dana Trachtenberga (Prey) stiže „Predator: Badlands“\, novo poglavlje kultne franšize. \nU dalekoj budućnosti\, na negostoljubivom planetu na rubu poznatog svemira\, izopćeni mladi Predator pronalazi neočekivanu saveznicu u hrabroj Thii. Udruženi protiv zajedničke sudbine\, kreću na opasno putovanje kroz pustoš Badlandsa u potrazi za konačnim protivnikom – onim koji će im promijeniti živote i zauvijek obilježiti galaksiju.
URL:https://dubrovnik.today/event/predator-badlands/2025-11-11/
LOCATION:Kino dvorana Visia\, Poljana Paska Miličevića 3\, Dubrovnik\, 20000\, Croatia
CATEGORIES:Cinema
ATTACH;FMTTYPE=image/jpeg:https://dubrovnik.today/wp-content/uploads/2025/11/FB_cover_PREDATOR_BADLANDS_HR.jpg
ORGANIZER;CN="Kinematografi Dubrovnik":MAILTO:operater@kinematografi.org
GEO:42.6414431;18.1071797
X-APPLE-STRUCTURED-LOCATION;VALUE=URI;X-ADDRESS=Kino dvorana Visia Poljana Paska Miličevića 3 Dubrovnik 20000 Croatia;X-APPLE-RADIUS=500;X-TITLE=Poljana Paska Miličevića 3:geo:18.1071797,42.6414431
END:VEVENT
END:VCALENDAR