BEGIN:VCALENDAR
VERSION:2.0
PRODID:-//dbk.life - ECPv6.15.12//NONSGML v1.0//EN
CALSCALE:GREGORIAN
METHOD:PUBLISH
X-WR-CALNAME:dbk.life
X-ORIGINAL-URL:https://dubrovnik.today
X-WR-CALDESC:Events for dbk.life
REFRESH-INTERVAL;VALUE=DURATION:PT1H
X-Robots-Tag:noindex
X-PUBLISHED-TTL:PT1H
BEGIN:VTIMEZONE
TZID:Europe/Zagreb
BEGIN:DAYLIGHT
TZOFFSETFROM:+0100
TZOFFSETTO:+0200
TZNAME:CEST
DTSTART:20240331T010000
END:DAYLIGHT
BEGIN:STANDARD
TZOFFSETFROM:+0200
TZOFFSETTO:+0100
TZNAME:CET
DTSTART:20241027T010000
END:STANDARD
BEGIN:DAYLIGHT
TZOFFSETFROM:+0100
TZOFFSETTO:+0200
TZNAME:CEST
DTSTART:20250330T010000
END:DAYLIGHT
BEGIN:STANDARD
TZOFFSETFROM:+0200
TZOFFSETTO:+0100
TZNAME:CET
DTSTART:20251026T010000
END:STANDARD
BEGIN:DAYLIGHT
TZOFFSETFROM:+0100
TZOFFSETTO:+0200
TZNAME:CEST
DTSTART:20260329T010000
END:DAYLIGHT
BEGIN:STANDARD
TZOFFSETFROM:+0200
TZOFFSETTO:+0100
TZNAME:CET
DTSTART:20261025T010000
END:STANDARD
END:VTIMEZONE
BEGIN:VEVENT
DTSTART;TZID=Europe/Zagreb:20251030T193000
DTEND;TZID=Europe/Zagreb:20251130T170000
DTSTAMP:20260420T062906
CREATED:20251017T052727Z
LAST-MODIFIED:20251017T052727Z
UID:10006853-1761852600-1764522000@dubrovnik.today
SUMMARY:Izložba: BABIN KUK - PLANIRANJE UTOPIJE: 50 godina od izgradnje hotelsko-turističkog centra
DESCRIPTION:U četvrtak 30.10. otvaramo izložbu posvećenu planiranju\, izgradnji i djelovanju Hotelsko-turističkog centra Babin Kuk. Lapadsku Dubravu zamislili su i projektirali brojni domaći i strani stručnjaci\, na izgradnji je sudjelovalo i preko tri tisuće radnika i inženjera istovremeno\, a njeno otvaranje u lipnju 1976. oblikovalo zabavni i društveni život Grada. Postala je mjesto susreta Dubrovčana i njihovih gostiju\, koji su u njenim hotelima\, restoranima\, barovima\, šetnicama i parkovima zajednički stvarali uspomene za cijeli život.\n\nNa izložbi će kroz tekstove\, fotografije\, novinske članke i predmete biti predstavljena polustoljetna povijest ovog prostora\, oblikovanog za najveću kvalitetu i iskoristivost: od projektiranja\, nikad dovršene izgradnje\, zabavnog života\, do ratnih i poratnih godina.\n\nAutori izložbe su Ivan Lujo\, povjesničar i kustos Muzeja crvene povijesti i Krunoslav Šmit\, profesor na Arhitektonskom fakultetu u Zagrebu. Dizajn postava potpisuje Studio Bonsenjo.\n\nIzložba ostaje otvorena do početka prosinca.Pokrovitelji izložbe su: Grad Dubrovnik\, Ministarstvo kulture RH i Valamar.
URL:https://dubrovnik.today/event/izlozba-babin-kuk-planiranje-utopije-50-godina-od-izgradnje-hotelsko-turistickog-centra/
LOCATION:Muzej crvene povijesti\, Ulica Svetog Križa 3\, Dubrovnik\, Dubrovačko-neretvanska\, 20000\, Croatia
CATEGORIES:Music
ATTACH;FMTTYPE=image/jpeg:https://dubrovnik.today/wp-content/uploads/2025/10/561910977_1385058940290589_5235604758939907485_n.jpg
ORGANIZER;CN="Muzej crvene povijesti":MAILTO:info@redhistorymuseum.com
GEO:42.6591959;18.0871613
X-APPLE-STRUCTURED-LOCATION;VALUE=URI;X-ADDRESS=Muzej crvene povijesti Ulica Svetog Križa 3 Dubrovnik Dubrovačko-neretvanska 20000 Croatia;X-APPLE-RADIUS=500;X-TITLE=Ulica Svetog Križa 3:geo:18.0871613,42.6591959
END:VEVENT
BEGIN:VEVENT
DTSTART;TZID=Europe/Zagreb:20251107T170000
DTEND;TZID=Europe/Zagreb:20251109T200000
DTSTAMP:20260420T062906
CREATED:20251104T075406Z
LAST-MODIFIED:20251104T075406Z
UID:10007113-1762534800-1762718400@dubrovnik.today
SUMMARY:Izložba „Alternate Take“
DESCRIPTION:U sklopu 5. izdanja Dubrovnik Jazz Outbreaka\, od 7. do 9. studenog u Lazaretima\, učenici trećeg razreda Slikarskog odjela Umjetničke škole Luke Sorkočevića predstavljaju izložbu radova pod nazivom „Alternate Take“. \n\n\nInspirirani jazz velikanima poput Billie Holiday\, Johna Coltranea\, Diane Krall i drugih\, učenici su stvarali vlastite prijedloge plakata za ovaj festival\, istražujući odnos slike i zvuka kroz različite slikarske i grafičke tehnike.\n\n\nNaziv „Alternate Take“\, preuzet iz jazza\, označava varijaciju — novi pogled\, novu interpretaciju iste teme. Upravo to su ovi mladi autori i postigli: svjež\, osoban i kreativan pogled na vizualni identitet festivala.\n\n\n Svoje radove predstavljaju:\nKarla Bačić\, Hana Dedović\, Rita Erak\, Nika Kralj\, Božidar Margić\, Nika Matana\, Nikoleta Milošević\, Anamarija Nadilo\, Marta Njirić\, Ines Obad\, Lara Radetić\, Lucija Salatić i Petar Tepšić.\n\n\n Tijekom sva tri dana festivala\, svi posjetitelji moći će razgledati ove hvalevrijedne radove i doživjeti kako jazz nadahnjuje mladu generaciju umjetnika.\n\n\nENGLISH \n\n\n As part of the 5th edition of the Dubrovnik Jazz Outbreak Festival\, third-year students of the Painting Department at the Luka Sorkočević Art School present an exhibition titled “Alternate Take.” \n\n\nInspired by jazz legends such as Billie Holiday\, John Coltrane\, Diane Krall and others\, the students created their own poster designs for the Festival\, exploring the connection between image and sound through various painting and graphic techniques.\n\n\nThe title “Alternate Take\,” borrowed from jazz terminology\, represents a variation — a new perspective\, a fresh interpretation of the same theme.\nThat is precisely what these young artists have achieved: a vivid\, personal\, and creative take on the festival’s visual identity.\n\n\n Featured artists:\nKarla Bačić\, Hana Dedović\, Rita Erak\, Nika Kralj\, Božidar Margić\, Nika Matana\, Nikoleta Milošević\, Anamarija Nadilo\, Marta Njirić\, Ines Obad\, Lara Radetić\, Lucija Salatić\, and Petar Tepšić.\n\n\n Throughout all three festival days\, visitors will be able to view these remarkable works and experience how jazz continues to inspire a new generation of young artists.
URL:https://dubrovnik.today/event/izlozba-alternate-take/
LOCATION:Lazareti\, Ulica Frana Supila 8\, Dubrovnik\, Dubrovačko-neretvanska\, 20000\, Croatia
CATEGORIES:Exhibition
ATTACH;FMTTYPE=image/jpeg:https://dubrovnik.today/wp-content/uploads/2025/11/573523374_17866392969476120_1594628914287588346_n.jpg
ORGANIZER;CN="Dubrovnik Jazz Outbreak":MAILTO:https://www.facebook.com/profile.php?id=61576002503261
GEO:42.6416755;18.1145855
X-APPLE-STRUCTURED-LOCATION;VALUE=URI;X-ADDRESS=Lazareti Ulica Frana Supila 8 Dubrovnik Dubrovačko-neretvanska 20000 Croatia;X-APPLE-RADIUS=500;X-TITLE=Ulica Frana Supila 8:geo:18.1145855,42.6416755
END:VEVENT
BEGIN:VEVENT
DTSTART;TZID=Europe/Zagreb:20251107T180000
DTEND;TZID=Europe/Zagreb:20251109T170000
DTSTAMP:20260420T062906
CREATED:20251017T072035Z
LAST-MODIFIED:20251017T072035Z
UID:10006903-1762538400-1762707600@dubrovnik.today
SUMMARY:Glazbeni skup 2025
DESCRIPTION:Treće izdanje Glazbenog skupa\, boutique glazbene konferencije posvećene razmjeni znanja\, inovacijama i talentu\, održat će se 8. i 9. studenoga 2025. na prepoznatljivim dubrovačkim lokacijama – Sveučilištu u Dubrovniku i Centru za mlade\, djecu i obitelj.\nOve godine Dubrovnik ponovno okuplja profesionalce i entuzijaste iz svijeta glazbe\, s posebnim fokusom na kreativnu produkciju\, suvremenu elektronsku glazbu i inovativne načine suradnje.\nSudionici su : Ivan Komlinović\, Filip Motovunski\, Igor Burzan\, Robert Napholtz\, Ivica Simatović\, Haris Čustović – čija iskustva i vještine jamče uvid u nove trendove i tehnike suvremene glazbe.\nU dinamičnom vikend-programu sudionike očekuju:\n7.11. od 18.00. Otvaranje Glazbenog Skupa. Druženje i showcase nastup polaznika DJ Radionice u Centru za mlade\, djecu i obitelj.\n8.11. 10.00. – 11.30. – Panel rasprava na Sveučilištu u Dubrovniku o transformacijama industrije i budućnosti kreativnog izražavanja.\n8.11. od 13.00. Masterclass radionice u Centru za mlade: od masteringa (Filip Motovunski)\, produkcije elektronske plesne glazbe (Ivan Komlinović)\, produkcije Hip Hop-a i dizajna zvuka (Igor Burzan)\, rada sa glazbenicima i snimanje instrumenata uživo (Robert Nappholtz)\, do studijske produkcije hitova (Ivica Simatović).\nAfterparty za sudionike i goste na ekskluzivnoj lokaciji TBA (subota navečer).\n9.11. – privatni studio session (samo sa pozivnicom)\nUlaz na sve programe je uz registraciju slobodan.\nDogadjaj je osmišljen kao platforma za susrete\, razmjenu ideja i inspiraciju – mjesto gdje se susreću glazbena struka\, nova generacija stvaratelja i svi koji vjeruju u snagu zajedničkog stvaranja.\nGlazbeni skup je kroz dosadašnja izdanja okupio respektabilna imena glazbene\, produkcijske i edukativne scene\, te uspješno nadograđuje most između lokalne i međunarodne zajednice.Program je obuhvatio tematske rasprave o izazovima glazbenika izvan urbanih centara\, mentalnom zdravlju\, DIY produkciji te transformaciji tehnologije u praksi\, uz angažman stručnjaka s bogatim međunarodnim iskustvom.\nOrganizator Glazbenog skupa je udruga AVAL u suradnji sa Zajednicom Tehničke Kulture Grada Dubrovnika\, uz potporu Turističke Zajednice i Grada Dubrovnika.\nZa prijedloge\, kao i za mogućnosti volontiranja ili medijskog praćenja\, kontaktirajte nas na:  avaludruga@gmail.com\nGlazbeni skup 2025 je mjesto susreta znanja\, iskustva i inspiracije – pridruži se i postani dio glazbene budućnosti jugoistočne Europe.
URL:https://dubrovnik.today/event/glazbeni-skup-2025/
LOCATION:Sveučilište u Dubrovniku\, Branitelja Dubrovnika 29\, Dubrovnik\, Dubrovačko-neretvanska\, 20000\, Croatia
CATEGORIES:Lecture,Music,Workshop
ATTACH;FMTTYPE=image/jpeg:https://dubrovnik.today/wp-content/uploads/2025/10/550218880_122180482562568366_4105274952320947613_n.jpg
ORGANIZER;CN="AVAL udruga":MAILTO:avaludruga@gmail.com
GEO:42.643515;18.1020806
X-APPLE-STRUCTURED-LOCATION;VALUE=URI;X-ADDRESS=Sveučilište u Dubrovniku Branitelja Dubrovnika 29 Dubrovnik Dubrovačko-neretvanska 20000 Croatia;X-APPLE-RADIUS=500;X-TITLE=Branitelja Dubrovnika 29:geo:18.1020806,42.643515
END:VEVENT
BEGIN:VEVENT
DTSTART;TZID=Europe/Zagreb:20251109T100000
DTEND;TZID=Europe/Zagreb:20251109T120000
DTSTAMP:20260420T062906
CREATED:20251104T064127Z
LAST-MODIFIED:20251104T064127Z
UID:10007060-1762682400-1762689600@dubrovnik.today
SUMMARY:DUBROVAČKA ŠAHOVSKA JESEN MLADIH 2025.
DESCRIPTION:[RASPIS CIKLUSA ŠAHOVSKIH TURNIRA ZA MLADE]\n\n\n DUBROVAČKA ŠAHOVSKA JESEN MLADIH 2025.\n Dubrovnik\, Liechtensteinov put 12\n Pravo nastupa: igračice i igrači U18 i mlađi\n\n\n Turnir I – petak\, 7. studenoga 2025.\n Početak u 17:00 sati\n Broj kola: 9\n Tempo igre: 5’+3″\n\n\n\n Turnir II – nedjelja\, 9. studenoga 2025.\n Početak u 10:00 sati\n Broj kola: 7\n Tempo igre: 15’+10″\n\n\n Službeni raspis ciklusa: dostupan na web stranici Šahovskog kluba Dubrovnik\n Informacije i predprijave: leonardo.jerkovic@gmail.com\n\n\n#chess #chessgame #chessclub #chesslife #dubrovnik #croatia
URL:https://dubrovnik.today/event/dubrovacka-sahovska-jesen-mladih-2025/2025-11-09/
LOCATION:Šahovski klub Dubrovnik\, Liechensteinov put 12\, Dubrovnik\, Dubrovačko-neretvanska\, 20000\, Croatia
CATEGORIES:Sport
ATTACH;FMTTYPE=image/jpeg:https://dubrovnik.today/wp-content/uploads/2025/11/573688955_17850526518582923_7506847817879146950_n.jpg
ORGANIZER;CN="%C5%A0ahovski klub Dubrovnik":MAILTO:skdubrovnik@skdubrovnik.hr
GEO:42.6466395;18.0870519
X-APPLE-STRUCTURED-LOCATION;VALUE=URI;X-ADDRESS=Šahovski klub Dubrovnik Liechensteinov put 12 Dubrovnik Dubrovačko-neretvanska 20000 Croatia;X-APPLE-RADIUS=500;X-TITLE=Liechensteinov put 12:geo:18.0870519,42.6466395
END:VEVENT
BEGIN:VEVENT
DTSTART;TZID=Europe/Zagreb:20251109T143000
DTEND;TZID=Europe/Zagreb:20251109T160000
DTSTAMP:20260420T062906
CREATED:20251104T070733Z
LAST-MODIFIED:20251126T133937Z
UID:10007064-1762698600-1762704000@dubrovnik.today
SUMMARY:DRUGI DNEVNIK PAULINE P.
DESCRIPTION:Omiljena junakinja iz školskih klupa vraća se u filmu Drugi dnevnik Pauline P.\, a nastavak hit filma donosi još više emocija i iskrenih trenutaka iz života jedne (ne tako male) djevojčice. \nNaša junakinja sada ima već jedanaest godina! Iako joj odrasli govore da joj je ovo „najbolji dio života“\, Paulini se uopće ne čini tako. U petom razredu dočekat će je profesorica Mirković\, stroga nastavnica geografije\, kao i Marta iz 5.D\, Paulinin prvi bully. Uskoro će otkriti i da njezina draga baka boluje od neizlječive bolesti. U borbi s nevoljama Paulina će se još jednom poslužiti šarmom i bujnom maštom\, i izvući jednu vrijednu pouku–da se život ne sastoji samo od pobjeda.
URL:https://dubrovnik.today/event/drugi-dnevnik-pauline-p/2025-11-09/
LOCATION:Kino Sloboda\, Luža 66\, Dubrovnik\, Dubrovačko-neretvanska\, 20000\, Croatia
CATEGORIES:Cinema
ATTACH;FMTTYPE=image/jpeg:https://dubrovnik.today/wp-content/uploads/2025/11/DDPP_1920x600.jpg
ORGANIZER;CN="Kinematografi Dubrovnik":MAILTO:operater@kinematografi.org
GEO:42.6409105;18.1101717
X-APPLE-STRUCTURED-LOCATION;VALUE=URI;X-ADDRESS=Kino Sloboda Luža 66 Dubrovnik Dubrovačko-neretvanska 20000 Croatia;X-APPLE-RADIUS=500;X-TITLE=Luža 66:geo:18.1101717,42.6409105
END:VEVENT
BEGIN:VEVENT
DTSTART;TZID=Europe/Zagreb:20251109T160000
DTEND;TZID=Europe/Zagreb:20251109T190000
DTSTAMP:20260420T062906
CREATED:20251029T112903Z
LAST-MODIFIED:20251029T112903Z
UID:10006992-1762704000-1762714800@dubrovnik.today
SUMMARY:Dani otvorenih vrata @ Aquarium Dubrovnik
DESCRIPTION:U sklopu jubilarnog 5. izdanja festivala svjetla LUMIART suradnjom se uključio Aquarium Dubrovnik uz Dane otvorenih vrata! 7. studenog od 16h do 22h\, a potom 8. i 9. studenog u terminima od 16h do 19h.\n\n\nOvo vrijedno partnerstvo između Akvarija i organizatora Dubrovnik Tourist Board: Experience Dubrovnik i Pixel Design uz podršku Grad Dubrovnik posjetiteljima će se predstaviti inovativan program!\n\n\nRiječ je o multimedijskoj zvučnoj instalaciji “Zvuk soli” autorice Vane Gaćine koja će pružiti interaktivno iskustvo za sve posjetitelje Akvarija.\n\n\nZvuk soli nas uči da tehnologija ne mora biti sterilna\, da znanost ne mora biti udaljena\, te da umjetnost ne mora biti isključivo apstraktna i odvojena. U trenutku kada LED dioda zatreperi\, nepredvidivo\, jedva primjetno – tamo gdje se sol i voda sretnu u metalu događa se poetski čin.
URL:https://dubrovnik.today/event/dani-otvorenih-vrata-aquarium-dubrovnik/2025-11-09/
LOCATION:Aquarium Dubrovnik\, Damjana Jude 12\, Dubrovnik\, Dubrovačko-neretvanska\, 20000\, Croatia
CATEGORIES:Exhibition
ATTACH;FMTTYPE=image/jpeg:https://dubrovnik.today/wp-content/uploads/2025/10/571024590_808206028764571_7313018179744375396_n.jpg
ORGANIZER;CN="Lumiart Dubrovnik - Light Festival":MAILTO:https://www.facebook.com/lumiartdubrovnik
GEO:42.639922;18.1123852
X-APPLE-STRUCTURED-LOCATION;VALUE=URI;X-ADDRESS=Aquarium Dubrovnik Damjana Jude 12 Dubrovnik Dubrovačko-neretvanska 20000 Croatia;X-APPLE-RADIUS=500;X-TITLE=Damjana Jude 12:geo:18.1123852,42.639922
END:VEVENT
BEGIN:VEVENT
DTSTART;TZID=Europe/Zagreb:20251109T163000
DTEND;TZID=Europe/Zagreb:20251109T180000
DTSTAMP:20260420T062906
CREATED:20251104T071637Z
LAST-MODIFIED:20251224T121539Z
UID:10007083-1762705800-1762711200@dubrovnik.today
SUMMARY:BOŽIĆNA MIŠOLOVKA / A Mouse Hunt for Christmas
DESCRIPTION:Obitelj miševa zauzeta je pripremama za blagdane u svom ugodnom seoskom domu – sve dok ne stigne prava gradska obitelj koja traži miran bijeg od svakodnevnog života. Ali ovi odlučni miševi neće odustati od svog prostora bez borbe! Nizom pametnih trikova – treperenjem svjetala\, misterioznim zvukovima grebanja i još mnogo toga – miševi započinju drzak obračun koji će vas natjerati da navijate za ove nestašne ‘štetočine’ do kraja!
URL:https://dubrovnik.today/event/bozicna-misolovka-a-mouse-hunt-for-christmas/2025-11-09/
LOCATION:Kino Sloboda\, Luža 66\, Dubrovnik\, Dubrovačko-neretvanska\, 20000\, Croatia
CATEGORIES:Cinema
ATTACH;FMTTYPE=image/jpeg:https://dubrovnik.today/wp-content/uploads/2025/11/MOUSE-HUNT-FOR-CHRISTMAS-1920x1080px-T-PORTAL-1.jpg
ORGANIZER;CN="Kinematografi Dubrovnik":MAILTO:operater@kinematografi.org
GEO:42.6409105;18.1101717
X-APPLE-STRUCTURED-LOCATION;VALUE=URI;X-ADDRESS=Kino Sloboda Luža 66 Dubrovnik Dubrovačko-neretvanska 20000 Croatia;X-APPLE-RADIUS=500;X-TITLE=Luža 66:geo:18.1101717,42.6409105
END:VEVENT
BEGIN:VEVENT
DTSTART;TZID=Europe/Zagreb:20251109T180000
DTEND;TZID=Europe/Zagreb:20251109T200000
DTSTAMP:20260420T062906
CREATED:20251022T053503Z
LAST-MODIFIED:20251104T072035Z
UID:10007090-1762711200-1762718400@dubrovnik.today
SUMMARY:TESTAMENT ( Amanet 2 )
DESCRIPTION:Testament je duhovita i emotivna priča smještena u bosansko selo i industrijsku Zenicu početkom devedesetih\, koja na svojstven način prikazuje važnost testamenta i posljedice njegovog nepostojanja u lokalnoj kulturi. Kroz živote običnih ljudi\, film donosi niz malih sukoba i nesporazuma oko imovine\, tradicije i međuljudskih odnosa\, gdje se stari običaji sudaraju sa stvarnošću punom ljudskih slabosti – kocke\, tračeva\, ljubavi i sitnih krađa. \nGlavni lik Asad\, nakon što ostaje bez očevog nasljedstva\, mora se snaći u svijetu industrijske Zenice\, kafane i svakodnevnih seoskih problema u čemu mu pomaže najbolji prijatelj Dževad\, šarmantni lik\, koji se suočava s vlastitim problemima i uvijek traži prečicu do rješenja.
URL:https://dubrovnik.today/event/testament-amanet-2/2025-11-09/
LOCATION:Kino dvorana Visia\, Poljana Paska Miličevića 3\, Dubrovnik\, 20000\, Croatia
CATEGORIES:Cinema
ATTACH;FMTTYPE=image/jpeg:https://dubrovnik.today/wp-content/uploads/2025/10/TESTAMENT-1920x1080px-T-PORTAL.jpg
ORGANIZER;CN="Kinematografi Dubrovnik":MAILTO:operater@kinematografi.org
GEO:42.6414431;18.1071797
X-APPLE-STRUCTURED-LOCATION;VALUE=URI;X-ADDRESS=Kino dvorana Visia Poljana Paska Miličevića 3 Dubrovnik 20000 Croatia;X-APPLE-RADIUS=500;X-TITLE=Poljana Paska Miličevića 3:geo:18.1071797,42.6414431
END:VEVENT
BEGIN:VEVENT
DTSTART;TZID=Europe/Zagreb:20251109T180000
DTEND;TZID=Europe/Zagreb:20251109T203000
DTSTAMP:20260420T062906
CREATED:20251104T071118Z
LAST-MODIFIED:20251104T071118Z
UID:10007071-1762711200-1762720200@dubrovnik.today
SUMMARY:260 DANA / 260 Days
DESCRIPTION:Temeljen na romanu koji se zasniva na istinitoj priči Marijana Gubine\, film prikazuje život desetogodišnjeg Marijana i njegove obitelji\, čiji miran i idiličan život iznenada biva razoren Domovinskim ratom. Sukob pustoši njihov mali grad Dalj\, a obitelj doživljava golemo izdaju od svojih najbližih prijatelja i susjeda. Nakon 260 dana zatočeništva i nezamislivog nasilja\, obitelj se odlučuje na hrabre poteze kako bi osigurala svoju slobodu\, stavljajući na kušnju svoju hrabrost i izdržljivost. Godinama kasnije\, u Marijanovu trgovinu ulazi čovjek koji u njemu ponovno budi sve uspomene koje je želio zaboraviti i prisiljava ga da ih proživi iznova. Unatoč golemim životnim patnjama\, Marijan nastavlja živjeti u oprostu\, uvijek tražeći pozitivno u budućnosti umjesto da se vraća i ostaje u prošlosti.
URL:https://dubrovnik.today/event/260-dana-260-days/2025-11-09/
LOCATION:Kino Sloboda\, Luža 66\, Dubrovnik\, Dubrovačko-neretvanska\, 20000\, Croatia
CATEGORIES:Cinema
ATTACH;FMTTYPE=image/jpeg:https://dubrovnik.today/wp-content/uploads/2025/11/56185_260_DAYS_KEY_ART_WHITE_05.09.2025-01-1.jpg
ORGANIZER;CN="Kinematografi Dubrovnik":MAILTO:operater@kinematografi.org
GEO:42.6409105;18.1101717
X-APPLE-STRUCTURED-LOCATION;VALUE=URI;X-ADDRESS=Kino Sloboda Luža 66 Dubrovnik Dubrovačko-neretvanska 20000 Croatia;X-APPLE-RADIUS=500;X-TITLE=Luža 66:geo:18.1101717,42.6409105
END:VEVENT
BEGIN:VEVENT
DTSTART;TZID=Europe/Zagreb:20251109T180000
DTEND;TZID=Europe/Zagreb:20251109T230000
DTSTAMP:20260420T062906
CREATED:20251029T113147Z
LAST-MODIFIED:20251029T113147Z
UID:10006995-1762711200-1762729200@dubrovnik.today
SUMMARY:Lumiart Dubrovnik 2025
DESCRIPTION:Trodnevni program ovu godinu obilježava se u simbolu mora\, a održat će se od 7. do 9. studenoga 2025. u večernjim satima od 18h do 23h.\n\n\n“Podmorski Grad” će zablistati raznim umjetničkim projekcijama i 3D mappingom na svakom koraku dubrovačke stare gradske jezgre i šire.\n\n\nRaznovrsne svjetlosne i zvučne instalacije svjetski priznatih multimedijalnih umjetnika će pretvoriti grad u podmorsku oazu koja spaja povijest\, znanost i budućnost!\n\n\nZa više informacija i sve buduće detalje o programu\, posjetite službenu web stranicu: http://www.lumiart-dubrovnik.com\n\n\nInternational Light Festivals Organisation
URL:https://dubrovnik.today/event/lumiart-dubrovnik-2025/2025-11-09/
LOCATION:Dubrovnik\, Dubrovnik\, Dubrovačko-neretvanska\, 20000\, Croatia
CATEGORIES:Exhibition
ATTACH;FMTTYPE=image/jpeg:https://dubrovnik.today/wp-content/uploads/2025/10/537915367_754478817470626_5386039578123277057_n.jpg
ORGANIZER;CN="Lumiart Dubrovnik - Light Festival":MAILTO:https://www.facebook.com/lumiartdubrovnik
GEO:42.6586378;18.1013637
END:VEVENT
BEGIN:VEVENT
DTSTART;TZID=Europe/Zagreb:20251109T200000
DTEND;TZID=Europe/Zagreb:20251109T230000
DTSTAMP:20260420T062906
CREATED:20251029T112412Z
LAST-MODIFIED:20251029T112412Z
UID:10006989-1762718400-1762729200@dubrovnik.today
SUMMARY:Dubrovnik Jazz Outbreak Festival 2025
DESCRIPTION: Od 7. do 9. studenog\, povijesni Lazareti postaju središte svjetske glazbe — tri dana vrhunskih koncerata\, svjetlosnih instalacija i umjetničkih programa koji donose novu energiju u jesenski Dubrovnik.\nOvogodišnje\, peto izdanje Dubrovnik Jazz Outbreak Festivala\, donosi suradnje s legendarnim Monterey Jazz Festivalom — najdugovječnijim jazz festivalom na svijetu (osnovanim 1958. u Kaliforniji) — i Austrijskim kulturnim forumom\, uz podršku Grada Dubrovnika i Turističke zajednice grada Dubrovnika.\nFestival kroz tri dana okuplja vrhunske glazbenike\, vizualne umjetnike i ljubitelje jazza\, u spoju tradicije\, suvremenog zvuka i jedinstvene dubrovačke atmosfere.\n ULAZNICE: https://www.ulaznice.hr/web/regular/20748974\n\n PROGRAM 7.–9. studenog 2025. / Lazareti\, Dubrovnik\n\n Petak\, 7.11.\n20:00h — Otvaranje festivala uz jednog od najistaknutijih mlađih jazz pijanista – Christian Sands\, višestruko Grammy nominiran umjetnik\, poznat po virtuoznosti i energiji koja spaja tradiciju i suvremeni jazz\, dolazi u Dubrovnik zahvaljujući suradnji s Monterey Jazz Festivalom.\n\n Subota\, 8.11.\n20:30 — Luis Bonilla / Sigi Feigl Quintet: The Music of Karlheinz Miklin | Austrijski kulturni forum19:30 — Jazz & Light Fusion ispred Sponze\n\n Nedjelja\, 9.11.\n20:00 — Maja Rivić Quintet – Drugo SunceZatvaranje uz emotivni završetak i koncertnu promociju albuma.\n\nAlternate Take – izložba radova učenica i učenika 3. razreda Umjetničke škole Luke Sorkočevića (mentor: Viktor Daldon)\n\n Ulaznice: https://www.ulaznice.hr/web/regular/20748974Kupnja karta dostupna i na ulazu\, sat prije koncerta\n\n\n//ENGLISH VERSION// \n\nFrom November 7 to 9\, the historic Lazareti will transform into the center of world-class music – three days of exceptional concerts\, light installations\, and art programs bringing new energy to autumn in Dubrovnik.\nThis year’s 5th edition of the Dubrovnik Jazz Outbreak Festival is presented in collaboration with the legendary Monterey Jazz Festival – the world’s longest-running jazz festival (founded in 1958 in California) – and the Austrian Cultural Forum\, with the support of the City of Dubrovnik and the Dubrovnik Tourist Board.\nOver three days\, the festival brings together outstanding musicians\, visual artists\, and jazz enthusiasts – blending tradition\, modern sound\, and the unique spirit of Dubrovnik.\n TICKETS: https://www.ulaznice.hr/web/regular/20748974\n\n PROGRAM November 7–9\, 2025 / Lazareti\, Dubrovnik\n\nFriday\, Nov 7\n8 PM — The festival opens with one of the most remarkable young jazz pianists of today. Christian Sands\, a multiple Grammy-nominated artist known for his virtuosity and energy that bridges tradition and modern jazz\, is coming to Dubrovnik in collaboration with the Monterey Jazz Festival.\n\nSaturday\, Nov 8\n8:30 PM — Luis Bonilla / Sigi Feigl Quintet: The Music of Karlheinz Miklin7:30 PM — Jazz & Light Fusion in front of Sponza Palace\n\nSunday\, Nov 9\n8 PM — Maja Rivić Quintet – “Drugo Sunce” – Closing night with emotion\, groove\, and soul.\n\n Tickets: https://www.ulaznice.hr/web/regular/20748974or at the venue one hour before each concert\n\nSee you at Lazareti! 
URL:https://dubrovnik.today/event/dubrovnik-jazz-outbreak-festival-2025/2025-11-09/
LOCATION:Lazareti\, Ulica Frana Supila 8\, Dubrovnik\, Dubrovačko-neretvanska\, 20000\, Croatia
CATEGORIES:Music
ATTACH;FMTTYPE=image/jpeg:https://dubrovnik.today/wp-content/uploads/2025/10/573344858_122152511876866750_869540151456689872_n.jpg
ORGANIZER;CN="Dubrovnik Jazz Outbreak":MAILTO:https://www.facebook.com/profile.php?id=61576002503261
GEO:42.6416755;18.1145855
X-APPLE-STRUCTURED-LOCATION;VALUE=URI;X-ADDRESS=Lazareti Ulica Frana Supila 8 Dubrovnik Dubrovačko-neretvanska 20000 Croatia;X-APPLE-RADIUS=500;X-TITLE=Ulica Frana Supila 8:geo:18.1145855,42.6416755
END:VEVENT
END:VCALENDAR