BEGIN:VCALENDAR
VERSION:2.0
PRODID:-//dbk.life - ECPv6.15.12//NONSGML v1.0//EN
CALSCALE:GREGORIAN
METHOD:PUBLISH
X-WR-CALNAME:dbk.life
X-ORIGINAL-URL:https://dubrovnik.today
X-WR-CALDESC:Events for dbk.life
REFRESH-INTERVAL;VALUE=DURATION:PT1H
X-Robots-Tag:noindex
X-PUBLISHED-TTL:PT1H
BEGIN:VTIMEZONE
TZID:Europe/Zagreb
BEGIN:DAYLIGHT
TZOFFSETFROM:+0100
TZOFFSETTO:+0200
TZNAME:CEST
DTSTART:20240331T010000
END:DAYLIGHT
BEGIN:STANDARD
TZOFFSETFROM:+0200
TZOFFSETTO:+0100
TZNAME:CET
DTSTART:20241027T010000
END:STANDARD
BEGIN:DAYLIGHT
TZOFFSETFROM:+0100
TZOFFSETTO:+0200
TZNAME:CEST
DTSTART:20250330T010000
END:DAYLIGHT
BEGIN:STANDARD
TZOFFSETFROM:+0200
TZOFFSETTO:+0100
TZNAME:CET
DTSTART:20251026T010000
END:STANDARD
BEGIN:DAYLIGHT
TZOFFSETFROM:+0100
TZOFFSETTO:+0200
TZNAME:CEST
DTSTART:20260329T010000
END:DAYLIGHT
BEGIN:STANDARD
TZOFFSETFROM:+0200
TZOFFSETTO:+0100
TZNAME:CET
DTSTART:20261025T010000
END:STANDARD
END:VTIMEZONE
BEGIN:VEVENT
DTSTART;TZID=Europe/Zagreb:20251015T190000
DTEND;TZID=Europe/Zagreb:20251107T170000
DTSTAMP:20260420T073110
CREATED:20251008T145304Z
LAST-MODIFIED:20251008T145304Z
UID:10006778-1760554800-1762534800@dubrovnik.today
SUMMARY:BORIS BURIĆ "Tišina"
DESCRIPTION:U srijedu 15. 10. u 19 sati u Galeriji Otok otvorit ćemo izložbu Borisa Burića  TIŠINA.Sve vas pozivamo.\n\nBoris Burić • TišinaU vremenu globalnih eskalacija koje razdiru kulturne\, političke i društvene strukture\, nepredvidivost postaje dominantno iskustvo. Temeljne vrijednosti nezaustavljivo se raslojavaju\, a sloboda izražavanja postupno krnji. Time umjetnost postaje prostor otpora\, ali i osjetljivo mjerilo krize društva gdje kroz pokušaje njezinog utišavanja\, ograničavanja ili instrumentalizacije postajemo svjesniji prijetnji koje nagrizaju zajednički prostor mišljenja i djelovanja. Stoga\, ulazak u Tišinu Borisa Burića nije neutralan čin nego refleksija stanja. Štoviše\, suočeni s potpunim mrakom svjedoci smo nekonvencionalnoj izložbenoj praksi koja klasičnu estetsku gestu transformira rezom odnosno suspenzijom svega poznatog ponajprije temeljenog na osjetilu vida. Kada svjetlo iščezne\, ostaje tijelo koje traži oslonce u zvuku\, mirisu i nesigurnim kretnjama drugih. Takva početna destabilizacija nije slučajna jer lišeni mogućnosti gledanja\, postajemo aktivni dionik\, tijelo koje reagira\, improvizira i uči iz vlastite ranjivosti.Osjećajući apsurd suvremenog života\, Burić uspostavlja narativ koji otvara slojeve asocijacija. Ovdje tišina nije odsutnost zvuka nego prostor napetosti\, nelagode i nesigurnosti uzrokovane društvenim kolapsima. Poput dobro razrađene sabotaže\, tišina odbija isporučiti sadržaj koji se može jednoznačno protumačiti\, ne dopušta da se značenje razmijeni na brzinu niti da se iskustvo arhivira u nekoliko fotografija ili rečenica. Tišina je prostor koji traži dulje trajanje\, tijelo koje ostaje zbunjeno i um koji se mora suočiti s onim što se ne može odmah razumjeti. Otkrivajući višeznačnost svakog znaka odnosno umjetničke instalacije koje tvore smislenu umjetničku cjelinu\, spoznajemo kako tišina\, na simboličkoj razini generirana mrakom\, paradoksalno postaje prepuna značenja. Miris baruta ili tamjana funkcioniraju poput rituala. Ipak\, to nisu samo podražaji već reference koje šire percepciju značenja: od tjelesnog i prolaznog\, prijetećeg i memorijskog do duhovnog i ritualnog. S druge strane\, zvuk oštrenja sablje koji se u pravilnim razmacima javlja u prostoru\, dodatno strukturira tišinu bez inicijalne namjere za njenim dokidanjem. Akustični reljef koji oblikuje pravilan ritmički rez\, podsjeća nas da u tišini gotovo nikada nema potpune sigurnosti i uvijek je na rubu da se prelomi u nešto drugo. Koristeći upravo te svakodnevne\, jednostavne geste – mrak\, miris\, zvuk – Burić ne gradi spektakl nego provocira iskustvo. Njegov rad u tom smislu nije grandiozan već neumoljiv\, te ne dopušta promatraču da ostane indiferentan. (…) U tekstu o izložbi napisala je Katerina Jovanović.\nIzložba se može posjetiti do 7. studenog radnim danima od 11 do 19 sati.
URL:https://dubrovnik.today/event/boris-buric-tisina/
LOCATION:art radionica lazareti # art workshop lazareti\, Frana Supila 8\, Dubrovnik\, Dubrovačko-neretvanska\, 20000\, Croatia
CATEGORIES:Exhibition
ATTACH;FMTTYPE=image/jpeg:https://dubrovnik.today/wp-content/uploads/2025/10/558092984_1388070473319407_8457404030757813387_n.jpg
ORGANIZER;CN="art radionica lazareti # art workshop lazareti":MAILTO:art@du.t-com.hr
GEO:42.6416755;18.1145855
X-APPLE-STRUCTURED-LOCATION;VALUE=URI;X-ADDRESS=art radionica lazareti # art workshop lazareti Frana Supila 8 Dubrovnik Dubrovačko-neretvanska 20000 Croatia;X-APPLE-RADIUS=500;X-TITLE=Frana Supila 8:geo:18.1145855,42.6416755
END:VEVENT
BEGIN:VEVENT
DTSTART;TZID=Europe/Zagreb:20251030T193000
DTEND;TZID=Europe/Zagreb:20251130T170000
DTSTAMP:20260420T073110
CREATED:20251017T052727Z
LAST-MODIFIED:20251017T052727Z
UID:10006853-1761852600-1764522000@dubrovnik.today
SUMMARY:Izložba: BABIN KUK - PLANIRANJE UTOPIJE: 50 godina od izgradnje hotelsko-turističkog centra
DESCRIPTION:U četvrtak 30.10. otvaramo izložbu posvećenu planiranju\, izgradnji i djelovanju Hotelsko-turističkog centra Babin Kuk. Lapadsku Dubravu zamislili su i projektirali brojni domaći i strani stručnjaci\, na izgradnji je sudjelovalo i preko tri tisuće radnika i inženjera istovremeno\, a njeno otvaranje u lipnju 1976. oblikovalo zabavni i društveni život Grada. Postala je mjesto susreta Dubrovčana i njihovih gostiju\, koji su u njenim hotelima\, restoranima\, barovima\, šetnicama i parkovima zajednički stvarali uspomene za cijeli život.\n\nNa izložbi će kroz tekstove\, fotografije\, novinske članke i predmete biti predstavljena polustoljetna povijest ovog prostora\, oblikovanog za najveću kvalitetu i iskoristivost: od projektiranja\, nikad dovršene izgradnje\, zabavnog života\, do ratnih i poratnih godina.\n\nAutori izložbe su Ivan Lujo\, povjesničar i kustos Muzeja crvene povijesti i Krunoslav Šmit\, profesor na Arhitektonskom fakultetu u Zagrebu. Dizajn postava potpisuje Studio Bonsenjo.\n\nIzložba ostaje otvorena do početka prosinca.Pokrovitelji izložbe su: Grad Dubrovnik\, Ministarstvo kulture RH i Valamar.
URL:https://dubrovnik.today/event/izlozba-babin-kuk-planiranje-utopije-50-godina-od-izgradnje-hotelsko-turistickog-centra/
LOCATION:Muzej crvene povijesti\, Ulica Svetog Križa 3\, Dubrovnik\, Dubrovačko-neretvanska\, 20000\, Croatia
CATEGORIES:Music
ATTACH;FMTTYPE=image/jpeg:https://dubrovnik.today/wp-content/uploads/2025/10/561910977_1385058940290589_5235604758939907485_n.jpg
ORGANIZER;CN="Muzej crvene povijesti":MAILTO:info@redhistorymuseum.com
GEO:42.6591959;18.0871613
X-APPLE-STRUCTURED-LOCATION;VALUE=URI;X-ADDRESS=Muzej crvene povijesti Ulica Svetog Križa 3 Dubrovnik Dubrovačko-neretvanska 20000 Croatia;X-APPLE-RADIUS=500;X-TITLE=Ulica Svetog Križa 3:geo:18.0871613,42.6591959
END:VEVENT
BEGIN:VEVENT
DTSTART;TZID=Europe/Zagreb:20251106T100000
DTEND;TZID=Europe/Zagreb:20251106T130000
DTSTAMP:20260420T073110
CREATED:20251103T120111Z
LAST-MODIFIED:20251103T120111Z
UID:10007045-1762423200-1762434000@dubrovnik.today
SUMMARY:Besplatna online radionica "Mali iznajmljivači - veliki posao"
DESCRIPTION:Ukoliko ste mali iznajmljivač u turizmu\, vjerojatno ste svjesni koliko je važno pravilno upravljati svim poslovnim aspektima\, od administracije do postavljanja cijena.\n\n\nKako bi vaše poslovanje bilo što uspješnije i bez stresa\, pozivamo vas na besplatnu online radionicu Centra za poduzetništvo DNŽ na temu “Mali iznajmljivači – veliki posao”.\n\n\nNa radionici ćemo obraditi teme koje će vam omogućiti da s lakoćom upravljate svojim poslovanjem\, od efikasnog računanja troškova do određivanja optimalnih cijena za vašu ponudu. Saznat ćete kako se nositi s administrativnim obvezama te na koji način optimizirati poslovanje i izbjegavati najčešće greške koje iznajmljivači čine.\n\n\nTermin: 06.11.2025. u 10:00 sati\n\n\nPredviđeno trajanje radionice: 3 sata\n\n\nOva radionica je prilika da steknete konkretna znanja i alate koji će vam pomoći u svakodnevnom poslovanju te vas pripremiti za dugoročni uspjeh u turističkom sektoru.\n\n\nRadionicu će voditi Meri Čizmić Kraljević\, autorica i koautorica većeg broja knjiga\, brošura i priručnika na temu privatnog smještaja te glavna urednica časopisa “Apartman Plus” koji izlazi već osam godina. Ima preko 800 održanih edukacija u turizmu na temu marketinga\, prodaje i administrativnog poslovanja\, zakonskih obveza… Uz pedagoške kompetencije\, posjeduje diplome bacc. javne uprave i magistra ekonomije.\n\n\nBudući da je broj polaznika ograničen\, molimo sve zainteresirane poduzetnike da se prijave putem:\n\n\n– poveznice: https://forms.gle/M8zVUfALjbgch3WdA\n\n\n– e-maila: czp@czp.hr\n\n\n– ili telefona: 020/418-401
URL:https://dubrovnik.today/event/besplatna-online-radionica-mali-iznajmljivaci-veliki-posao/
LOCATION:Internet\, Croatia
CATEGORIES:Workshop
ATTACH;FMTTYPE=image/jpeg:https://dubrovnik.today/wp-content/uploads/2025/11/576325679_1142524531359810_5643247211270701578_n.jpg
ORGANIZER;CN="Centar za poduzetni%C5%A1tvo Dubrova%C4%8Dko-neretvanske %C5%BEupanije":MAILTO:dcp@dcp.hr
GEO:45.1;15.2000001
END:VEVENT
BEGIN:VEVENT
DTSTART;TZID=Europe/Zagreb:20251106T110000
DTEND;TZID=Europe/Zagreb:20251106T190000
DTSTAMP:20260420T073110
CREATED:20251030T205819Z
LAST-MODIFIED:20251030T205819Z
UID:10007026-1762426800-1762455600@dubrovnik.today
SUMMARY:Secondhand minimarket ARL
DESCRIPTION:Dragi prijatelji i ljubitelji buvljaka\,ljubitelji declutter metode i ljubitelji svega već voljenoga čemu ćete vratiti sjaj.\nObožavatelji trgovanja\, razmjene i zamjene\, hrčci\, sakupljači i kolekcionari svi vi koji volite primat davat\, darivat\, trošit i kupovat\, prazniti ormare\, decluttering\, detox\, ponovno gomilanje robe…\nPozivamo vas na dugo očekivanu tradicionalnu second hand rasprodaju\, MiniMarket doniranih rabljenih predmeta\, knjiga\, odjeće i svega što vam treba i ne treba.\n\nTri su koraka:\n1 prikupljanje donacija\nSve što je još u dobrom stanju\, a vama više nije potrebno možete nam slobodno donirati.\nSakupljamo rabljene predmete – odjeću\, male aparate\, igračke i kuhinjski pribor\, alate\, knjige\, nakit\, očale i potrepštine za domaćinstvo…\nDonacije nam možete donijeti u Art radionicu Lazareti30. 10.\, 31.10.\, 3. 11\, 4.1 1 i 5. 11 od 11-19 sati. Kontakt arl@arl.hr\n\n\n2. Rasprodaja / minimarket\nČetvrtak\, 6. 11. – 11. – 19. satiPetak\, 7. 11. – 11. – 19 satiSubota\, 8. 11. – 11 – 19 sati\nDođeš\, kopaš\, kupiš\, dođeš opet…\n\n3. Sreća najvećaOdradili smo skupa čišćenje kuće\, sredili ormare\, pronašli nešto za sebe i svoje najdraže.\nVizual: Milan PantovićDomaćice minimarketa: Eta\, Petra i Srdjana
URL:https://dubrovnik.today/event/secondhand-minimarket-arl/2025-11-06/
LOCATION:art radionica lazareti # art workshop lazareti\, Frana Supila 8\, Dubrovnik\, Dubrovačko-neretvanska\, 20000\, Croatia
ATTACH;FMTTYPE=image/jpeg:https://dubrovnik.today/wp-content/uploads/2025/10/574284451_1409698574489930_7665003129690972524_n.jpg
ORGANIZER;CN="art radionica lazareti # art workshop lazareti":MAILTO:art@du.t-com.hr
GEO:42.6416755;18.1145855
X-APPLE-STRUCTURED-LOCATION;VALUE=URI;X-ADDRESS=art radionica lazareti # art workshop lazareti Frana Supila 8 Dubrovnik Dubrovačko-neretvanska 20000 Croatia;X-APPLE-RADIUS=500;X-TITLE=Frana Supila 8:geo:18.1145855,42.6416755
END:VEVENT
BEGIN:VEVENT
DTSTART;TZID=Europe/Zagreb:20251106T163000
DTEND;TZID=Europe/Zagreb:20251106T180000
DTSTAMP:20260420T073110
CREATED:20251104T070733Z
LAST-MODIFIED:20251126T133937Z
UID:10007063-1762446600-1762452000@dubrovnik.today
SUMMARY:DRUGI DNEVNIK PAULINE P.
DESCRIPTION:Omiljena junakinja iz školskih klupa vraća se u filmu Drugi dnevnik Pauline P.\, a nastavak hit filma donosi još više emocija i iskrenih trenutaka iz života jedne (ne tako male) djevojčice. \nNaša junakinja sada ima već jedanaest godina! Iako joj odrasli govore da joj je ovo „najbolji dio života“\, Paulini se uopće ne čini tako. U petom razredu dočekat će je profesorica Mirković\, stroga nastavnica geografije\, kao i Marta iz 5.D\, Paulinin prvi bully. Uskoro će otkriti i da njezina draga baka boluje od neizlječive bolesti. U borbi s nevoljama Paulina će se još jednom poslužiti šarmom i bujnom maštom\, i izvući jednu vrijednu pouku–da se život ne sastoji samo od pobjeda.
URL:https://dubrovnik.today/event/drugi-dnevnik-pauline-p/2025-11-06/
LOCATION:Kino Sloboda\, Luža 66\, Dubrovnik\, Dubrovačko-neretvanska\, 20000\, Croatia
CATEGORIES:Cinema
ATTACH;FMTTYPE=image/jpeg:https://dubrovnik.today/wp-content/uploads/2025/11/DDPP_1920x600.jpg
ORGANIZER;CN="Kinematografi Dubrovnik":MAILTO:operater@kinematografi.org
GEO:42.6409105;18.1101717
X-APPLE-STRUCTURED-LOCATION;VALUE=URI;X-ADDRESS=Kino Sloboda Luža 66 Dubrovnik Dubrovačko-neretvanska 20000 Croatia;X-APPLE-RADIUS=500;X-TITLE=Luža 66:geo:18.1101717,42.6409105
END:VEVENT
BEGIN:VEVENT
DTSTART;TZID=Europe/Zagreb:20251106T180000
DTEND;TZID=Europe/Zagreb:20251106T193000
DTSTAMP:20260420T073110
CREATED:20251010T091359Z
LAST-MODIFIED:20251010T091359Z
UID:10006817-1762452000-1762457400@dubrovnik.today
SUMMARY:MJESEC HRVATSKE KNJIGE - Zvrkijada
DESCRIPTION:“U svijetu prepunom kratkih vijesti i brzih pretraživanja\, u kojemu informacije putuju brže nego ikada\, a buka i žurba bliski su pratioci ljudske svakodnevnice\, još uvijek postoje mjesta gdje se misao smije zadržati i rasti. Utočišta u kojima se može zastati\, pitati\, tražiti\, listati\, saznavati\, družiti\, povezivati\, zabavljati\, a ponekad tek – biti.\n\n\nMjesta učenja novih slova\, ali i starih znanja. Kutci u kojima istražujemo\, otkrivamo\, spoznajemo. Lokacije kojima se vraćamo i onda kada lutamo. To su knjižnice – one u kojima ideje žive\, zajednička dobra koja nas iznova podsjećaju da znanje nije luksuz\, već mora biti dostupno svima\, i da čitanje ne mora biti samo bijeg već i povratak sebi i svijetu…\n\n\nAli što je knjižnica bez knjižničara? Možemo li zamisliti prostor ispunjen knjigama bez onih koji tim knjigama daju život\, a prostoru smisao? Onih koji znanje čuvaju\, ali ga i nesebično dijele. Onih koji tihe i zatvorene riznice znanja pretvaraju u živa kulturna i društvena središta\, mjesta susreta i otkrića koja dobrodošlicu pružaju – svima. Knjižničar danas nije samo čuvar knjiga\, već i onaj koji osluškuje\, usmjerava i pomaže. Neprestano uči i stvara\, njeguje tradiciju istovremeno se prilagođavajući novim tehnologijama\, razvija informacijske vještine\, promiče ljepotu čitanja\, povezuje generacije i spaja naizgled nespojive svjetove… Baš poput renesansnog čovjeka\, otvorenog\, obrazovanog i znatiželjnog pojedinca\, koji neumorno traga za novim horizontima i povezuje različita znanja\, i suvremeni knjižničar nosi duh tog pomalo zaboravljenog\, ali i dalje živog ideala svestranosti.\n\n\nI zato ovaj Mjesec hrvatske knjige posvećujemo onima koji čine srce svake knjižnice\, onima koji nisu samo stručnjaci za knjige i čitanje\, nego stvaratelji okruženja u kojem znanje raste\, kultura se stvara i umnaža\, a različitosti nalaze prostor za uvažavajući dijalog i toleranciju. Ova je manifestacija prilika da istaknemo često manje primjetnu\, a izuzetno važnu ulogu knjižničara\, ali i da se zapitamo kako ostati vjeran humanističkim idealima u svijetu koji sve više oblikuju digitalne tehnologije.” (izvor: https://mhk.hr/mjesec-hrvatske-knjige-2025-odabrali… )\n\n\nU Ogranku Cavtat odabrali smo se posvetiti Ratku Zvrku i\, onima za koje je on najčešće pisao\, osnovnoškolcima\, stoga organiziramo – Zvrkijadu. Zvrkijada je ciklus radionica na kojima će polaznici istraživati crtice iz života Ratka Zvrka\, upoznat će se s njegovim djelima te ista analizirati i interpretirati kroz dramske\, literarne i likovne forme. Program su osmislile i vode nastavnica hrvatskog jezika Jelena Sukurica i knjižničarka Lucijana Mihaljek.\n\n\nZbog ograničenog broja mjesta prijave su obavezne\, stoga nam se javite što prije na mail adresu cavtat@dkd.hr. \n\n\nVeselimo vam se\, zvrkići!
URL:https://dubrovnik.today/event/mjesec-hrvatske-knjige-zvrkijada/2025-11-06/
LOCATION:Ogranak Cavtat – Dubrovačke knjižnice\, Zidine 6\, Cavtat\, Dubrovačko-neretvanska\, 20210\, Croatia
CATEGORIES:Lecture,Pub quiz,Workshop
ATTACH;FMTTYPE=image/jpeg:https://dubrovnik.today/wp-content/uploads/2025/10/559529594_122230551110057871_6683405997588036234_n.jpg
ORGANIZER;CN="Ogranak Cavtat - Dubrova%C4%8Dke knji%C5%BEnice":MAILTO:cavtat@dkd.hr
GEO:42.5812987;18.2181598
X-APPLE-STRUCTURED-LOCATION;VALUE=URI;X-ADDRESS=Ogranak Cavtat – Dubrovačke knjižnice Zidine 6 Cavtat Dubrovačko-neretvanska 20210 Croatia;X-APPLE-RADIUS=500;X-TITLE=Zidine 6:geo:18.2181598,42.5812987
END:VEVENT
BEGIN:VEVENT
DTSTART;TZID=Europe/Zagreb:20251106T180000
DTEND;TZID=Europe/Zagreb:20251106T203000
DTSTAMP:20260420T073110
CREATED:20251104T071118Z
LAST-MODIFIED:20251104T071118Z
UID:10007068-1762452000-1762461000@dubrovnik.today
SUMMARY:260 DANA / 260 Days
DESCRIPTION:Temeljen na romanu koji se zasniva na istinitoj priči Marijana Gubine\, film prikazuje život desetogodišnjeg Marijana i njegove obitelji\, čiji miran i idiličan život iznenada biva razoren Domovinskim ratom. Sukob pustoši njihov mali grad Dalj\, a obitelj doživljava golemo izdaju od svojih najbližih prijatelja i susjeda. Nakon 260 dana zatočeništva i nezamislivog nasilja\, obitelj se odlučuje na hrabre poteze kako bi osigurala svoju slobodu\, stavljajući na kušnju svoju hrabrost i izdržljivost. Godinama kasnije\, u Marijanovu trgovinu ulazi čovjek koji u njemu ponovno budi sve uspomene koje je želio zaboraviti i prisiljava ga da ih proživi iznova. Unatoč golemim životnim patnjama\, Marijan nastavlja živjeti u oprostu\, uvijek tražeći pozitivno u budućnosti umjesto da se vraća i ostaje u prošlosti.
URL:https://dubrovnik.today/event/260-dana-260-days/2025-11-06/
LOCATION:Kino Sloboda\, Luža 66\, Dubrovnik\, Dubrovačko-neretvanska\, 20000\, Croatia
CATEGORIES:Cinema
ATTACH;FMTTYPE=image/jpeg:https://dubrovnik.today/wp-content/uploads/2025/11/56185_260_DAYS_KEY_ART_WHITE_05.09.2025-01-1.jpg
ORGANIZER;CN="Kinematografi Dubrovnik":MAILTO:operater@kinematografi.org
GEO:42.6409105;18.1101717
X-APPLE-STRUCTURED-LOCATION;VALUE=URI;X-ADDRESS=Kino Sloboda Luža 66 Dubrovnik Dubrovačko-neretvanska 20000 Croatia;X-APPLE-RADIUS=500;X-TITLE=Luža 66:geo:18.1101717,42.6409105
END:VEVENT
BEGIN:VEVENT
DTSTART;TZID=Europe/Zagreb:20251106T183000
DTEND;TZID=Europe/Zagreb:20251106T203000
DTSTAMP:20260420T073110
CREATED:20251104T071322Z
LAST-MODIFIED:20251113T073414Z
UID:10007074-1762453800-1762461000@dubrovnik.today
SUMMARY:PREDATOR : BADLANDS
DESCRIPTION:Od vizionarskog redatelja Dana Trachtenberga (Prey) stiže „Predator: Badlands“\, novo poglavlje kultne franšize. \nU dalekoj budućnosti\, na negostoljubivom planetu na rubu poznatog svemira\, izopćeni mladi Predator pronalazi neočekivanu saveznicu u hrabroj Thii. Udruženi protiv zajedničke sudbine\, kreću na opasno putovanje kroz pustoš Badlandsa u potrazi za konačnim protivnikom – onim koji će im promijeniti živote i zauvijek obilježiti galaksiju.
URL:https://dubrovnik.today/event/predator-badlands/2025-11-06/
LOCATION:Kino dvorana Visia\, Poljana Paska Miličevića 3\, Dubrovnik\, 20000\, Croatia
CATEGORIES:Cinema
ATTACH;FMTTYPE=image/jpeg:https://dubrovnik.today/wp-content/uploads/2025/11/FB_cover_PREDATOR_BADLANDS_HR.jpg
ORGANIZER;CN="Kinematografi Dubrovnik":MAILTO:operater@kinematografi.org
GEO:42.6414431;18.1071797
X-APPLE-STRUCTURED-LOCATION;VALUE=URI;X-ADDRESS=Kino dvorana Visia Poljana Paska Miličevića 3 Dubrovnik 20000 Croatia;X-APPLE-RADIUS=500;X-TITLE=Poljana Paska Miličevića 3:geo:18.1071797,42.6414431
END:VEVENT
BEGIN:VEVENT
DTSTART;TZID=Europe/Zagreb:20251106T190000
DTEND;TZID=Europe/Zagreb:20251106T203000
DTSTAMP:20260420T073110
CREATED:20251103T115143Z
LAST-MODIFIED:20251103T115143Z
UID:10007041-1762455600-1762461000@dubrovnik.today
SUMMARY:SS HMNL Square - Olmissum
DESCRIPTION:SS HMNL\, 4. KOLOSquare – Olmissum\nU četvrtom kolu crveno plavi dočekuju Olmissum!\n#ajmosquare
URL:https://dubrovnik.today/event/ss-hmnl-square-olmissum/
LOCATION:Sportska dvorana Gospino polje\, Liechtensteinov put 10\, Dubrovnik\, Dubrovačko-neretvanska\, 20000\, Croatia
CATEGORIES:Sport
ATTACH;FMTTYPE=image/jpeg:https://dubrovnik.today/wp-content/uploads/2025/11/576267951_1327961412460471_4426565091325936696_n.jpg
GEO:42.646844;18.0882112
X-APPLE-STRUCTURED-LOCATION;VALUE=URI;X-ADDRESS=Sportska dvorana Gospino polje Liechtensteinov put 10 Dubrovnik Dubrovačko-neretvanska 20000 Croatia;X-APPLE-RADIUS=500;X-TITLE=Liechtensteinov put 10:geo:18.0882112,42.646844
END:VEVENT
BEGIN:VEVENT
DTSTART;TZID=Europe/Zagreb:20251106T190000
DTEND;TZID=Europe/Zagreb:20251106T203000
DTSTAMP:20260420T073110
CREATED:20251103T115316Z
LAST-MODIFIED:20251103T115316Z
UID:10007042-1762455600-1762461000@dubrovnik.today
SUMMARY:MATEO PERASOVIĆ: BÜYÜK MENDERES - otvorenje izložbe
DESCRIPTION:Izložba istaknutog splitskog umjetnika Matea Perasovića\, u povodu pet desetljeća izlagačke djelatnosti pod nazivom Büyük Menderes bit će otvorena u Umjetničkoj galeriji Dubrovnik u četvrtak\, 6. studenog u 19 sati.Kustos izložbe je ravnatelj Nacionalnog muzeja moderne umjetnosti\, Zagreb\, Branko Franceschi.Franceschi je uz ovaj značajan umjetnikov jubilej\, odabrao 17 recentnih radova u kombiniranoj tehnici\, nastalih u razdoblju između 2023. i 2025. (…) Sudeći po nazivima\, Perasovićeve složene kompozicije nisu puki egzercir performativne perfekcije\, dekorativnosti uzoraka i tonalnih elaboracija. Nazivi upućuju na konkretne geografske lokacije bogate kulturološke povijesti poput Büyük Menderes / Velikog meandra\, slavne rijeke u Turskoj\, ili već spominjanih varijacija Arabice\, koja se dakako referira na sortu kave. Sukladno nazivima\, oba ciklusa svojim serifnim formama i zasićenim tonovima purpura na zlatnim i srebrnim pozadinskim slojevima asociraju na orijentalnu dekorativnu raskoš. Kvadratične su pak kompozicije nazvane po ezoterijskim\, univerzalnim ili egzistencijalnim pojmovima. One s motivom kruga slijede ustaljenu simboliku univerzalnog i božanskog\, one s kvadratičnim yin-yang uzorkom simboliku energetskog nadopunjavanja\, a svoje specifične teme iznose u varijacijama izvedbenih zahvata ili u njihovim kombinacijama. Naposljetku\, elaborirani likovni jezik i korišteni motivi ukazuju nam na Perasovićevo pedeset godina razvijano shvaćanje umjetničkog djela kao rezultata kompleksnog sraza univerzalnog\, božanskog i kulturološkog s nepoznanicom ljudskog stvaralačkog potencijala i kapaciteta. U Perasovićevu slučaju možemo reći da neizvjesnosti nema\, široka rijeka njegove stvaralačke energije još ustrajno meandrira i razvija se prema horizontu budućnosti. – Branko Franceschi\, iz uvodnika u katalogu izložbe.Izložba je u lipnju premijerno predstavljena u Galeriji Josip Račić u Zagrebu\, potom je u listopadu predstavljena i u Galeriji Vidović Muzeja grada Splita\, a dubrovačka će ju publika moći posjetiti do 16. prosinca 2025.\nBiografija:\nMateo Perasović (Split\, 1954.) diplomirao je 1979. na Akademiji likovnih umjetnosti u Sarajevu na odjelu grafike u klasi prof. Dževada Hoze. Od 1979. radi kao likovni pedagog\, a posebno se ističe njegov rad kao profesora mentora na Školi likovnih umjetnosti u Splitu 1990. – 2007.\, odnosno kao vanjskog suradnika Umjetničke akademije Sveučilišta u Splitu na Odsjeku za likovnu kulturu i likovnu umjetnost 2000. – 2007.\, prvo u statusu predavača\, a od 2005. u statusu docenta gdje predaje slikarstvo i akt. Od 2007. do 2021. u stalnom je radnom odnosu na Umjetničkoj akademiji Sveučilišta u Splitu kad odlazi u mirovinu kao redovni profesor u trajnom zvanju. Od 2007. do 2021. obnaša dužnost prodekana za nastavu (dva mandata) i dekana (dva mandata). Član je Hrvatske udruge likovnih umjetnika Split od 1980. do 2015. i predsjednik udruge od 2002. do 2015. (tri mandata). Od 2006. do 2007. obnaša dužnost predsjednika koordinacije udruga likovnih umjetnika Republike Hrvatske. Godine 2009. postaje član Stručnog povjerenstva za primanje novih članova u Hrvatsku zajednicu samostalnih umjetnika (dva mandata). Pripremio je i objavio stručni priručnik Slikarski rječnik (Narodno sveučilište u Splitu\, 1994.)\, Slikarski pojmovnik (Umjetnička akademija Sveučilišta u Splitu\, 2002.)\, Memento likovne kulture (Mentor d.o.o.\, Split\, 2002.)\, Memento povijesti umjetnosti (Mentor d.o.o.\, Split\, 2002.) i monografiju Strah od smrti / Istraživanje i razvoj artefakta (Umjetnička akademija Sveučilišta u Splitu\, 2017.). Izlaže od 1975. godine. Dobitnik je Nagrade Emanuel Vidović\, velike nagrade Splitskog salona 1990. godine. Živi i radi u Splitu.
URL:https://dubrovnik.today/event/mateo-perasovic-buyuk-menderes-otvorenje-izlozbe/
LOCATION:Umjetnička galerija Dubrovnik / Museum of Modern Art Dubrovnik\, Frana Supila 23\, Dubrovnik\, 20 000\, Croatia
CATEGORIES:Exhibition
ATTACH;FMTTYPE=image/jpeg:https://dubrovnik.today/wp-content/uploads/2025/11/576285761_1390141109788410_6312056775436903796_n.jpg
ORGANIZER;CN="Umjetni%C4%8Dka galerija Dubrovnik / Museum of Modern Art Dubrovnik":MAILTO:info@momad.hr
GEO:42.6417496;18.1178806
X-APPLE-STRUCTURED-LOCATION;VALUE=URI;X-ADDRESS=Umjetnička galerija Dubrovnik / Museum of Modern Art Dubrovnik Frana Supila 23 Dubrovnik 20 000 Croatia;X-APPLE-RADIUS=500;X-TITLE=Frana Supila 23:geo:18.1178806,42.6417496
END:VEVENT
BEGIN:VEVENT
DTSTART;TZID=Europe/Zagreb:20251106T200000
DTEND;TZID=Europe/Zagreb:20251106T213000
DTSTAMP:20260420T073110
CREATED:20251017T064838Z
LAST-MODIFIED:20251017T064838Z
UID:10006879-1762459200-1762464600@dubrovnik.today
SUMMARY:KONCERT “Ususret Musikvereinu”
DESCRIPTION:Dubrovački simfonijski orkestar i sopranistica Marija Vidović nastupit će u jednom od najprestižnijih koncertnih prostora svijeta\, bečkom Musikvereinu\, 8. studenoga. U čuvenoj Zlatnoj dvorani\, pod ravnanjem maestra Ivana Huta predstavit će se s jedinstvenim programom\, tradicionalnom međimurskom popevkom koja je upisana na UNESCO-ovu Reprezentativnu listu nematerijalne kulturne baštine čovječanstva\, kao i djelima Johanna Straussa mlađeg i dubrovačkog skladatelja Luke Sorkočevića.  Koncert u jednoj od najvažnijih dvorana svijeta\, bit će najbolja moguća završnica velike proslave 100. obljetnice orkestra\, ali i susret glazbene tradicije sjevera i juga Hrvatske. \nKako bi dubrovačkoj publici predstavili ovaj program\, orkestar i solistica će nastupiti 6. studenoga u Kazalištu Marina Držića s gotovo istim programom.
URL:https://dubrovnik.today/event/koncert-ususret-musikvereinu/
LOCATION:Kazalište Marina Držića\, Pred Dvorom 3\, Dubrovnik\, 20000\, Croatia
CATEGORIES:Music
ATTACH;FMTTYPE=image/jpeg:https://dubrovnik.today/wp-content/uploads/2025/10/dvor60-1024x683-1.jpg
ORGANIZER;CN="Dubrova%C4%8Dki simfonijski orkestar / Dubrovnik Symphony Orchestra":MAILTO:marketing@dso.hr
GEO:42.6403741;18.1107474
X-APPLE-STRUCTURED-LOCATION;VALUE=URI;X-ADDRESS=Kazalište Marina Držića Pred Dvorom 3 Dubrovnik 20000 Croatia;X-APPLE-RADIUS=500;X-TITLE=Pred Dvorom 3:geo:18.1107474,42.6403741
END:VEVENT
BEGIN:VEVENT
DTSTART;TZID=Europe/Zagreb:20251106T200000
DTEND;TZID=Europe/Zagreb:20251106T220000
DTSTAMP:20260420T073110
CREATED:20251030T083850Z
LAST-MODIFIED:20251030T083850Z
UID:10007024-1762459200-1762466400@dubrovnik.today
SUMMARY:Dub Pub Balašević kviz
DESCRIPTION:U četvrtak u Love baru uz Balaševićeve hitove radimo zagrijavanje za @dubrovnik.tribute.project i koncert Nenormalnih u petak! \nPrijave
URL:https://dubrovnik.today/event/dub-pub-balasevic-kviz/
LOCATION:Love Bar\, Andrije Hebranga 95\, Dubrovnik\, Dubrovačko-neretvanska\, 20000\, Croatia
CATEGORIES:Pub quiz
ATTACH;FMTTYPE=image/jpeg:https://dubrovnik.today/wp-content/uploads/2025/10/534722154_18019505270685588_600038143010567147_n.jpg
ORGANIZER;CN="Dub Pub Kviz":MAILTO:https://www.facebook.com/DubPubKviz
GEO:42.6602872;18.0868889
X-APPLE-STRUCTURED-LOCATION;VALUE=URI;X-ADDRESS=Love Bar Andrije Hebranga 95 Dubrovnik Dubrovačko-neretvanska 20000 Croatia;X-APPLE-RADIUS=500;X-TITLE=Andrije Hebranga 95:geo:18.0868889,42.6602872
END:VEVENT
END:VCALENDAR