BEGIN:VCALENDAR
VERSION:2.0
PRODID:-//dbk.life - ECPv6.15.12//NONSGML v1.0//EN
CALSCALE:GREGORIAN
METHOD:PUBLISH
X-ORIGINAL-URL:https://dubrovnik.today
X-WR-CALDESC:Events for dbk.life
REFRESH-INTERVAL;VALUE=DURATION:PT1H
X-Robots-Tag:noindex
X-PUBLISHED-TTL:PT1H
BEGIN:VTIMEZONE
TZID:Europe/Zagreb
BEGIN:DAYLIGHT
TZOFFSETFROM:+0100
TZOFFSETTO:+0200
TZNAME:CEST
DTSTART:20240331T010000
END:DAYLIGHT
BEGIN:STANDARD
TZOFFSETFROM:+0200
TZOFFSETTO:+0100
TZNAME:CET
DTSTART:20241027T010000
END:STANDARD
BEGIN:DAYLIGHT
TZOFFSETFROM:+0100
TZOFFSETTO:+0200
TZNAME:CEST
DTSTART:20250330T010000
END:DAYLIGHT
BEGIN:STANDARD
TZOFFSETFROM:+0200
TZOFFSETTO:+0100
TZNAME:CET
DTSTART:20251026T010000
END:STANDARD
BEGIN:DAYLIGHT
TZOFFSETFROM:+0100
TZOFFSETTO:+0200
TZNAME:CEST
DTSTART:20260329T010000
END:DAYLIGHT
BEGIN:STANDARD
TZOFFSETFROM:+0200
TZOFFSETTO:+0100
TZNAME:CET
DTSTART:20261025T010000
END:STANDARD
END:VTIMEZONE
BEGIN:VEVENT
DTSTART;TZID=Europe/Zagreb:20251015T190000
DTEND;TZID=Europe/Zagreb:20251107T170000
DTSTAMP:20260420T095330
CREATED:20251008T145304Z
LAST-MODIFIED:20251008T145304Z
UID:10006778-1760554800-1762534800@dubrovnik.today
SUMMARY:BORIS BURIĆ "Tišina"
DESCRIPTION:U srijedu 15. 10. u 19 sati u Galeriji Otok otvorit ćemo izložbu Borisa Burića  TIŠINA.Sve vas pozivamo.\n\nBoris Burić • TišinaU vremenu globalnih eskalacija koje razdiru kulturne\, političke i društvene strukture\, nepredvidivost postaje dominantno iskustvo. Temeljne vrijednosti nezaustavljivo se raslojavaju\, a sloboda izražavanja postupno krnji. Time umjetnost postaje prostor otpora\, ali i osjetljivo mjerilo krize društva gdje kroz pokušaje njezinog utišavanja\, ograničavanja ili instrumentalizacije postajemo svjesniji prijetnji koje nagrizaju zajednički prostor mišljenja i djelovanja. Stoga\, ulazak u Tišinu Borisa Burića nije neutralan čin nego refleksija stanja. Štoviše\, suočeni s potpunim mrakom svjedoci smo nekonvencionalnoj izložbenoj praksi koja klasičnu estetsku gestu transformira rezom odnosno suspenzijom svega poznatog ponajprije temeljenog na osjetilu vida. Kada svjetlo iščezne\, ostaje tijelo koje traži oslonce u zvuku\, mirisu i nesigurnim kretnjama drugih. Takva početna destabilizacija nije slučajna jer lišeni mogućnosti gledanja\, postajemo aktivni dionik\, tijelo koje reagira\, improvizira i uči iz vlastite ranjivosti.Osjećajući apsurd suvremenog života\, Burić uspostavlja narativ koji otvara slojeve asocijacija. Ovdje tišina nije odsutnost zvuka nego prostor napetosti\, nelagode i nesigurnosti uzrokovane društvenim kolapsima. Poput dobro razrađene sabotaže\, tišina odbija isporučiti sadržaj koji se može jednoznačno protumačiti\, ne dopušta da se značenje razmijeni na brzinu niti da se iskustvo arhivira u nekoliko fotografija ili rečenica. Tišina je prostor koji traži dulje trajanje\, tijelo koje ostaje zbunjeno i um koji se mora suočiti s onim što se ne može odmah razumjeti. Otkrivajući višeznačnost svakog znaka odnosno umjetničke instalacije koje tvore smislenu umjetničku cjelinu\, spoznajemo kako tišina\, na simboličkoj razini generirana mrakom\, paradoksalno postaje prepuna značenja. Miris baruta ili tamjana funkcioniraju poput rituala. Ipak\, to nisu samo podražaji već reference koje šire percepciju značenja: od tjelesnog i prolaznog\, prijetećeg i memorijskog do duhovnog i ritualnog. S druge strane\, zvuk oštrenja sablje koji se u pravilnim razmacima javlja u prostoru\, dodatno strukturira tišinu bez inicijalne namjere za njenim dokidanjem. Akustični reljef koji oblikuje pravilan ritmički rez\, podsjeća nas da u tišini gotovo nikada nema potpune sigurnosti i uvijek je na rubu da se prelomi u nešto drugo. Koristeći upravo te svakodnevne\, jednostavne geste – mrak\, miris\, zvuk – Burić ne gradi spektakl nego provocira iskustvo. Njegov rad u tom smislu nije grandiozan već neumoljiv\, te ne dopušta promatraču da ostane indiferentan. (…) U tekstu o izložbi napisala je Katerina Jovanović.\nIzložba se može posjetiti do 7. studenog radnim danima od 11 do 19 sati.
URL:https://dubrovnik.today/event/boris-buric-tisina/
LOCATION:art radionica lazareti # art workshop lazareti\, Frana Supila 8\, Dubrovnik\, Dubrovačko-neretvanska\, 20000\, Croatia
CATEGORIES:Exhibition
ATTACH;FMTTYPE=image/jpeg:https://dubrovnik.today/wp-content/uploads/2025/10/558092984_1388070473319407_8457404030757813387_n.jpg
ORGANIZER;CN="art radionica lazareti # art workshop lazareti":MAILTO:art@du.t-com.hr
GEO:42.6416755;18.1145855
X-APPLE-STRUCTURED-LOCATION;VALUE=URI;X-ADDRESS=art radionica lazareti # art workshop lazareti Frana Supila 8 Dubrovnik Dubrovačko-neretvanska 20000 Croatia;X-APPLE-RADIUS=500;X-TITLE=Frana Supila 8:geo:18.1145855,42.6416755
END:VEVENT
BEGIN:VEVENT
DTSTART;TZID=Europe/Zagreb:20251030T193000
DTEND;TZID=Europe/Zagreb:20251130T170000
DTSTAMP:20260420T095330
CREATED:20251017T052727Z
LAST-MODIFIED:20251017T052727Z
UID:10006853-1761852600-1764522000@dubrovnik.today
SUMMARY:Izložba: BABIN KUK - PLANIRANJE UTOPIJE: 50 godina od izgradnje hotelsko-turističkog centra
DESCRIPTION:U četvrtak 30.10. otvaramo izložbu posvećenu planiranju\, izgradnji i djelovanju Hotelsko-turističkog centra Babin Kuk. Lapadsku Dubravu zamislili su i projektirali brojni domaći i strani stručnjaci\, na izgradnji je sudjelovalo i preko tri tisuće radnika i inženjera istovremeno\, a njeno otvaranje u lipnju 1976. oblikovalo zabavni i društveni život Grada. Postala je mjesto susreta Dubrovčana i njihovih gostiju\, koji su u njenim hotelima\, restoranima\, barovima\, šetnicama i parkovima zajednički stvarali uspomene za cijeli život.\n\nNa izložbi će kroz tekstove\, fotografije\, novinske članke i predmete biti predstavljena polustoljetna povijest ovog prostora\, oblikovanog za najveću kvalitetu i iskoristivost: od projektiranja\, nikad dovršene izgradnje\, zabavnog života\, do ratnih i poratnih godina.\n\nAutori izložbe su Ivan Lujo\, povjesničar i kustos Muzeja crvene povijesti i Krunoslav Šmit\, profesor na Arhitektonskom fakultetu u Zagrebu. Dizajn postava potpisuje Studio Bonsenjo.\n\nIzložba ostaje otvorena do početka prosinca.Pokrovitelji izložbe su: Grad Dubrovnik\, Ministarstvo kulture RH i Valamar.
URL:https://dubrovnik.today/event/izlozba-babin-kuk-planiranje-utopije-50-godina-od-izgradnje-hotelsko-turistickog-centra/
LOCATION:Muzej crvene povijesti\, Ulica Svetog Križa 3\, Dubrovnik\, Dubrovačko-neretvanska\, 20000\, Croatia
CATEGORIES:Music
ATTACH;FMTTYPE=image/jpeg:https://dubrovnik.today/wp-content/uploads/2025/10/561910977_1385058940290589_5235604758939907485_n.jpg
ORGANIZER;CN="Muzej crvene povijesti":MAILTO:info@redhistorymuseum.com
GEO:42.6591959;18.0871613
X-APPLE-STRUCTURED-LOCATION;VALUE=URI;X-ADDRESS=Muzej crvene povijesti Ulica Svetog Križa 3 Dubrovnik Dubrovačko-neretvanska 20000 Croatia;X-APPLE-RADIUS=500;X-TITLE=Ulica Svetog Križa 3:geo:18.0871613,42.6591959
END:VEVENT
BEGIN:VEVENT
DTSTART;TZID=Europe/Zagreb:20251103T163000
DTEND;TZID=Europe/Zagreb:20251103T180000
DTSTAMP:20260420T095330
CREATED:20251029T115224Z
LAST-MODIFIED:20251029T115224Z
UID:10007015-1762187400-1762192800@dubrovnik.today
SUMMARY:GABINA KUĆA LUTAKA / Gabby’s Dollhouse
DESCRIPTION:Od premijere serije Gabbyna kuća lutaka 2021. godine\, djeca diljem svijeta priređuju veliku zabavu s Gabby i njezinim prijateljima na Netflixu. Kreirane od strane proslavljenih pripovjedačica Traci Paige Johnson i Jennifer Twomey\, Gabbyna kuća za lutke je mješovita medijska serija za predškolce koja otkriva iznenađenje prije nego što uskoči u fantastičan animirani svijet pun preslatkih likova mačaka koji žive unutar Gabbyne kuće za lutke. U novom filmu\, Gabby (Laila Lockhart Kraner\, koja ponavlja svoju ulogu iz serije) kreće na putovanje sa svojom bakom Gigi (četverostruka dobitnica nagrade Grammy Gloria Estefan) u urbanu zemlju čuda Mačka Francisca. Ali kada Gabbyna kućica za lutke\, njezina najdragocjenija imovina\, završi u rukama ekscentrične žene s mačkama po imenu Vera (nominirana za Oscara® Kristen Wiig)\, Gabby kreće u avanturu kroz stvarni svijet kako bi ponovno okupila Gabby mačke i spasila kućicu za lutke.
URL:https://dubrovnik.today/event/gabina-kuca-lutaka-gabbys-dollhouse-2/2025-11-03/
LOCATION:Kino dvorana Visia\, Poljana Paska Miličevića 3\, Dubrovnik\, 20000\, Croatia
CATEGORIES:Cinema
ATTACH;FMTTYPE=image/jpeg:https://dubrovnik.today/wp-content/uploads/2025/10/gabby.jpg
ORGANIZER;CN="Kinematografi Dubrovnik":MAILTO:operater@kinematografi.org
GEO:42.6414431;18.1071797
X-APPLE-STRUCTURED-LOCATION;VALUE=URI;X-ADDRESS=Kino dvorana Visia Poljana Paska Miličevića 3 Dubrovnik 20000 Croatia;X-APPLE-RADIUS=500;X-TITLE=Poljana Paska Miličevića 3:geo:18.1071797,42.6414431
END:VEVENT
BEGIN:VEVENT
DTSTART;TZID=Europe/Zagreb:20251103T183000
DTEND;TZID=Europe/Zagreb:20251103T203000
DTSTAMP:20260420T095330
CREATED:20251022T053503Z
LAST-MODIFIED:20251104T072035Z
UID:10007011-1762194600-1762201800@dubrovnik.today
SUMMARY:TESTAMENT ( Amanet 2 )
DESCRIPTION:Testament je duhovita i emotivna priča smještena u bosansko selo i industrijsku Zenicu početkom devedesetih\, koja na svojstven način prikazuje važnost testamenta i posljedice njegovog nepostojanja u lokalnoj kulturi. Kroz živote običnih ljudi\, film donosi niz malih sukoba i nesporazuma oko imovine\, tradicije i međuljudskih odnosa\, gdje se stari običaji sudaraju sa stvarnošću punom ljudskih slabosti – kocke\, tračeva\, ljubavi i sitnih krađa. \nGlavni lik Asad\, nakon što ostaje bez očevog nasljedstva\, mora se snaći u svijetu industrijske Zenice\, kafane i svakodnevnih seoskih problema u čemu mu pomaže najbolji prijatelj Dževad\, šarmantni lik\, koji se suočava s vlastitim problemima i uvijek traži prečicu do rješenja.
URL:https://dubrovnik.today/event/testament-amanet-2/2025-11-03/
LOCATION:Kino dvorana Visia\, Poljana Paska Miličevića 3\, Dubrovnik\, 20000\, Croatia
CATEGORIES:Cinema
ATTACH;FMTTYPE=image/jpeg:https://dubrovnik.today/wp-content/uploads/2025/10/TESTAMENT-1920x1080px-T-PORTAL.jpg
ORGANIZER;CN="Kinematografi Dubrovnik":MAILTO:operater@kinematografi.org
GEO:42.6414431;18.1071797
X-APPLE-STRUCTURED-LOCATION;VALUE=URI;X-ADDRESS=Kino dvorana Visia Poljana Paska Miličevića 3 Dubrovnik 20000 Croatia;X-APPLE-RADIUS=500;X-TITLE=Poljana Paska Miličevića 3:geo:18.1071797,42.6414431
END:VEVENT
BEGIN:VEVENT
DTSTART;TZID=Europe/Zagreb:20251103T193000
DTEND;TZID=Europe/Zagreb:20251103T210000
DTSTAMP:20260420T095330
CREATED:20251017T070548Z
LAST-MODIFIED:20251017T070548Z
UID:10006894-1762198200-1762203600@dubrovnik.today
SUMMARY:Kvintet Zadarskog komornog orkestra
DESCRIPTION:Kvintet Zadarskog komornog orkestra\n3.11. ponedjelja\, Revelin-Slanica u 19:30 h \nPROGRAM:\nJ. Haydn: Kvartet u G-duru op. 76 br. 1\nF. Schubert: Kvintet u C-duru za dvije violine\, violu i dva violončela D 956
URL:https://dubrovnik.today/event/kvintet-zadarskog-komornog-orkestra/
LOCATION:Tvrđava Revelin\, Ul. Svetog Dominika 3\, Dubrovnik\, 20000\, Croatia
CATEGORIES:Music
ATTACH;FMTTYPE=image/jpeg:https://dubrovnik.today/wp-content/uploads/2025/10/zadarski-komorni1.jpg
ORGANIZER;CN="Dubrova%C4%8Dki simfonijski orkestar / Dubrovnik Symphony Orchestra":MAILTO:marketing@dso.hr
GEO:42.6416325;18.1109116
X-APPLE-STRUCTURED-LOCATION;VALUE=URI;X-ADDRESS=Tvrđava Revelin Ul. Svetog Dominika 3 Dubrovnik 20000 Croatia;X-APPLE-RADIUS=500;X-TITLE=Ul. Svetog Dominika 3:geo:18.1109116,42.6416325
END:VEVENT
BEGIN:VEVENT
DTSTART;TZID=Europe/Zagreb:20251103T200000
DTEND;TZID=Europe/Zagreb:20251103T230000
DTSTAMP:20260420T095330
CREATED:20251102T080546Z
LAST-MODIFIED:20251102T080546Z
UID:10007032-1762200000-1762210800@dubrovnik.today
SUMMARY:Dub Pub kviz sportske lige
DESCRIPTION:Tko ima najviše sportskog znanja saznat ćemo ovog ponedjeljka u Time outa\, na prvom kvizu ovogodišnje lige!\n\nAko ne igrate ligu\, svejedno se možete pridružiti kad god želite i igrati za brojne tjedne nagrade koje spremamo! \n\n10 ligaških ekipa već je spremno za dvoboje\, a prijave su i dalje otvorene!
URL:https://dubrovnik.today/event/dub-pub-kviz-sportske-lige/
LOCATION:TIME OUT caffe\, Iva Vojnovića 23\, Dubrovnik\, Dubrovačko-neretvanska\, 20000\, Croatia
CATEGORIES:Pub quiz
ATTACH;FMTTYPE=image/jpeg:https://dubrovnik.today/wp-content/uploads/2025/11/573977556_825082883350106_5420505342552859691_n.jpg
ORGANIZER;CN="Dub Pub Kviz":MAILTO:https://www.facebook.com/DubPubKviz
GEO:42.6483296;18.0853719
X-APPLE-STRUCTURED-LOCATION;VALUE=URI;X-ADDRESS=TIME OUT caffe Iva Vojnovića 23 Dubrovnik Dubrovačko-neretvanska 20000 Croatia;X-APPLE-RADIUS=500;X-TITLE=Iva Vojnovića 23:geo:18.0853719,42.6483296
END:VEVENT
BEGIN:VEVENT
DTSTART;TZID=Europe/Zagreb:20251103T203000
DTEND;TZID=Europe/Zagreb:20251103T223000
DTSTAMP:20260420T095330
CREATED:20251029T114851Z
LAST-MODIFIED:20251029T114851Z
UID:10007008-1762201800-1762209000@dubrovnik.today
SUMMARY:GOSPODAR MRTVIH / The Shrouds
DESCRIPTION:U filmu Gospodar mrtvih uspješni poduzetnik Karsh (Vincent Cassel) dizajnirao je visoko tehnološko groblje\, nalik na mauzolej\, opremljen kamerama koje omogućavaju korisnicima pregledavanje tijela njihovih najbližih u realnom vremenu. Karsh je ovu najmoderniju tehnologiju naziva GraveTech kreirao iz razloga što je upravo izgubio suprugu Beccu (Diane Kruger) nakon iscrpljujuće bolesti. S njezinom sestrom blizankom Terry (također Kruger)\, njezinim bivšim suprugom Mauryjem (Guy Pearce) te sa svojom asistenticom u obliku umjetne inteligencije (kojoj glas posuđuje Kruger)\, a o kojoj je postao iznimno ovisan\, Kersh učestalo raspravlja o tome kako ima problema nastaviti s normalnim životom. No\, nakon što jedno od groblja biva vandalizirano\, uključujući i Beccin grob\, Karsh pokreće istragu premda se čini da će pronalazak odgovornih biti puno teži nego je to on zamislio\, jer osumnjičenih ne nedostaje…
URL:https://dubrovnik.today/event/gospodar-mrtvih-the-shrouds-2/
LOCATION:Kino dvorana Visia\, Poljana Paska Miličevića 3\, Dubrovnik\, 20000\, Croatia
CATEGORIES:Cinema
ATTACH;FMTTYPE=image/jpeg:https://dubrovnik.today/wp-content/uploads/2025/10/Gospodar-mrtvih.jpg
ORGANIZER;CN="Kinematografi Dubrovnik":MAILTO:operater@kinematografi.org
GEO:42.6414431;18.1071797
X-APPLE-STRUCTURED-LOCATION;VALUE=URI;X-ADDRESS=Kino dvorana Visia Poljana Paska Miličevića 3 Dubrovnik 20000 Croatia;X-APPLE-RADIUS=500;X-TITLE=Poljana Paska Miličevića 3:geo:18.1071797,42.6414431
END:VEVENT
END:VCALENDAR