BEGIN:VCALENDAR
VERSION:2.0
PRODID:-//dbk.life - ECPv6.15.12//NONSGML v1.0//EN
CALSCALE:GREGORIAN
METHOD:PUBLISH
X-WR-CALNAME:dbk.life
X-ORIGINAL-URL:https://dubrovnik.today
X-WR-CALDESC:Events for dbk.life
REFRESH-INTERVAL;VALUE=DURATION:PT1H
X-Robots-Tag:noindex
X-PUBLISHED-TTL:PT1H
BEGIN:VTIMEZONE
TZID:Europe/Zagreb
BEGIN:DAYLIGHT
TZOFFSETFROM:+0100
TZOFFSETTO:+0200
TZNAME:CEST
DTSTART:20240331T010000
END:DAYLIGHT
BEGIN:STANDARD
TZOFFSETFROM:+0200
TZOFFSETTO:+0100
TZNAME:CET
DTSTART:20241027T010000
END:STANDARD
BEGIN:DAYLIGHT
TZOFFSETFROM:+0100
TZOFFSETTO:+0200
TZNAME:CEST
DTSTART:20250330T010000
END:DAYLIGHT
BEGIN:STANDARD
TZOFFSETFROM:+0200
TZOFFSETTO:+0100
TZNAME:CET
DTSTART:20251026T010000
END:STANDARD
BEGIN:DAYLIGHT
TZOFFSETFROM:+0100
TZOFFSETTO:+0200
TZNAME:CEST
DTSTART:20260329T010000
END:DAYLIGHT
BEGIN:STANDARD
TZOFFSETFROM:+0200
TZOFFSETTO:+0100
TZNAME:CET
DTSTART:20261025T010000
END:STANDARD
END:VTIMEZONE
BEGIN:VEVENT
DTSTART;TZID=Europe/Zagreb:20251014T190000
DTEND;TZID=Europe/Zagreb:20251028T170000
DTSTAMP:20260420T032153
CREATED:20251014T075149Z
LAST-MODIFIED:20251014T075149Z
UID:10006834-1760468400-1761670800@dubrovnik.today
SUMMARY:HRVOJE HIRŠL  Proces i sustav
DESCRIPTION:Hrvatsko društvo likovnih umjetnika Dubrovnik i Galerija Flora sa zadovoljstvom Vas pozivaju na otvorenje izložbe HRVOJE HIRŠL: Proces i sustav koje će se održati u utorak 14. listopada u 19 sati u Galeriji Flora.Izložba se može pogledati do 28. listopada svaki dan od 13 do 18 sati.Izložba se može pogledati i u drugim terminima ako su vrata Florina doma otvorena\, te najavom na mejl galerijaflora.dbk@gmail.comVeselimo se Vašem dolasku i druženju u Flori.Program Galerije Flora i Medijateke suvremenih umjetničkih praksi ostvaruje se uz financijsku potporu Grada Dubrovnika i Ministarstva kulture i medija RH\, kojima ovom prilikom zahvaljujemo na podršci.Medijski partner: Plan for Culture
URL:https://dubrovnik.today/event/hrvoje-hirsl-proces-i-sustav/
LOCATION:Galerija Flora\, Šetaliste kralja Zvonimira 32\, Dubrovnik\, Dubrovačko-neretvanska\, 20000\, Croatia
CATEGORIES:Exhibition
ATTACH;FMTTYPE=image/jpeg:https://dubrovnik.today/wp-content/uploads/2025/10/550538084_1313380470582348_1573531724273327394_n.jpg
ORGANIZER;CN="Galerija Flora":MAILTO:hdludubrovnik@gmail.com
GEO:42.656403;18.0745061
X-APPLE-STRUCTURED-LOCATION;VALUE=URI;X-ADDRESS=Galerija Flora Šetaliste kralja Zvonimira 32 Dubrovnik Dubrovačko-neretvanska 20000 Croatia;X-APPLE-RADIUS=500;X-TITLE=Šetaliste kralja Zvonimira 32:geo:18.0745061,42.656403
END:VEVENT
BEGIN:VEVENT
DTSTART;TZID=Europe/Zagreb:20251015T190000
DTEND;TZID=Europe/Zagreb:20251107T170000
DTSTAMP:20260420T032153
CREATED:20251008T145304Z
LAST-MODIFIED:20251008T145304Z
UID:10006778-1760554800-1762534800@dubrovnik.today
SUMMARY:BORIS BURIĆ "Tišina"
DESCRIPTION:U srijedu 15. 10. u 19 sati u Galeriji Otok otvorit ćemo izložbu Borisa Burića  TIŠINA.Sve vas pozivamo.\n\nBoris Burić • TišinaU vremenu globalnih eskalacija koje razdiru kulturne\, političke i društvene strukture\, nepredvidivost postaje dominantno iskustvo. Temeljne vrijednosti nezaustavljivo se raslojavaju\, a sloboda izražavanja postupno krnji. Time umjetnost postaje prostor otpora\, ali i osjetljivo mjerilo krize društva gdje kroz pokušaje njezinog utišavanja\, ograničavanja ili instrumentalizacije postajemo svjesniji prijetnji koje nagrizaju zajednički prostor mišljenja i djelovanja. Stoga\, ulazak u Tišinu Borisa Burića nije neutralan čin nego refleksija stanja. Štoviše\, suočeni s potpunim mrakom svjedoci smo nekonvencionalnoj izložbenoj praksi koja klasičnu estetsku gestu transformira rezom odnosno suspenzijom svega poznatog ponajprije temeljenog na osjetilu vida. Kada svjetlo iščezne\, ostaje tijelo koje traži oslonce u zvuku\, mirisu i nesigurnim kretnjama drugih. Takva početna destabilizacija nije slučajna jer lišeni mogućnosti gledanja\, postajemo aktivni dionik\, tijelo koje reagira\, improvizira i uči iz vlastite ranjivosti.Osjećajući apsurd suvremenog života\, Burić uspostavlja narativ koji otvara slojeve asocijacija. Ovdje tišina nije odsutnost zvuka nego prostor napetosti\, nelagode i nesigurnosti uzrokovane društvenim kolapsima. Poput dobro razrađene sabotaže\, tišina odbija isporučiti sadržaj koji se može jednoznačno protumačiti\, ne dopušta da se značenje razmijeni na brzinu niti da se iskustvo arhivira u nekoliko fotografija ili rečenica. Tišina je prostor koji traži dulje trajanje\, tijelo koje ostaje zbunjeno i um koji se mora suočiti s onim što se ne može odmah razumjeti. Otkrivajući višeznačnost svakog znaka odnosno umjetničke instalacije koje tvore smislenu umjetničku cjelinu\, spoznajemo kako tišina\, na simboličkoj razini generirana mrakom\, paradoksalno postaje prepuna značenja. Miris baruta ili tamjana funkcioniraju poput rituala. Ipak\, to nisu samo podražaji već reference koje šire percepciju značenja: od tjelesnog i prolaznog\, prijetećeg i memorijskog do duhovnog i ritualnog. S druge strane\, zvuk oštrenja sablje koji se u pravilnim razmacima javlja u prostoru\, dodatno strukturira tišinu bez inicijalne namjere za njenim dokidanjem. Akustični reljef koji oblikuje pravilan ritmički rez\, podsjeća nas da u tišini gotovo nikada nema potpune sigurnosti i uvijek je na rubu da se prelomi u nešto drugo. Koristeći upravo te svakodnevne\, jednostavne geste – mrak\, miris\, zvuk – Burić ne gradi spektakl nego provocira iskustvo. Njegov rad u tom smislu nije grandiozan već neumoljiv\, te ne dopušta promatraču da ostane indiferentan. (…) U tekstu o izložbi napisala je Katerina Jovanović.\nIzložba se može posjetiti do 7. studenog radnim danima od 11 do 19 sati.
URL:https://dubrovnik.today/event/boris-buric-tisina/
LOCATION:art radionica lazareti # art workshop lazareti\, Frana Supila 8\, Dubrovnik\, Dubrovačko-neretvanska\, 20000\, Croatia
CATEGORIES:Exhibition
ATTACH;FMTTYPE=image/jpeg:https://dubrovnik.today/wp-content/uploads/2025/10/558092984_1388070473319407_8457404030757813387_n.jpg
ORGANIZER;CN="art radionica lazareti # art workshop lazareti":MAILTO:art@du.t-com.hr
GEO:42.6416755;18.1145855
X-APPLE-STRUCTURED-LOCATION;VALUE=URI;X-ADDRESS=art radionica lazareti # art workshop lazareti Frana Supila 8 Dubrovnik Dubrovačko-neretvanska 20000 Croatia;X-APPLE-RADIUS=500;X-TITLE=Frana Supila 8:geo:18.1145855,42.6416755
END:VEVENT
BEGIN:VEVENT
DTSTART;TZID=Europe/Zagreb:20251022T163000
DTEND;TZID=Europe/Zagreb:20251022T180000
DTSTAMP:20260420T032153
CREATED:20251017T060217Z
LAST-MODIFIED:20251104T071949Z
UID:10006865-1761150600-1761156000@dubrovnik.today
SUMMARY:ŠAPE U AKCIJI / Pets on a Train
DESCRIPTION:Vlak juri\, nevolja stiže – a spašavanje tek počinje! Velika animirana pustolovina za cijelu obitelj – smijeh\, akcija i prijateljstvo na svakoj stanici! Kad banda luckastih životinjskih prevaranata krene u još jednu svoju smicalicu\, stvari brzo izmaknu kontroli – i završe usred prave pljačke vlaka! Sada su svi u opasnosti\, a jedina nada je neobičan par: snalažljivi rakun s ne baš čistim dosjeom\, i Rex\, hrabri policijski pas koji uvijek igra po pravilima. Na vlaku koji juri punom brzinom\, moraju naučiti surađivati kako bi spasili životinje\, zaustavili zlikovce – i možda postali pravi heroji!
URL:https://dubrovnik.today/event/sape-u-akciji-pets-on-a-train/2025-10-22/
LOCATION:Kino Sloboda\, Luža 66\, Dubrovnik\, Dubrovačko-neretvanska\, 20000\, Croatia
CATEGORIES:Cinema
ATTACH;FMTTYPE=image/jpeg:https://dubrovnik.today/wp-content/uploads/2025/10/FB_COVER_PETS_ON_TRAIN_HR.jpg
ORGANIZER;CN="Kinematografi Dubrovnik":MAILTO:operater@kinematografi.org
GEO:42.6409105;18.1101717
X-APPLE-STRUCTURED-LOCATION;VALUE=URI;X-ADDRESS=Kino Sloboda Luža 66 Dubrovnik Dubrovačko-neretvanska 20000 Croatia;X-APPLE-RADIUS=500;X-TITLE=Luža 66:geo:18.1101717,42.6409105
END:VEVENT
BEGIN:VEVENT
DTSTART;TZID=Europe/Zagreb:20251022T170000
DTEND;TZID=Europe/Zagreb:20251022T190000
DTSTAMP:20260420T032153
CREATED:20251021T090011Z
LAST-MODIFIED:20251021T090011Z
UID:10006923-1761152400-1761159600@dubrovnik.today
SUMMARY:WikiBrunch - #2 Participativne prakse dokumentiranja i arhivistike - radionica i praktični rad
DESCRIPTION:PARTICIPATIVNE PRAKSE WIKIMEDIA DOKUMENTIRANJA I ARHIVISTIKE – praktični rad\nSrijeda 22.10.2025. od 17:00h\n** Molimo vas da donesete svoje laptope i da nam se najavite na arl@arl.hr ***** osvježenje\, kafa\, limunada\, wi-fi – osigurani\nWikipedija kao najpopularniji neprofitni website skoro 25 godina stvorila je uz/oko sebe web alate\, usluge\, projekte\, zajednice i prakse koje mogu koristiti i drugi za razvoj svojih webova\, zajednica i sadržaja.\nNezavisne i participativne arhive (nekad nazivane i komunalne arhive)\, potiču raznovrsnosne oblike doprinosa i interakcija umjetničkih i kulturnih organizacija i inicijativa sa širom zajednicom i umjetnicima/umjetnošću.\nOvu aktivnost HR Wikimedijalci započinju s fokusom na umjetnost i zajednicu\, a u/sa organizacijom kao ARL. To je dio dužeg i većeg rada informiranog feminističkim\, queer\, dekolonijalnim i drugim progresivnim Wikimedia praksama. Aktivnost u sklopu programa koji reflektiraju 35 godina ARL i kontekst pokreta Otvorenog znanja i kulture (uključujući 2007 iSummit gdje je ARL bio domaćin a Wikimedijalci iz cijelog svijeta su bili gosti).\nBit će ovo poticanja održivog i participativnog dokumentiranja i arhiviranja besplatnim alatima/web servisima i slobodnim licencama.\nFacilitator će biti Željko Blaće (pokretač HrW i GLAM incijativa\, Wikimedijalac u rezidenciji MUR.at i suradnik Art+Feminism kampanje).\nCilj je informiranje i inspiranje na rad oko dokumentiranja izložbi\, programa\, medijskih reakcija i intervencija\, posredovanjem na različite Wikimedijine sestrinske projekte i infrastrukture.\nRadionica je i online na https://meet.jit.si/WikiBrunch\nLinkovi na inicijative:https://www.wikidata.org/…/Wikidata:WikiProject_Croatia… (za Dubrovnik)\nhttps://hr.wikipedia.org/wiki/Wikipedija:HrW_inicijativahttps://hr.wikipedia.org/wiki/Wikipedia:GLAMhttps://hr.wikipedia.org/wiki/Art+Feminism
URL:https://dubrovnik.today/event/wikibrunch-2-participativne-prakse-dokumentiranja-i-arhivistike-radionica-i-prakticni-rad/
LOCATION:art radionica lazareti # art workshop lazareti\, Frana Supila 8\, Dubrovnik\, Dubrovačko-neretvanska\, 20000\, Croatia
CATEGORIES:Workshop
ORGANIZER;CN="art radionica lazareti # art workshop lazareti":MAILTO:art@du.t-com.hr
GEO:42.6416755;18.1145855
X-APPLE-STRUCTURED-LOCATION;VALUE=URI;X-ADDRESS=art radionica lazareti # art workshop lazareti Frana Supila 8 Dubrovnik Dubrovačko-neretvanska 20000 Croatia;X-APPLE-RADIUS=500;X-TITLE=Frana Supila 8:geo:18.1145855,42.6416755
END:VEVENT
BEGIN:VEVENT
DTSTART;TZID=Europe/Zagreb:20251022T183000
DTEND;TZID=Europe/Zagreb:20251022T203000
DTSTAMP:20260420T032153
CREATED:20251017T060447Z
LAST-MODIFIED:20251022T054434Z
UID:10006868-1761157800-1761165000@dubrovnik.today
SUMMARY:ŽENE\, LUĐACI I MALO DOBRIH PEDERA
DESCRIPTION:Robert (37) – pisac\, novinar i alkoholičar s PTSP-om – spavao je s četiri žene\, dobio otkaz kao novinar i zaposlio se kao scenarist\, postao otac i krsni kum\, potukao se\, zaradio spolne bolesti i opekline\, uzrokovao otkaz prijateljici i još mnogo gore stvari – u samo četiri pijana dana.
URL:https://dubrovnik.today/event/zene-ludaci-i-malo-dobrih-pedera/2025-10-22/
LOCATION:Kino Sloboda\, Luža 66\, Dubrovnik\, Dubrovačko-neretvanska\, 20000\, Croatia
CATEGORIES:Cinema
ATTACH;FMTTYPE=image/jpeg:https://dubrovnik.today/wp-content/uploads/2025/10/FIDFGocq.jpg
ORGANIZER;CN="Kinematografi Dubrovnik":MAILTO:operater@kinematografi.org
GEO:42.6409105;18.1101717
X-APPLE-STRUCTURED-LOCATION;VALUE=URI;X-ADDRESS=Kino Sloboda Luža 66 Dubrovnik Dubrovačko-neretvanska 20000 Croatia;X-APPLE-RADIUS=500;X-TITLE=Luža 66:geo:18.1101717,42.6409105
END:VEVENT
BEGIN:VEVENT
DTSTART;TZID=Europe/Zagreb:20251022T200000
DTEND;TZID=Europe/Zagreb:20251022T223000
DTSTAMP:20260420T032153
CREATED:20251017T074346Z
LAST-MODIFIED:20251017T074346Z
UID:10006907-1761163200-1761172200@dubrovnik.today
SUMMARY:KVIZ O HAJDUKU
DESCRIPTION:Drage kvizašice i kvizaši\, ljubitelji bilih boja\, pozivamo vas na posebno izdanje kviza posvećenog Hajduku! ⚪️🔵🔴 \n  \nVidimo se u srijedu\, 22. listopada s početkom u 20:00h u Capitanu\, gdje ćemo testirati vaše znanje o povijesti\, legendama\, utakmicama i svim onim sitnicama koje Hajduk čine posebnim. \n  \nKviz je osmišljen za sve – od onih koji znaju svaku postavu od 1911. pa do onih kojima je dovoljno čuti „Hajduk živi vječno“ da im srce zadrhti. ❤️ \nPrijave \nNAGRADE: Najbolje i najsretnije ekipe očekuju vrijedne i zanimljive nagrade. \n👉 Pravila: \nEkipa može imati maksimalno 5 članova \nKotizacija iznosi 12 eura po ekipi \nNAPOMENA: Ako vaša ekipa ne može prisustvovati kvizu\, molimo da nas što prije obavijestite nakako bismo oslobodili mjesto za druge zainteresirane. \n📌 Prijave su otvorene do srijede 22.10. u 20:00h ili do popunjenja kapaciteta. \nDođite\, zabavite se i pokažite koliko poznajete Hajduka – jer Hajduk živi vječno! ⚪️🔵🔴
URL:https://dubrovnik.today/event/kviz-o-hajduku/
LOCATION:Capitano Bar\, Tenturija 96\, Komolac\, Dubrovačko-neretvanska\, 20236\, Croatia
CATEGORIES:Pub quiz
ATTACH;FMTTYPE=image/jpeg:https://dubrovnik.today/wp-content/uploads/2025/10/Screenshot_20251017-0939452.jpg
ORGANIZER;CN="Urbana Kviz Pri%C4%8Da - Dubrovnik":MAILTO:https://www.instagram.com/dubrovackakvizzprica/
GEO:42.6734376;18.1360486
X-APPLE-STRUCTURED-LOCATION;VALUE=URI;X-ADDRESS=Capitano Bar Tenturija 96 Komolac Dubrovačko-neretvanska 20236 Croatia;X-APPLE-RADIUS=500;X-TITLE=Tenturija 96:geo:18.1360486,42.6734376
END:VEVENT
BEGIN:VEVENT
DTSTART;TZID=Europe/Zagreb:20251022T203000
DTEND;TZID=Europe/Zagreb:20251022T220000
DTSTAMP:20260420T032153
CREATED:20251017T055838Z
LAST-MODIFIED:20251022T053619Z
UID:10006860-1761165000-1761170400@dubrovnik.today
SUMMARY:DOBRA KARMA / Good Fortune
DESCRIPTION:U nebeskoj misiji s puno kaosa\, Gabriel – simpatični\, ali prilično nespretni anđeo – odlučuje intervenirati u živote dvoje potpuno različitih ljudi: preopterećenog honorarca i bahatog milijunaša iz svijeta start-upa. No kako se božanski planovi miješaju s ljudskim slabostima\, stvari brzo izmiču kontroli i rađa se urnebesna komedija o sudbini\, privilegijama i velikim (ne)srećama koje nas mogu zbližiti.
URL:https://dubrovnik.today/event/dobra-karma-good-fortune/2025-10-22/
LOCATION:Kino Sloboda\, Luža 66\, Dubrovnik\, Dubrovačko-neretvanska\, 20000\, Croatia
CATEGORIES:Cinema
ATTACH;FMTTYPE=image/jpeg:https://dubrovnik.today/wp-content/uploads/2025/10/FB_COVER_GOOD_FORTUNE_HR.jpg
ORGANIZER;CN="Kinematografi Dubrovnik":MAILTO:operater@kinematografi.org
GEO:42.6409105;18.1101717
X-APPLE-STRUCTURED-LOCATION;VALUE=URI;X-ADDRESS=Kino Sloboda Luža 66 Dubrovnik Dubrovačko-neretvanska 20000 Croatia;X-APPLE-RADIUS=500;X-TITLE=Luža 66:geo:18.1101717,42.6409105
END:VEVENT
END:VCALENDAR