BEGIN:VCALENDAR
VERSION:2.0
PRODID:-//dbk.life - ECPv6.15.12//NONSGML v1.0//EN
CALSCALE:GREGORIAN
METHOD:PUBLISH
X-ORIGINAL-URL:https://dubrovnik.today
X-WR-CALDESC:Events for dbk.life
REFRESH-INTERVAL;VALUE=DURATION:PT1H
X-Robots-Tag:noindex
X-PUBLISHED-TTL:PT1H
BEGIN:VTIMEZONE
TZID:Europe/Zagreb
BEGIN:DAYLIGHT
TZOFFSETFROM:+0100
TZOFFSETTO:+0200
TZNAME:CEST
DTSTART:20240331T010000
END:DAYLIGHT
BEGIN:STANDARD
TZOFFSETFROM:+0200
TZOFFSETTO:+0100
TZNAME:CET
DTSTART:20241027T010000
END:STANDARD
BEGIN:DAYLIGHT
TZOFFSETFROM:+0100
TZOFFSETTO:+0200
TZNAME:CEST
DTSTART:20250330T010000
END:DAYLIGHT
BEGIN:STANDARD
TZOFFSETFROM:+0200
TZOFFSETTO:+0100
TZNAME:CET
DTSTART:20251026T010000
END:STANDARD
BEGIN:DAYLIGHT
TZOFFSETFROM:+0100
TZOFFSETTO:+0200
TZNAME:CEST
DTSTART:20260329T010000
END:DAYLIGHT
BEGIN:STANDARD
TZOFFSETFROM:+0200
TZOFFSETTO:+0100
TZNAME:CET
DTSTART:20261025T010000
END:STANDARD
END:VTIMEZONE
BEGIN:VEVENT
DTSTART;TZID=Europe/Zagreb:20251014T190000
DTEND;TZID=Europe/Zagreb:20251028T170000
DTSTAMP:20260420T032151
CREATED:20251014T075149Z
LAST-MODIFIED:20251014T075149Z
UID:10006834-1760468400-1761670800@dubrovnik.today
SUMMARY:HRVOJE HIRŠL  Proces i sustav
DESCRIPTION:Hrvatsko društvo likovnih umjetnika Dubrovnik i Galerija Flora sa zadovoljstvom Vas pozivaju na otvorenje izložbe HRVOJE HIRŠL: Proces i sustav koje će se održati u utorak 14. listopada u 19 sati u Galeriji Flora.Izložba se može pogledati do 28. listopada svaki dan od 13 do 18 sati.Izložba se može pogledati i u drugim terminima ako su vrata Florina doma otvorena\, te najavom na mejl galerijaflora.dbk@gmail.comVeselimo se Vašem dolasku i druženju u Flori.Program Galerije Flora i Medijateke suvremenih umjetničkih praksi ostvaruje se uz financijsku potporu Grada Dubrovnika i Ministarstva kulture i medija RH\, kojima ovom prilikom zahvaljujemo na podršci.Medijski partner: Plan for Culture
URL:https://dubrovnik.today/event/hrvoje-hirsl-proces-i-sustav/
LOCATION:Galerija Flora\, Šetaliste kralja Zvonimira 32\, Dubrovnik\, Dubrovačko-neretvanska\, 20000\, Croatia
CATEGORIES:Exhibition
ATTACH;FMTTYPE=image/jpeg:https://dubrovnik.today/wp-content/uploads/2025/10/550538084_1313380470582348_1573531724273327394_n.jpg
ORGANIZER;CN="Galerija Flora":MAILTO:hdludubrovnik@gmail.com
GEO:42.656403;18.0745061
X-APPLE-STRUCTURED-LOCATION;VALUE=URI;X-ADDRESS=Galerija Flora Šetaliste kralja Zvonimira 32 Dubrovnik Dubrovačko-neretvanska 20000 Croatia;X-APPLE-RADIUS=500;X-TITLE=Šetaliste kralja Zvonimira 32:geo:18.0745061,42.656403
END:VEVENT
BEGIN:VEVENT
DTSTART;TZID=Europe/Zagreb:20251015T190000
DTEND;TZID=Europe/Zagreb:20251107T170000
DTSTAMP:20260420T032151
CREATED:20251008T145304Z
LAST-MODIFIED:20251008T145304Z
UID:10006778-1760554800-1762534800@dubrovnik.today
SUMMARY:BORIS BURIĆ "Tišina"
DESCRIPTION:U srijedu 15. 10. u 19 sati u Galeriji Otok otvorit ćemo izložbu Borisa Burića  TIŠINA.Sve vas pozivamo.\n\nBoris Burić • TišinaU vremenu globalnih eskalacija koje razdiru kulturne\, političke i društvene strukture\, nepredvidivost postaje dominantno iskustvo. Temeljne vrijednosti nezaustavljivo se raslojavaju\, a sloboda izražavanja postupno krnji. Time umjetnost postaje prostor otpora\, ali i osjetljivo mjerilo krize društva gdje kroz pokušaje njezinog utišavanja\, ograničavanja ili instrumentalizacije postajemo svjesniji prijetnji koje nagrizaju zajednički prostor mišljenja i djelovanja. Stoga\, ulazak u Tišinu Borisa Burića nije neutralan čin nego refleksija stanja. Štoviše\, suočeni s potpunim mrakom svjedoci smo nekonvencionalnoj izložbenoj praksi koja klasičnu estetsku gestu transformira rezom odnosno suspenzijom svega poznatog ponajprije temeljenog na osjetilu vida. Kada svjetlo iščezne\, ostaje tijelo koje traži oslonce u zvuku\, mirisu i nesigurnim kretnjama drugih. Takva početna destabilizacija nije slučajna jer lišeni mogućnosti gledanja\, postajemo aktivni dionik\, tijelo koje reagira\, improvizira i uči iz vlastite ranjivosti.Osjećajući apsurd suvremenog života\, Burić uspostavlja narativ koji otvara slojeve asocijacija. Ovdje tišina nije odsutnost zvuka nego prostor napetosti\, nelagode i nesigurnosti uzrokovane društvenim kolapsima. Poput dobro razrađene sabotaže\, tišina odbija isporučiti sadržaj koji se može jednoznačno protumačiti\, ne dopušta da se značenje razmijeni na brzinu niti da se iskustvo arhivira u nekoliko fotografija ili rečenica. Tišina je prostor koji traži dulje trajanje\, tijelo koje ostaje zbunjeno i um koji se mora suočiti s onim što se ne može odmah razumjeti. Otkrivajući višeznačnost svakog znaka odnosno umjetničke instalacije koje tvore smislenu umjetničku cjelinu\, spoznajemo kako tišina\, na simboličkoj razini generirana mrakom\, paradoksalno postaje prepuna značenja. Miris baruta ili tamjana funkcioniraju poput rituala. Ipak\, to nisu samo podražaji već reference koje šire percepciju značenja: od tjelesnog i prolaznog\, prijetećeg i memorijskog do duhovnog i ritualnog. S druge strane\, zvuk oštrenja sablje koji se u pravilnim razmacima javlja u prostoru\, dodatno strukturira tišinu bez inicijalne namjere za njenim dokidanjem. Akustični reljef koji oblikuje pravilan ritmički rez\, podsjeća nas da u tišini gotovo nikada nema potpune sigurnosti i uvijek je na rubu da se prelomi u nešto drugo. Koristeći upravo te svakodnevne\, jednostavne geste – mrak\, miris\, zvuk – Burić ne gradi spektakl nego provocira iskustvo. Njegov rad u tom smislu nije grandiozan već neumoljiv\, te ne dopušta promatraču da ostane indiferentan. (…) U tekstu o izložbi napisala je Katerina Jovanović.\nIzložba se može posjetiti do 7. studenog radnim danima od 11 do 19 sati.
URL:https://dubrovnik.today/event/boris-buric-tisina/
LOCATION:art radionica lazareti # art workshop lazareti\, Frana Supila 8\, Dubrovnik\, Dubrovačko-neretvanska\, 20000\, Croatia
CATEGORIES:Exhibition
ATTACH;FMTTYPE=image/jpeg:https://dubrovnik.today/wp-content/uploads/2025/10/558092984_1388070473319407_8457404030757813387_n.jpg
ORGANIZER;CN="art radionica lazareti # art workshop lazareti":MAILTO:art@du.t-com.hr
GEO:42.6416755;18.1145855
X-APPLE-STRUCTURED-LOCATION;VALUE=URI;X-ADDRESS=art radionica lazareti # art workshop lazareti Frana Supila 8 Dubrovnik Dubrovačko-neretvanska 20000 Croatia;X-APPLE-RADIUS=500;X-TITLE=Frana Supila 8:geo:18.1145855,42.6416755
END:VEVENT
BEGIN:VEVENT
DTSTART;TZID=Europe/Zagreb:20251021T163000
DTEND;TZID=Europe/Zagreb:20251021T180000
DTSTAMP:20260420T032151
CREATED:20251017T060304Z
LAST-MODIFIED:20251017T060304Z
UID:10006866-1761064200-1761069600@dubrovnik.today
SUMMARY:ŠAPE U AKCIJI / Pets on a Train
DESCRIPTION:Vlak juri\, nevolja stiže – a spašavanje tek počinje! Velika animirana pustolovina za cijelu obitelj – smijeh\, akcija i prijateljstvo na svakoj stanici! Kad banda luckastih životinjskih prevaranata krene u još jednu svoju smicalicu\, stvari brzo izmaknu kontroli – i završe usred prave pljačke vlaka! Sada su svi u opasnosti\, a jedina nada je neobičan par: snalažljivi rakun s ne baš čistim dosjeom\, i Rex\, hrabri policijski pas koji uvijek igra po pravilima. Na vlaku koji juri punom brzinom\, moraju naučiti surađivati kako bi spasili životinje\, zaustavili zlikovce – i možda postali pravi heroji!
URL:https://dubrovnik.today/event/sape-u-akciji-pets-on-a-train-2/
LOCATION:Kino dvorana Visia\, Poljana Paska Miličevića 3\, Dubrovnik\, 20000\, Croatia
CATEGORIES:Cinema
ATTACH;FMTTYPE=image/jpeg:https://dubrovnik.today/wp-content/uploads/2025/10/FB_COVER_PETS_ON_TRAIN_HR.jpg
ORGANIZER;CN="Kinematografi Dubrovnik":MAILTO:operater@kinematografi.org
GEO:42.6414431;18.1071797
X-APPLE-STRUCTURED-LOCATION;VALUE=URI;X-ADDRESS=Kino dvorana Visia Poljana Paska Miličevića 3 Dubrovnik 20000 Croatia;X-APPLE-RADIUS=500;X-TITLE=Poljana Paska Miličevića 3:geo:18.1071797,42.6414431
END:VEVENT
BEGIN:VEVENT
DTSTART;TZID=Europe/Zagreb:20251021T170000
DTEND;TZID=Europe/Zagreb:20251021T180000
DTSTAMP:20260420T032151
CREATED:20251018T104713Z
LAST-MODIFIED:20251018T104736Z
UID:10006911-1761066000-1761069600@dubrovnik.today
SUMMARY:Predavanje: Studenti sa i bez šećerne bolesti – ima li razlike? - Akademska inkluzija
DESCRIPTION: Pozivamo vas na predavanje o tome kako izgleda svakodnevica mladih koji studiraju i žive sa šećernom bolešću. Govorit će se o preprekama na koje nailaze u akademskom životu\, kako usklađuju terapiju i obaveze te zašto je važno da okolina razumije njihove potrebe.\nPredavanje će održati dr. med. Sandi Tešanović\, specijalistica interne medicine i subspecijalistica endokrinologije i dijabetologije. Dugi niz godina radi s osobama koje boluju od šećerne bolesti\, a osobito ju motivira rad s mladima i pomaganje studentima da\, unatoč dijabetesu\, žive jednako kvalitetno i intenzivno kao i njihovi vršnjaci.\nPredavanje je namijenjeno sadašnjim i budućim studentima\, roditeljima\, profesorima i svim građanima koji žele bolje razumjeti život mladih sa šećernom bolešću.\nPridružite nam se na kampusu!
URL:https://dubrovnik.today/event/predavanje-studenti-sa-i-bez-secerne-bolesti-ima-li-razlike-akademska-inkluzija/
LOCATION:Sveučilište u Dubrovniku\, Branitelja Dubrovnika 29\, Dubrovnik\, Dubrovačko-neretvanska\, 20000\, Croatia
CATEGORIES:Lecture
ATTACH;FMTTYPE=image/jpeg:https://dubrovnik.today/wp-content/uploads/2025/10/565697202_820019124225357_6862198475345033289_n.jpg
GEO:42.643515;18.1020806
X-APPLE-STRUCTURED-LOCATION;VALUE=URI;X-ADDRESS=Sveučilište u Dubrovniku Branitelja Dubrovnika 29 Dubrovnik Dubrovačko-neretvanska 20000 Croatia;X-APPLE-RADIUS=500;X-TITLE=Branitelja Dubrovnika 29:geo:18.1020806,42.643515
END:VEVENT
BEGIN:VEVENT
DTSTART;TZID=Europe/Zagreb:20251021T180000
DTEND;TZID=Europe/Zagreb:20251021T193000
DTSTAMP:20260420T032151
CREATED:20251010T091359Z
LAST-MODIFIED:20251010T091359Z
UID:10006815-1761069600-1761075000@dubrovnik.today
SUMMARY:MJESEC HRVATSKE KNJIGE - Zvrkijada
DESCRIPTION:“U svijetu prepunom kratkih vijesti i brzih pretraživanja\, u kojemu informacije putuju brže nego ikada\, a buka i žurba bliski su pratioci ljudske svakodnevnice\, još uvijek postoje mjesta gdje se misao smije zadržati i rasti. Utočišta u kojima se može zastati\, pitati\, tražiti\, listati\, saznavati\, družiti\, povezivati\, zabavljati\, a ponekad tek – biti.\n\n\nMjesta učenja novih slova\, ali i starih znanja. Kutci u kojima istražujemo\, otkrivamo\, spoznajemo. Lokacije kojima se vraćamo i onda kada lutamo. To su knjižnice – one u kojima ideje žive\, zajednička dobra koja nas iznova podsjećaju da znanje nije luksuz\, već mora biti dostupno svima\, i da čitanje ne mora biti samo bijeg već i povratak sebi i svijetu…\n\n\nAli što je knjižnica bez knjižničara? Možemo li zamisliti prostor ispunjen knjigama bez onih koji tim knjigama daju život\, a prostoru smisao? Onih koji znanje čuvaju\, ali ga i nesebično dijele. Onih koji tihe i zatvorene riznice znanja pretvaraju u živa kulturna i društvena središta\, mjesta susreta i otkrića koja dobrodošlicu pružaju – svima. Knjižničar danas nije samo čuvar knjiga\, već i onaj koji osluškuje\, usmjerava i pomaže. Neprestano uči i stvara\, njeguje tradiciju istovremeno se prilagođavajući novim tehnologijama\, razvija informacijske vještine\, promiče ljepotu čitanja\, povezuje generacije i spaja naizgled nespojive svjetove… Baš poput renesansnog čovjeka\, otvorenog\, obrazovanog i znatiželjnog pojedinca\, koji neumorno traga za novim horizontima i povezuje različita znanja\, i suvremeni knjižničar nosi duh tog pomalo zaboravljenog\, ali i dalje živog ideala svestranosti.\n\n\nI zato ovaj Mjesec hrvatske knjige posvećujemo onima koji čine srce svake knjižnice\, onima koji nisu samo stručnjaci za knjige i čitanje\, nego stvaratelji okruženja u kojem znanje raste\, kultura se stvara i umnaža\, a različitosti nalaze prostor za uvažavajući dijalog i toleranciju. Ova je manifestacija prilika da istaknemo često manje primjetnu\, a izuzetno važnu ulogu knjižničara\, ali i da se zapitamo kako ostati vjeran humanističkim idealima u svijetu koji sve više oblikuju digitalne tehnologije.” (izvor: https://mhk.hr/mjesec-hrvatske-knjige-2025-odabrali… )\n\n\nU Ogranku Cavtat odabrali smo se posvetiti Ratku Zvrku i\, onima za koje je on najčešće pisao\, osnovnoškolcima\, stoga organiziramo – Zvrkijadu. Zvrkijada je ciklus radionica na kojima će polaznici istraživati crtice iz života Ratka Zvrka\, upoznat će se s njegovim djelima te ista analizirati i interpretirati kroz dramske\, literarne i likovne forme. Program su osmislile i vode nastavnica hrvatskog jezika Jelena Sukurica i knjižničarka Lucijana Mihaljek.\n\n\nZbog ograničenog broja mjesta prijave su obavezne\, stoga nam se javite što prije na mail adresu cavtat@dkd.hr. \n\n\nVeselimo vam se\, zvrkići!
URL:https://dubrovnik.today/event/mjesec-hrvatske-knjige-zvrkijada/2025-10-21/
LOCATION:Ogranak Cavtat – Dubrovačke knjižnice\, Zidine 6\, Cavtat\, Dubrovačko-neretvanska\, 20210\, Croatia
CATEGORIES:Lecture,Pub quiz,Workshop
ATTACH;FMTTYPE=image/jpeg:https://dubrovnik.today/wp-content/uploads/2025/10/559529594_122230551110057871_6683405997588036234_n.jpg
ORGANIZER;CN="Ogranak Cavtat - Dubrova%C4%8Dke knji%C5%BEnice":MAILTO:cavtat@dkd.hr
GEO:42.5812987;18.2181598
X-APPLE-STRUCTURED-LOCATION;VALUE=URI;X-ADDRESS=Ogranak Cavtat – Dubrovačke knjižnice Zidine 6 Cavtat Dubrovačko-neretvanska 20210 Croatia;X-APPLE-RADIUS=500;X-TITLE=Zidine 6:geo:18.2181598,42.5812987
END:VEVENT
BEGIN:VEVENT
DTSTART;TZID=Europe/Zagreb:20251021T180000
DTEND;TZID=Europe/Zagreb:20251021T200000
DTSTAMP:20260420T032151
CREATED:20251014T075424Z
LAST-MODIFIED:20251014T075424Z
UID:10006835-1761069600-1761076800@dubrovnik.today
SUMMARY:𝑲𝙣𝒋𝙞𝒛̌𝙚𝒗𝙣𝒊 𝒌𝙡𝒖𝙗 𝙘̌𝒊𝙩𝒂𝙣𝒋𝙖 𝙠𝒓𝙖𝒕𝙠𝒊𝙝 𝙥𝒓𝙞𝒄̌𝙖 𝙥𝒐 𝒕𝙚𝒎𝙞 “𝑶𝙙𝒂𝙗𝒓𝙖𝒍𝙞 𝙠𝒏𝙟𝒊𝙯̌𝒏𝙞𝒄̌𝙖𝒓𝙞”
DESCRIPTION:Pozivamo vas na ČitA(r)telje\, ciklus od tri susreta u Saloči od zrcala uz opuštenu atmosferu\, razgovore o knjigama i posebnu završnu večer.\n\n\nPrva dva susreta (21.10.\, 28.10 u 18 sati) posvetit ćemo pričama koje ćemo čitati i komentirati zajedno\, uz preporuke naših knjižničara – u duhu slogana ovogodišnjeg Mjeseca hrvatske knjige “Odabrali knjižničari”.\n\n\nU trećem susretu (4.11. u 18 sati) čeka vas Art & Wine večer sa slikaricom Andreom Vukojom Prce. Nakon kratkog razgovora o pročitanim pričama prepustit ćemo se bojama i kistovima\, stvarajući slike inspirirane knjigama koje smo zajedno čitali.\n\n\nBroj mjesta je ograničen\, zato rezervirajte svoje mjesto na:\ninformacijska.sluzba@dkd.hr\n\n\nPrijavite se i doživite književnost na drugačiji način.\n\n\n#mhk2025 #duknjiznice
URL:https://dubrovnik.today/event/%f0%9d%91%b2%f0%9d%99%a3%f0%9d%92%8b%f0%9d%99%9e%f0%9d%92%9b%f0%9d%99%9a%f0%9d%92%97%f0%9d%99%a3%f0%9d%92%8a-%f0%9d%92%8c%f0%9d%99%a1%f0%9d%92%96%f0%9d%99%97-%f0%9d%99%98%f0%9d%92%8a/2025-10-21/
LOCATION:Narodna knjižnica Grad\, Ulica od Puča 6\, Dubrovnik\, Dubrovačko-neretvanska\, 20000\, Croatia
CATEGORIES:Lecture,Workshop
ATTACH;FMTTYPE=image/jpeg:https://dubrovnik.today/wp-content/uploads/2025/10/561301369_1106320624990925_3894573475760887268_n.jpg
GEO:42.6406688;18.10928
X-APPLE-STRUCTURED-LOCATION;VALUE=URI;X-ADDRESS=Narodna knjižnica Grad Ulica od Puča 6 Dubrovnik Dubrovačko-neretvanska 20000 Croatia;X-APPLE-RADIUS=500;X-TITLE=Ulica od Puča 6:geo:18.10928,42.6406688
END:VEVENT
BEGIN:VEVENT
DTSTART;TZID=Europe/Zagreb:20251021T183000
DTEND;TZID=Europe/Zagreb:20251021T200000
DTSTAMP:20260420T032151
CREATED:20251017T055558Z
LAST-MODIFIED:20251017T055558Z
UID:10006858-1761071400-1761076800@dubrovnik.today
SUMMARY:NISAM TAKVA / Hallway to Nowhere
DESCRIPTION:Franka je navršila dvadesetu i iseljava iz roditeljskog doma. Odlazi u naslijeđeni stan gdje nalazi Antu\, mladića koji je polulegalno uselio. Franka dopušta siromašnom i privlačnom strancu da ostane nekolino dana koji dovedu do romanse. Započinje raditi u restoranu gdje se zbliži sa Stelom – smutljivicom kojoj se Franka sviđa seksualno i koja ju uvede u preprodaju ilegalnih sredstava za potenciju. Jedan dan Ante sazna istinu o smrti svoga oca zbog koje prelazi na mračnu stranu svog honorarnog posla. Uskoro Franka se ne može riješiti Ante i u nevolji je zbog poslića koji je započela sa Stelom.
URL:https://dubrovnik.today/event/nisam-takva-hallway-to-nowhere/2025-10-21/
LOCATION:Kino dvorana Visia\, Poljana Paska Miličevića 3\, Dubrovnik\, 20000\, Croatia
CATEGORIES:Cinema
ATTACH;FMTTYPE=image/jpeg:https://dubrovnik.today/wp-content/uploads/2025/10/6oj3hqzzitor2w2cf2wpbkdu4d5s34z8.jpg
ORGANIZER;CN="Kinematografi Dubrovnik":MAILTO:operater@kinematografi.org
GEO:42.6414431;18.1071797
X-APPLE-STRUCTURED-LOCATION;VALUE=URI;X-ADDRESS=Kino dvorana Visia Poljana Paska Miličevića 3 Dubrovnik 20000 Croatia;X-APPLE-RADIUS=500;X-TITLE=Poljana Paska Miličevića 3:geo:18.1071797,42.6414431
END:VEVENT
BEGIN:VEVENT
DTSTART;TZID=Europe/Zagreb:20251021T203000
DTEND;TZID=Europe/Zagreb:20251021T223000
DTSTAMP:20260420T032151
CREATED:20251017T060027Z
LAST-MODIFIED:20251022T053729Z
UID:10006863-1761078600-1761085800@dubrovnik.today
SUMMARY:LOPOV S KROVA / Roofman
DESCRIPTION:Temeljen na nevjerojatnoj istinitoj priči\, Lopov s krova (Roofman) prati Jeffreyja Manchestera (Channing Tatum)\, vojnog veterana i oca u problemima koji se okreće pljački McDonald’sovih restorana režući rupe u njihovim krovovima\, zaradivši nadimak: Lopov s krova (Roofman). Nakon što pobjegne iz zatvora\, šest mjeseci tajno živi u trgovini Toys “R” Us\, preživljavajući neotkriven dok planira svoj sljedeći potez. Ali kada se zaljubi u Leigh (Kirsten Dunst)\, razvedenu majku privučenu njegovim neospornim šarmom\, njegov dvostruki život počinje se raspetljavati\, pokrećući uvjerljivu i napetu igru mačke i miša dok se njegova prošlost zatvara.
URL:https://dubrovnik.today/event/lopov-s-krova-roofman/2025-10-21/
LOCATION:Kino dvorana Visia\, Poljana Paska Miličevića 3\, Dubrovnik\, 20000\, Croatia
CATEGORIES:Cinema
ATTACH;FMTTYPE=image/jpeg:https://dubrovnik.today/wp-content/uploads/2025/10/ROOFMAN-1180x250px-OSTALO.jpg
ORGANIZER;CN="Kinematografi Dubrovnik":MAILTO:operater@kinematografi.org
GEO:42.6414431;18.1071797
X-APPLE-STRUCTURED-LOCATION;VALUE=URI;X-ADDRESS=Kino dvorana Visia Poljana Paska Miličevića 3 Dubrovnik 20000 Croatia;X-APPLE-RADIUS=500;X-TITLE=Poljana Paska Miličevića 3:geo:18.1071797,42.6414431
END:VEVENT
END:VCALENDAR