BEGIN:VCALENDAR
VERSION:2.0
PRODID:-//dbk.life - ECPv6.15.12//NONSGML v1.0//EN
CALSCALE:GREGORIAN
METHOD:PUBLISH
X-WR-CALNAME:dbk.life
X-ORIGINAL-URL:https://dubrovnik.today
X-WR-CALDESC:Events for dbk.life
REFRESH-INTERVAL;VALUE=DURATION:PT1H
X-Robots-Tag:noindex
X-PUBLISHED-TTL:PT1H
BEGIN:VTIMEZONE
TZID:Europe/Zagreb
BEGIN:DAYLIGHT
TZOFFSETFROM:+0100
TZOFFSETTO:+0200
TZNAME:CEST
DTSTART:20240331T010000
END:DAYLIGHT
BEGIN:STANDARD
TZOFFSETFROM:+0200
TZOFFSETTO:+0100
TZNAME:CET
DTSTART:20241027T010000
END:STANDARD
BEGIN:DAYLIGHT
TZOFFSETFROM:+0100
TZOFFSETTO:+0200
TZNAME:CEST
DTSTART:20250330T010000
END:DAYLIGHT
BEGIN:STANDARD
TZOFFSETFROM:+0200
TZOFFSETTO:+0100
TZNAME:CET
DTSTART:20251026T010000
END:STANDARD
BEGIN:DAYLIGHT
TZOFFSETFROM:+0100
TZOFFSETTO:+0200
TZNAME:CEST
DTSTART:20260329T010000
END:DAYLIGHT
BEGIN:STANDARD
TZOFFSETFROM:+0200
TZOFFSETTO:+0100
TZNAME:CET
DTSTART:20261025T010000
END:STANDARD
END:VTIMEZONE
BEGIN:VEVENT
DTSTART;TZID=Europe/Zagreb:20251014T190000
DTEND;TZID=Europe/Zagreb:20251028T170000
DTSTAMP:20260420T032158
CREATED:20251014T075149Z
LAST-MODIFIED:20251014T075149Z
UID:10006834-1760468400-1761670800@dubrovnik.today
SUMMARY:HRVOJE HIRŠL  Proces i sustav
DESCRIPTION:Hrvatsko društvo likovnih umjetnika Dubrovnik i Galerija Flora sa zadovoljstvom Vas pozivaju na otvorenje izložbe HRVOJE HIRŠL: Proces i sustav koje će se održati u utorak 14. listopada u 19 sati u Galeriji Flora.Izložba se može pogledati do 28. listopada svaki dan od 13 do 18 sati.Izložba se može pogledati i u drugim terminima ako su vrata Florina doma otvorena\, te najavom na mejl galerijaflora.dbk@gmail.comVeselimo se Vašem dolasku i druženju u Flori.Program Galerije Flora i Medijateke suvremenih umjetničkih praksi ostvaruje se uz financijsku potporu Grada Dubrovnika i Ministarstva kulture i medija RH\, kojima ovom prilikom zahvaljujemo na podršci.Medijski partner: Plan for Culture
URL:https://dubrovnik.today/event/hrvoje-hirsl-proces-i-sustav/
LOCATION:Galerija Flora\, Šetaliste kralja Zvonimira 32\, Dubrovnik\, Dubrovačko-neretvanska\, 20000\, Croatia
CATEGORIES:Exhibition
ATTACH;FMTTYPE=image/jpeg:https://dubrovnik.today/wp-content/uploads/2025/10/550538084_1313380470582348_1573531724273327394_n.jpg
ORGANIZER;CN="Galerija Flora":MAILTO:hdludubrovnik@gmail.com
GEO:42.656403;18.0745061
X-APPLE-STRUCTURED-LOCATION;VALUE=URI;X-ADDRESS=Galerija Flora Šetaliste kralja Zvonimira 32 Dubrovnik Dubrovačko-neretvanska 20000 Croatia;X-APPLE-RADIUS=500;X-TITLE=Šetaliste kralja Zvonimira 32:geo:18.0745061,42.656403
END:VEVENT
BEGIN:VEVENT
DTSTART;TZID=Europe/Zagreb:20251015T190000
DTEND;TZID=Europe/Zagreb:20251107T170000
DTSTAMP:20260420T032158
CREATED:20251008T145304Z
LAST-MODIFIED:20251008T145304Z
UID:10006778-1760554800-1762534800@dubrovnik.today
SUMMARY:BORIS BURIĆ "Tišina"
DESCRIPTION:U srijedu 15. 10. u 19 sati u Galeriji Otok otvorit ćemo izložbu Borisa Burića  TIŠINA.Sve vas pozivamo.\n\nBoris Burić • TišinaU vremenu globalnih eskalacija koje razdiru kulturne\, političke i društvene strukture\, nepredvidivost postaje dominantno iskustvo. Temeljne vrijednosti nezaustavljivo se raslojavaju\, a sloboda izražavanja postupno krnji. Time umjetnost postaje prostor otpora\, ali i osjetljivo mjerilo krize društva gdje kroz pokušaje njezinog utišavanja\, ograničavanja ili instrumentalizacije postajemo svjesniji prijetnji koje nagrizaju zajednički prostor mišljenja i djelovanja. Stoga\, ulazak u Tišinu Borisa Burića nije neutralan čin nego refleksija stanja. Štoviše\, suočeni s potpunim mrakom svjedoci smo nekonvencionalnoj izložbenoj praksi koja klasičnu estetsku gestu transformira rezom odnosno suspenzijom svega poznatog ponajprije temeljenog na osjetilu vida. Kada svjetlo iščezne\, ostaje tijelo koje traži oslonce u zvuku\, mirisu i nesigurnim kretnjama drugih. Takva početna destabilizacija nije slučajna jer lišeni mogućnosti gledanja\, postajemo aktivni dionik\, tijelo koje reagira\, improvizira i uči iz vlastite ranjivosti.Osjećajući apsurd suvremenog života\, Burić uspostavlja narativ koji otvara slojeve asocijacija. Ovdje tišina nije odsutnost zvuka nego prostor napetosti\, nelagode i nesigurnosti uzrokovane društvenim kolapsima. Poput dobro razrađene sabotaže\, tišina odbija isporučiti sadržaj koji se može jednoznačno protumačiti\, ne dopušta da se značenje razmijeni na brzinu niti da se iskustvo arhivira u nekoliko fotografija ili rečenica. Tišina je prostor koji traži dulje trajanje\, tijelo koje ostaje zbunjeno i um koji se mora suočiti s onim što se ne može odmah razumjeti. Otkrivajući višeznačnost svakog znaka odnosno umjetničke instalacije koje tvore smislenu umjetničku cjelinu\, spoznajemo kako tišina\, na simboličkoj razini generirana mrakom\, paradoksalno postaje prepuna značenja. Miris baruta ili tamjana funkcioniraju poput rituala. Ipak\, to nisu samo podražaji već reference koje šire percepciju značenja: od tjelesnog i prolaznog\, prijetećeg i memorijskog do duhovnog i ritualnog. S druge strane\, zvuk oštrenja sablje koji se u pravilnim razmacima javlja u prostoru\, dodatno strukturira tišinu bez inicijalne namjere za njenim dokidanjem. Akustični reljef koji oblikuje pravilan ritmički rez\, podsjeća nas da u tišini gotovo nikada nema potpune sigurnosti i uvijek je na rubu da se prelomi u nešto drugo. Koristeći upravo te svakodnevne\, jednostavne geste – mrak\, miris\, zvuk – Burić ne gradi spektakl nego provocira iskustvo. Njegov rad u tom smislu nije grandiozan već neumoljiv\, te ne dopušta promatraču da ostane indiferentan. (…) U tekstu o izložbi napisala je Katerina Jovanović.\nIzložba se može posjetiti do 7. studenog radnim danima od 11 do 19 sati.
URL:https://dubrovnik.today/event/boris-buric-tisina/
LOCATION:art radionica lazareti # art workshop lazareti\, Frana Supila 8\, Dubrovnik\, Dubrovačko-neretvanska\, 20000\, Croatia
CATEGORIES:Exhibition
ATTACH;FMTTYPE=image/jpeg:https://dubrovnik.today/wp-content/uploads/2025/10/558092984_1388070473319407_8457404030757813387_n.jpg
ORGANIZER;CN="art radionica lazareti # art workshop lazareti":MAILTO:art@du.t-com.hr
GEO:42.6416755;18.1145855
X-APPLE-STRUCTURED-LOCATION;VALUE=URI;X-ADDRESS=art radionica lazareti # art workshop lazareti Frana Supila 8 Dubrovnik Dubrovačko-neretvanska 20000 Croatia;X-APPLE-RADIUS=500;X-TITLE=Frana Supila 8:geo:18.1145855,42.6416755
END:VEVENT
BEGIN:VEVENT
DTSTART;TZID=Europe/Zagreb:20251020T180000
DTEND;TZID=Europe/Zagreb:20251020T193000
DTSTAMP:20260420T032158
CREATED:20251001T095458Z
LAST-MODIFIED:20251022T054520Z
UID:10006869-1760983200-1760988600@dubrovnik.today
SUMMARY:TREĆI SVIJET
DESCRIPTION:Treći svijet je više od dokumentarnog filma o Haustoru – legendarnom zagrebačkom bendu koji je oblikovao glazbenu scenu bivše Jugoslavije. To je priča o dvije kreativne suprotnosti: Darku Rundeku i Srđanu Sacheru. Kroz prodorne opservacije\, novo okupljanje u studiju i živopisnu arhivu\, film otkriva kako je u jednom trenutku zajednička sklonost magiji svakodnevice spojila ta dva kreativna svijeta da stvore treći. Treći svijet nije samo dokument o bendu – nego i slika ljudi\, grada i ideje da je kreativnost često najbolji način da stvarnost postane podnošljivija i čudesnija. Ta magija svakodnevice u jednom je trenutku spojila dva umjetnika\, dva karaktera iz dva različita dijela grada i ta dva različita svijeta stvorili su – treći.
URL:https://dubrovnik.today/event/treci-svijet/2025-10-20/
LOCATION:Kino dvorana Visia\, Poljana Paska Miličevića 3\, Dubrovnik\, 20000\, Croatia
CATEGORIES:Cinema
ATTACH;FMTTYPE=image/jpeg:https://dubrovnik.today/wp-content/uploads/2025/10/rz302kc8belhvq2d2h79okh697756w0r.jpg
ORGANIZER;CN="Kinematografi Dubrovnik":MAILTO:operater@kinematografi.org
GEO:42.6414431;18.1071797
X-APPLE-STRUCTURED-LOCATION;VALUE=URI;X-ADDRESS=Kino dvorana Visia Poljana Paska Miličevića 3 Dubrovnik 20000 Croatia;X-APPLE-RADIUS=500;X-TITLE=Poljana Paska Miličevića 3:geo:18.1071797,42.6414431
END:VEVENT
BEGIN:VEVENT
DTSTART;TZID=Europe/Zagreb:20251020T190000
DTEND;TZID=Europe/Zagreb:20251020T200000
DTSTAMP:20260420T032158
CREATED:20251017T073134Z
LAST-MODIFIED:20251017T073134Z
UID:10006906-1760986800-1760990400@dubrovnik.today
SUMMARY:Izložba “Kavane čine Europu”
DESCRIPTION:Kavane čine Europu! \n\n\nU galeriji TUP je otvorena izložba “Kavane čine Europu”\, a možete je pogledati do 24.10.\n\n\nNo\, posebno vas pozivamo da nam se pridružite u ponedjeljak\, 20. listopada u 19 sati\, kada ćemo uz piće dobrodošlice zajedno razgledati izložbu i obilježiti početak novih tečajeva francuskog jezika. \n\n\nDođite\, opustite se uz dobru atmosferu\, umjetnost i francuski šarm! \n\n\n Francuska alijansa Dubrovnik\, galerija TUP\n Ponedjeljak\, 20.10. u 19:00
URL:https://dubrovnik.today/event/izlozba-kavane-cine-europu/
LOCATION:TUP Dubrovnik\, Ul. Svetog Križa 3\, Dubrovnik\, DFubrovačko-neretvanska\, 20000\, Croatia
CATEGORIES:Exhibition
ATTACH;FMTTYPE=image/jpeg:https://dubrovnik.today/wp-content/uploads/2025/10/565204275_1481137883458549_3668790334612760468_n.jpg
GEO:42.6593797;18.0870239
X-APPLE-STRUCTURED-LOCATION;VALUE=URI;X-ADDRESS=TUP Dubrovnik Ul. Svetog Križa 3 Dubrovnik DFubrovačko-neretvanska 20000 Croatia;X-APPLE-RADIUS=500;X-TITLE=Ul. Svetog Križa 3:geo:18.0870239,42.6593797
END:VEVENT
BEGIN:VEVENT
DTSTART;TZID=Europe/Zagreb:20251020T200000
DTEND;TZID=Europe/Zagreb:20251020T220000
DTSTAMP:20260420T032158
CREATED:20250917T101417Z
LAST-MODIFIED:20250917T101417Z
UID:10006590-1760990400-1760997600@dubrovnik.today
SUMMARY:DUBROVNIK: Stand-up II Antonio i Leon
DESCRIPTION:z kuhinje ravno u DUBROVNIK stižu Leon i Antonio sa svojim pizdarijama. Ovo je spoj dva showa – “Nezgodna situacija” Antonia i “Sagriješi bludno” Leona – kako bi publika dobila najbolje od ove dvije budale. Na pozornicu će izlaziti jedan po jedan: Antonio se fokusira na emocionalne i psihološke aspekte muško-ženskih odnosa\, dok se Leon okreće onim fizičkim (masnoj j…). Dobrodošli na UrlaOna stand-up show!\nNastupaju Antonio Morić i Leon Kondres.\n\nFizičke ulaznice dostupne na Entrio prodajnim mjestima
URL:https://dubrovnik.today/event/dubrovnik-stand-up-ii-antonio-i-leon/
LOCATION:Love Bar\, Andrije Hebranga 95\, Dubrovnik\, Dubrovačko-neretvanska\, 20000\, Croatia
CATEGORIES:Theatre
ATTACH;FMTTYPE=image/jpeg:https://dubrovnik.today/wp-content/uploads/2025/09/548776920_1562467778489566_8916617352101555529_n.jpg
ORGANIZER;CN="Urlaona":MAILTO:leon.kondres@yahoo.com
GEO:42.6602872;18.0868889
X-APPLE-STRUCTURED-LOCATION;VALUE=URI;X-ADDRESS=Love Bar Andrije Hebranga 95 Dubrovnik Dubrovačko-neretvanska 20000 Croatia;X-APPLE-RADIUS=500;X-TITLE=Andrije Hebranga 95:geo:18.0868889,42.6602872
END:VEVENT
BEGIN:VEVENT
DTSTART;TZID=Europe/Zagreb:20251020T200000
DTEND;TZID=Europe/Zagreb:20251020T220000
DTSTAMP:20260420T032158
CREATED:20251017T060027Z
LAST-MODIFIED:20251022T053729Z
UID:10006862-1760990400-1760997600@dubrovnik.today
SUMMARY:LOPOV S KROVA / Roofman
DESCRIPTION:Temeljen na nevjerojatnoj istinitoj priči\, Lopov s krova (Roofman) prati Jeffreyja Manchestera (Channing Tatum)\, vojnog veterana i oca u problemima koji se okreće pljački McDonald’sovih restorana režući rupe u njihovim krovovima\, zaradivši nadimak: Lopov s krova (Roofman). Nakon što pobjegne iz zatvora\, šest mjeseci tajno živi u trgovini Toys “R” Us\, preživljavajući neotkriven dok planira svoj sljedeći potez. Ali kada se zaljubi u Leigh (Kirsten Dunst)\, razvedenu majku privučenu njegovim neospornim šarmom\, njegov dvostruki život počinje se raspetljavati\, pokrećući uvjerljivu i napetu igru mačke i miša dok se njegova prošlost zatvara.
URL:https://dubrovnik.today/event/lopov-s-krova-roofman/2025-10-20/
LOCATION:Kino dvorana Visia\, Poljana Paska Miličevića 3\, Dubrovnik\, 20000\, Croatia
CATEGORIES:Cinema
ATTACH;FMTTYPE=image/jpeg:https://dubrovnik.today/wp-content/uploads/2025/10/ROOFMAN-1180x250px-OSTALO.jpg
ORGANIZER;CN="Kinematografi Dubrovnik":MAILTO:operater@kinematografi.org
GEO:42.6414431;18.1071797
X-APPLE-STRUCTURED-LOCATION;VALUE=URI;X-ADDRESS=Kino dvorana Visia Poljana Paska Miličevića 3 Dubrovnik 20000 Croatia;X-APPLE-RADIUS=500;X-TITLE=Poljana Paska Miličevića 3:geo:18.1071797,42.6414431
END:VEVENT
END:VCALENDAR