BEGIN:VCALENDAR
VERSION:2.0
PRODID:-//dbk.life - ECPv6.15.12//NONSGML v1.0//EN
CALSCALE:GREGORIAN
METHOD:PUBLISH
X-WR-CALNAME:dbk.life
X-ORIGINAL-URL:https://dubrovnik.today
X-WR-CALDESC:Events for dbk.life
REFRESH-INTERVAL;VALUE=DURATION:PT1H
X-Robots-Tag:noindex
X-PUBLISHED-TTL:PT1H
BEGIN:VTIMEZONE
TZID:Europe/Zagreb
BEGIN:DAYLIGHT
TZOFFSETFROM:+0100
TZOFFSETTO:+0200
TZNAME:CEST
DTSTART:20240331T010000
END:DAYLIGHT
BEGIN:STANDARD
TZOFFSETFROM:+0200
TZOFFSETTO:+0100
TZNAME:CET
DTSTART:20241027T010000
END:STANDARD
BEGIN:DAYLIGHT
TZOFFSETFROM:+0100
TZOFFSETTO:+0200
TZNAME:CEST
DTSTART:20250330T010000
END:DAYLIGHT
BEGIN:STANDARD
TZOFFSETFROM:+0200
TZOFFSETTO:+0100
TZNAME:CET
DTSTART:20251026T010000
END:STANDARD
BEGIN:DAYLIGHT
TZOFFSETFROM:+0100
TZOFFSETTO:+0200
TZNAME:CEST
DTSTART:20260329T010000
END:DAYLIGHT
BEGIN:STANDARD
TZOFFSETFROM:+0200
TZOFFSETTO:+0100
TZNAME:CET
DTSTART:20261025T010000
END:STANDARD
END:VTIMEZONE
BEGIN:VEVENT
DTSTART;TZID=Europe/Zagreb:20251014T190000
DTEND;TZID=Europe/Zagreb:20251028T170000
DTSTAMP:20260420T044723
CREATED:20251014T075149Z
LAST-MODIFIED:20251014T075149Z
UID:10006834-1760468400-1761670800@dubrovnik.today
SUMMARY:HRVOJE HIRŠL  Proces i sustav
DESCRIPTION:Hrvatsko društvo likovnih umjetnika Dubrovnik i Galerija Flora sa zadovoljstvom Vas pozivaju na otvorenje izložbe HRVOJE HIRŠL: Proces i sustav koje će se održati u utorak 14. listopada u 19 sati u Galeriji Flora.Izložba se može pogledati do 28. listopada svaki dan od 13 do 18 sati.Izložba se može pogledati i u drugim terminima ako su vrata Florina doma otvorena\, te najavom na mejl galerijaflora.dbk@gmail.comVeselimo se Vašem dolasku i druženju u Flori.Program Galerije Flora i Medijateke suvremenih umjetničkih praksi ostvaruje se uz financijsku potporu Grada Dubrovnika i Ministarstva kulture i medija RH\, kojima ovom prilikom zahvaljujemo na podršci.Medijski partner: Plan for Culture
URL:https://dubrovnik.today/event/hrvoje-hirsl-proces-i-sustav/
LOCATION:Galerija Flora\, Šetaliste kralja Zvonimira 32\, Dubrovnik\, Dubrovačko-neretvanska\, 20000\, Croatia
CATEGORIES:Exhibition
ATTACH;FMTTYPE=image/jpeg:https://dubrovnik.today/wp-content/uploads/2025/10/550538084_1313380470582348_1573531724273327394_n.jpg
ORGANIZER;CN="Galerija Flora":MAILTO:hdludubrovnik@gmail.com
GEO:42.656403;18.0745061
X-APPLE-STRUCTURED-LOCATION;VALUE=URI;X-ADDRESS=Galerija Flora Šetaliste kralja Zvonimira 32 Dubrovnik Dubrovačko-neretvanska 20000 Croatia;X-APPLE-RADIUS=500;X-TITLE=Šetaliste kralja Zvonimira 32:geo:18.0745061,42.656403
END:VEVENT
BEGIN:VEVENT
DTSTART;TZID=Europe/Zagreb:20251015T190000
DTEND;TZID=Europe/Zagreb:20251107T170000
DTSTAMP:20260420T044724
CREATED:20251008T145304Z
LAST-MODIFIED:20251008T145304Z
UID:10006778-1760554800-1762534800@dubrovnik.today
SUMMARY:BORIS BURIĆ "Tišina"
DESCRIPTION:U srijedu 15. 10. u 19 sati u Galeriji Otok otvorit ćemo izložbu Borisa Burića  TIŠINA.Sve vas pozivamo.\n\nBoris Burić • TišinaU vremenu globalnih eskalacija koje razdiru kulturne\, političke i društvene strukture\, nepredvidivost postaje dominantno iskustvo. Temeljne vrijednosti nezaustavljivo se raslojavaju\, a sloboda izražavanja postupno krnji. Time umjetnost postaje prostor otpora\, ali i osjetljivo mjerilo krize društva gdje kroz pokušaje njezinog utišavanja\, ograničavanja ili instrumentalizacije postajemo svjesniji prijetnji koje nagrizaju zajednički prostor mišljenja i djelovanja. Stoga\, ulazak u Tišinu Borisa Burića nije neutralan čin nego refleksija stanja. Štoviše\, suočeni s potpunim mrakom svjedoci smo nekonvencionalnoj izložbenoj praksi koja klasičnu estetsku gestu transformira rezom odnosno suspenzijom svega poznatog ponajprije temeljenog na osjetilu vida. Kada svjetlo iščezne\, ostaje tijelo koje traži oslonce u zvuku\, mirisu i nesigurnim kretnjama drugih. Takva početna destabilizacija nije slučajna jer lišeni mogućnosti gledanja\, postajemo aktivni dionik\, tijelo koje reagira\, improvizira i uči iz vlastite ranjivosti.Osjećajući apsurd suvremenog života\, Burić uspostavlja narativ koji otvara slojeve asocijacija. Ovdje tišina nije odsutnost zvuka nego prostor napetosti\, nelagode i nesigurnosti uzrokovane društvenim kolapsima. Poput dobro razrađene sabotaže\, tišina odbija isporučiti sadržaj koji se može jednoznačno protumačiti\, ne dopušta da se značenje razmijeni na brzinu niti da se iskustvo arhivira u nekoliko fotografija ili rečenica. Tišina je prostor koji traži dulje trajanje\, tijelo koje ostaje zbunjeno i um koji se mora suočiti s onim što se ne može odmah razumjeti. Otkrivajući višeznačnost svakog znaka odnosno umjetničke instalacije koje tvore smislenu umjetničku cjelinu\, spoznajemo kako tišina\, na simboličkoj razini generirana mrakom\, paradoksalno postaje prepuna značenja. Miris baruta ili tamjana funkcioniraju poput rituala. Ipak\, to nisu samo podražaji već reference koje šire percepciju značenja: od tjelesnog i prolaznog\, prijetećeg i memorijskog do duhovnog i ritualnog. S druge strane\, zvuk oštrenja sablje koji se u pravilnim razmacima javlja u prostoru\, dodatno strukturira tišinu bez inicijalne namjere za njenim dokidanjem. Akustični reljef koji oblikuje pravilan ritmički rez\, podsjeća nas da u tišini gotovo nikada nema potpune sigurnosti i uvijek je na rubu da se prelomi u nešto drugo. Koristeći upravo te svakodnevne\, jednostavne geste – mrak\, miris\, zvuk – Burić ne gradi spektakl nego provocira iskustvo. Njegov rad u tom smislu nije grandiozan već neumoljiv\, te ne dopušta promatraču da ostane indiferentan. (…) U tekstu o izložbi napisala je Katerina Jovanović.\nIzložba se može posjetiti do 7. studenog radnim danima od 11 do 19 sati.
URL:https://dubrovnik.today/event/boris-buric-tisina/
LOCATION:art radionica lazareti # art workshop lazareti\, Frana Supila 8\, Dubrovnik\, Dubrovačko-neretvanska\, 20000\, Croatia
CATEGORIES:Exhibition
ATTACH;FMTTYPE=image/jpeg:https://dubrovnik.today/wp-content/uploads/2025/10/558092984_1388070473319407_8457404030757813387_n.jpg
ORGANIZER;CN="art radionica lazareti # art workshop lazareti":MAILTO:art@du.t-com.hr
GEO:42.6416755;18.1145855
X-APPLE-STRUCTURED-LOCATION;VALUE=URI;X-ADDRESS=art radionica lazareti # art workshop lazareti Frana Supila 8 Dubrovnik Dubrovačko-neretvanska 20000 Croatia;X-APPLE-RADIUS=500;X-TITLE=Frana Supila 8:geo:18.1145855,42.6416755
END:VEVENT
BEGIN:VEVENT
DTSTART;TZID=Europe/Zagreb:20251017T170000
DTEND;TZID=Europe/Zagreb:20251019T170000
DTSTAMP:20260420T044724
CREATED:20251002T075857Z
LAST-MODIFIED:20251002T075857Z
UID:10006749-1760720400-1760893200@dubrovnik.today
SUMMARY:Dani okusa: Od tradicije do suvremenih trendova
DESCRIPTION:U sklopu Testeat projekta najavljujemo edukativne programe u sklopu Good Food festivala 2025. pod nazivom “Dani okusa: Od tradicije do suvremenih trendova”. U nastavku provjerite ckelokupni trodnevni program\, a iz dana u dan predstaviti ćemo Vam partnere i sudionike!\n\n\n17. listopada\n-Okrugli stol: prehrana / gastronomija / nutricionizam\n-Večera s poznatim chefom i učenicima Turističko-ugostiteljske škole Dubrovnik u Vili Čingriji\n\n\n18. listopada\n-Radionice za djecu: tradicionalne slastice prilagođene modernim prehrambenim potrebama\n\n\n19. listopada\n-Radionice za djecu: tradicionalne slastice prilagođene modernim prehrambenim potrebama\n\n\nOrganizator je Dubrovačka razvojna agencija Dura d.o.o.\, a glavni ciljevi projekta uključuju jačanje vještina sadašnjih i budućih profesionalaca u turizmu – učenika\, studenata i zaposlenika (šefova kuhinja\, konobara\, destinacijskih menadžera\, turističkih vodiča i dr.) te širenje znanja o lokalnom enogastronomskom nasljeđu\, suvremenim prehrambenim trendovima\, kao i prilikama koje nude održivi turizam\, kružno gospodarstvo i digitalizacija.\n\n\nProjekt TESTEAT financiran je sredstvima programa Interreg Italija- Hrvatska. Više informacija potražite na službenoj web stranici: https://www.italy-croatia.eu/web/testeat
URL:https://dubrovnik.today/event/dani-okusa-od-tradicije-do-suvremenih-trendova/
LOCATION:DURA Razvojna Agencija Grada Dubrovnika /  Dubrovnik’s Development Agency\, Branitelja Dubrovnika 15\, Dubrovnik\, 20000\, Croatia
CATEGORIES:Gastronomy,Lecture,Workshop
ATTACH;FMTTYPE=image/jpeg:https://dubrovnik.today/wp-content/uploads/2025/10/556904599_18421400479109964_104162656950713816_n.jpg
GEO:42.6426163;18.1041934
X-APPLE-STRUCTURED-LOCATION;VALUE=URI;X-ADDRESS=DURA Razvojna Agencija Grada Dubrovnika /  Dubrovnik’s Development Agency Branitelja Dubrovnika 15 Dubrovnik 20000 Croatia;X-APPLE-RADIUS=500;X-TITLE=Branitelja Dubrovnika 15:geo:18.1041934,42.6426163
END:VEVENT
BEGIN:VEVENT
DTSTART;TZID=Europe/Zagreb:20251017T180000
DTEND;TZID=Europe/Zagreb:20251019T130000
DTSTAMP:20260420T044724
CREATED:20250917T101231Z
LAST-MODIFIED:20250917T101231Z
UID:10006589-1760724000-1760878800@dubrovnik.today
SUMMARY:Buildling a Practical\, Purposeful Yoga Practice - Ashtanga Yoga Weeknd in Dubrovnik w/ Sarah Hatcher
DESCRIPTION:We are delighted to announce another amazing guest teacher coming to us live this fall! This is an precious opportunity to experience yoga at a whole new leve of depth and devotion\, clear this weekend for full participation:\n17-19 October\, 2025\nJoin Sarah Durney Hatcher for a weekend of inclusive\, creative and skilful yoga classes exploring ashtanga vinyasa yoga\, the philosophy of yogic practice\, chanting and meditation. During this workshop\, Sarah will thoroughly explain how a dedicated yoga practice can influence our daily state of well-being. Through exploration of asana (postures)\, pranayama (breathing techniques)\, bandha (internal awareness of the pelvic diaphragm) and dhyana (meditation practices) we can craft a daily practice that is just right for everyone.\nNo two yogis are the same: with this in mind\, Sarah will offer adaptations to the ashtanga yoga practice when needed; advanced instruction for those hungry for it and for the absolute beginner\, tools to learn how to craft their practice in the right way for them.\nStudents can attend all workshops classes or drop in for individual classes.\nWEEKEND SCHEDULE:\nFriday6-8 pm“Surya Namaskar and the soul of Ashtanga” : Introduction of Surya Namaskara into a guided class of the ashtanga standing postures.(Intro session drop in only\, if there is space\, full weekend registrations have priority – €25)\nSaturday7-9:30 am Mysore Ashtanga Yoga Class(one class\, if there is space: €45)\n10-11:15am Session 1: Injury Prevention“A detailed look at Ashtanga yoga: in this workshop we look at padmasana\, the classic breath of the practice (ujjayi) and learn how to prevent injury with an exploration of inner locks (bandhas) which will be clarified.”11:15am-12:30 pm Session 2: Inversions“A practical look at shoulderstand\, headstand and how to build a safe possibility for everyone”(morning sessions only: €45)\nBreak for lunch and rest\n5pm-7:30 pm Pranayama\, Meditation\, Chanting the Yoga Sutras plus Bhakti Singing“Learn about the heart of yoga: breath\, meditation and devotion: here is a class where you will learn how to define what yoga means to you. Why practice?”(only this session: €45)\nSunday7-9:30 am Mysore Class(one class only\, if there is space: €45)\n10-11:15 am BackbendsBuilding a Sustainable BackbendA look at the classic backbend and research why and how this may bring insight into the enigma of the stiff spine: we will look at a few backbends in the ashtanga yoga sequence: Upward facing Dog\, Camel pose and the Upward bow pose\, Urdhva Dhanurasana.\n11:15-12:30 philosophy: finding samadhi in theory and practice“What does ‘yoga’ mean to you? This workshop we will discuss the eight limbs of yoga and weave together daily practice with philosophy. Bring your journal for this class for research and introspection. We will close our weekend together with chants and prayers for peace.(morning sessions only: €45)\n\nCOST AND REGISTRATON INFORMATION:\nFull Weekend €175 (before 5 October)Full Weekend €200 (after 5 October)Drop-in’s welcome for individual classes: €25 friday intro\, €45 each workshop segment.)\nRegistration requires full payment to confirm your spot as this event will fill up.(Cancellation refunds minus 50€ possible until Oct 5.)\nACCOMODATION\, IF YOU ARE FLYING IN:\nOn-site accomodation: 65€ per night\, accommodaton is in individual appartments with a kitchen\, each can be shared between 2 or 3 people.https://villaprovidenca.com/
URL:https://dubrovnik.today/event/buildling-a-practical-purposeful-yoga-practice-ashtanga-yoga-weeknd-in-dubrovnik-w-sarah-hatcher/
LOCATION:Elixir Vitae – holistički fitness studio\, Zakula 28\, Čelopeci\, Dubrovačko-neretvanska\, 20207\, Croatia
CATEGORIES:Workshop
ATTACH;FMTTYPE=image/jpeg:https://dubrovnik.today/wp-content/uploads/2025/09/548520612_1205930444912031_6629114644522750379_n.jpg
ORGANIZER;CN="Elixir Vitae - holisti%C4%8Dki fitness studio":MAILTO:https://web.facebook.com/ElixirVitaeStudio/
GEO:42.6372838;18.1755974
X-APPLE-STRUCTURED-LOCATION;VALUE=URI;X-ADDRESS=Elixir Vitae – holistički fitness studio Zakula 28 Čelopeci Dubrovačko-neretvanska 20207 Croatia;X-APPLE-RADIUS=500;X-TITLE=Zakula 28:geo:18.1755974,42.6372838
END:VEVENT
END:VCALENDAR